BEGIN:VCALENDAR
PRODID:-//eluceo/ical//2.0/EN
VERSION:2.0
CALSCALE:GREGORIAN
BEGIN:VEVENT
UID:e7a881c859658ea44796c1883c2ede86
DTSTAMP:20260421T092256Z
SUMMARY:Abholung Restabfall
DESCRIPTION:Alle Abholtermine auf abfallkalender.enni.de/abholtermine/zypre
 ssenweg
URL:https://abfallkalender.enni.de/abholtermine/zypressenweg
DTSTART;VALUE=DATE:20260427
LOCATION:Zypressenweg
BEGIN:VALARM
ACTION:DISPLAY
DESCRIPTION:Morgen: Abholung Restabfall
TRIGGER:-PT7H
END:VALARM
END:VEVENT
BEGIN:VEVENT
UID:4e62b533ec8bcbd13b6e2bddcd1e67d3
DTSTAMP:20260421T092256Z
SUMMARY:Abholung Restabfall
DESCRIPTION:Alle Abholtermine auf abfallkalender.enni.de/abholtermine/zypre
 ssenweg
URL:https://abfallkalender.enni.de/abholtermine/zypressenweg
DTSTART;VALUE=DATE:20260511
LOCATION:Zypressenweg
BEGIN:VALARM
ACTION:DISPLAY
DESCRIPTION:Morgen: Abholung Restabfall
TRIGGER:-PT7H
END:VALARM
END:VEVENT
BEGIN:VEVENT
UID:10a770bc2e16f2f318d144d3afb36c35
DTSTAMP:20260421T092256Z
SUMMARY:Abholung Restabfall
DESCRIPTION:Alle Abholtermine auf abfallkalender.enni.de/abholtermine/zypre
 ssenweg
URL:https://abfallkalender.enni.de/abholtermine/zypressenweg
DTSTART;VALUE=DATE:20260526
LOCATION:Zypressenweg
BEGIN:VALARM
ACTION:DISPLAY
DESCRIPTION:Morgen: Abholung Restabfall
TRIGGER:-PT7H
END:VALARM
END:VEVENT
BEGIN:VEVENT
UID:812b515cdb98dd5ad584958cc6c67b22
DTSTAMP:20260421T092256Z
SUMMARY:Abholung Restabfall
DESCRIPTION:Alle Abholtermine auf abfallkalender.enni.de/abholtermine/zypre
 ssenweg
URL:https://abfallkalender.enni.de/abholtermine/zypressenweg
DTSTART;VALUE=DATE:20260608
LOCATION:Zypressenweg
BEGIN:VALARM
ACTION:DISPLAY
DESCRIPTION:Morgen: Abholung Restabfall
TRIGGER:-PT7H
END:VALARM
END:VEVENT
BEGIN:VEVENT
UID:94c97cb98b0f9e028ca9ec9d5c41aa48
DTSTAMP:20260421T092256Z
SUMMARY:Abholung Restabfall
DESCRIPTION:Alle Abholtermine auf abfallkalender.enni.de/abholtermine/zypre
 ssenweg
URL:https://abfallkalender.enni.de/abholtermine/zypressenweg
DTSTART;VALUE=DATE:20260622
LOCATION:Zypressenweg
BEGIN:VALARM
ACTION:DISPLAY
DESCRIPTION:Morgen: Abholung Restabfall
TRIGGER:-PT7H
END:VALARM
END:VEVENT
BEGIN:VEVENT
UID:117be0b151c747b609d2735063a79355
DTSTAMP:20260421T092256Z
SUMMARY:Abholung Restabfall
DESCRIPTION:Alle Abholtermine auf abfallkalender.enni.de/abholtermine/zypre
 ssenweg
URL:https://abfallkalender.enni.de/abholtermine/zypressenweg
DTSTART;VALUE=DATE:20260706
LOCATION:Zypressenweg
BEGIN:VALARM
ACTION:DISPLAY
DESCRIPTION:Morgen: Abholung Restabfall
TRIGGER:-PT7H
END:VALARM
END:VEVENT
BEGIN:VEVENT
UID:30cc8bc42af4c5e25b46bd15674a223b
DTSTAMP:20260421T092256Z
SUMMARY:Abholung Restabfall
DESCRIPTION:Alle Abholtermine auf abfallkalender.enni.de/abholtermine/zypre
 ssenweg
URL:https://abfallkalender.enni.de/abholtermine/zypressenweg
DTSTART;VALUE=DATE:20260720
LOCATION:Zypressenweg
BEGIN:VALARM
ACTION:DISPLAY
DESCRIPTION:Morgen: Abholung Restabfall
TRIGGER:-PT7H
END:VALARM
END:VEVENT
BEGIN:VEVENT
UID:16364f27a62d7f828744618f80591458
DTSTAMP:20260421T092256Z
SUMMARY:Abholung Restabfall
DESCRIPTION:Alle Abholtermine auf abfallkalender.enni.de/abholtermine/zypre
 ssenweg
URL:https://abfallkalender.enni.de/abholtermine/zypressenweg
DTSTART;VALUE=DATE:20260803
LOCATION:Zypressenweg
BEGIN:VALARM
ACTION:DISPLAY
DESCRIPTION:Morgen: Abholung Restabfall
TRIGGER:-PT7H
END:VALARM
END:VEVENT
BEGIN:VEVENT
UID:7586e30a868339e19a6bc9f79f7a9109
DTSTAMP:20260421T092256Z
SUMMARY:Abholung Restabfall
DESCRIPTION:Alle Abholtermine auf abfallkalender.enni.de/abholtermine/zypre
 ssenweg
URL:https://abfallkalender.enni.de/abholtermine/zypressenweg
DTSTART;VALUE=DATE:20260817
LOCATION:Zypressenweg
BEGIN:VALARM
ACTION:DISPLAY
DESCRIPTION:Morgen: Abholung Restabfall
TRIGGER:-PT7H
END:VALARM
END:VEVENT
BEGIN:VEVENT
UID:4978a027eeeb718df6a9a172cf10af4b
DTSTAMP:20260421T092256Z
SUMMARY:Abholung Restabfall
DESCRIPTION:Alle Abholtermine auf abfallkalender.enni.de/abholtermine/zypre
 ssenweg
URL:https://abfallkalender.enni.de/abholtermine/zypressenweg
DTSTART;VALUE=DATE:20260831
LOCATION:Zypressenweg
BEGIN:VALARM
ACTION:DISPLAY
DESCRIPTION:Morgen: Abholung Restabfall
TRIGGER:-PT7H
END:VALARM
END:VEVENT
BEGIN:VEVENT
UID:65fede07868c0c819e9c37a1a9bcbae3
DTSTAMP:20260421T092256Z
SUMMARY:Abholung Restabfall
DESCRIPTION:Alle Abholtermine auf abfallkalender.enni.de/abholtermine/zypre
 ssenweg
URL:https://abfallkalender.enni.de/abholtermine/zypressenweg
DTSTART;VALUE=DATE:20260914
LOCATION:Zypressenweg
BEGIN:VALARM
ACTION:DISPLAY
DESCRIPTION:Morgen: Abholung Restabfall
TRIGGER:-PT7H
END:VALARM
END:VEVENT
BEGIN:VEVENT
UID:64df0e66348ae77023b96e481ec491e2
DTSTAMP:20260421T092256Z
SUMMARY:Abholung Restabfall
DESCRIPTION:Alle Abholtermine auf abfallkalender.enni.de/abholtermine/zypre
 ssenweg
URL:https://abfallkalender.enni.de/abholtermine/zypressenweg
DTSTART;VALUE=DATE:20260928
LOCATION:Zypressenweg
BEGIN:VALARM
ACTION:DISPLAY
DESCRIPTION:Morgen: Abholung Restabfall
TRIGGER:-PT7H
END:VALARM
END:VEVENT
BEGIN:VEVENT
UID:2c84741007d5531c7a7e71fa8d181f96
DTSTAMP:20260421T092256Z
SUMMARY:Abholung Restabfall
DESCRIPTION:Alle Abholtermine auf abfallkalender.enni.de/abholtermine/zypre
 ssenweg
URL:https://abfallkalender.enni.de/abholtermine/zypressenweg
DTSTART;VALUE=DATE:20261012
LOCATION:Zypressenweg
BEGIN:VALARM
ACTION:DISPLAY
DESCRIPTION:Morgen: Abholung Restabfall
TRIGGER:-PT7H
END:VALARM
END:VEVENT
BEGIN:VEVENT
UID:992595aa91d34b74aee2cda5fb867f9a
DTSTAMP:20260421T092256Z
SUMMARY:Abholung Restabfall
DESCRIPTION:Alle Abholtermine auf abfallkalender.enni.de/abholtermine/zypre
 ssenweg
URL:https://abfallkalender.enni.de/abholtermine/zypressenweg
DTSTART;VALUE=DATE:20261026
LOCATION:Zypressenweg
BEGIN:VALARM
ACTION:DISPLAY
DESCRIPTION:Morgen: Abholung Restabfall
TRIGGER:-PT7H
END:VALARM
END:VEVENT
BEGIN:VEVENT
UID:1312055761017c58e7d4081a55232904
DTSTAMP:20260421T092256Z
SUMMARY:Abholung Restabfall
DESCRIPTION:Alle Abholtermine auf abfallkalender.enni.de/abholtermine/zypre
 ssenweg
URL:https://abfallkalender.enni.de/abholtermine/zypressenweg
DTSTART;VALUE=DATE:20261109
LOCATION:Zypressenweg
BEGIN:VALARM
ACTION:DISPLAY
DESCRIPTION:Morgen: Abholung Restabfall
TRIGGER:-PT7H
END:VALARM
END:VEVENT
BEGIN:VEVENT
UID:29750f304dec1071992255dfa7c15f85
DTSTAMP:20260421T092256Z
SUMMARY:Abholung Restabfall
DESCRIPTION:Alle Abholtermine auf abfallkalender.enni.de/abholtermine/zypre
 ssenweg
URL:https://abfallkalender.enni.de/abholtermine/zypressenweg
DTSTART;VALUE=DATE:20261123
LOCATION:Zypressenweg
BEGIN:VALARM
ACTION:DISPLAY
DESCRIPTION:Morgen: Abholung Restabfall
TRIGGER:-PT7H
END:VALARM
END:VEVENT
BEGIN:VEVENT
UID:b3e624cb6fa4701e834cd2894bbd56ce
DTSTAMP:20260421T092256Z
SUMMARY:Abholung Restabfall
DESCRIPTION:Alle Abholtermine auf abfallkalender.enni.de/abholtermine/zypre
 ssenweg
URL:https://abfallkalender.enni.de/abholtermine/zypressenweg
DTSTART;VALUE=DATE:20261207
LOCATION:Zypressenweg
BEGIN:VALARM
ACTION:DISPLAY
DESCRIPTION:Morgen: Abholung Restabfall
TRIGGER:-PT7H
END:VALARM
END:VEVENT
BEGIN:VEVENT
UID:135fdb1c83f15cff0cebac7e9361c0e7
DTSTAMP:20260421T092256Z
SUMMARY:Abholung Restabfall
DESCRIPTION:Alle Abholtermine auf abfallkalender.enni.de/abholtermine/zypre
 ssenweg
URL:https://abfallkalender.enni.de/abholtermine/zypressenweg
DTSTART;VALUE=DATE:20261219
LOCATION:Zypressenweg
BEGIN:VALARM
ACTION:DISPLAY
DESCRIPTION:Morgen: Abholung Restabfall
TRIGGER:-PT7H
END:VALARM
END:VEVENT
BEGIN:VEVENT
UID:570b6f2e663527820e41982f3cf84ca8
DTSTAMP:20260421T092256Z
SUMMARY:Abholung Papier
DESCRIPTION:Alle Abholtermine auf abfallkalender.enni.de/abholtermine/zypre
 ssenweg
URL:https://abfallkalender.enni.de/abholtermine/zypressenweg
DTSTART;VALUE=DATE:20260420
LOCATION:Zypressenweg
BEGIN:VALARM
ACTION:DISPLAY
DESCRIPTION:Morgen: Abholung Papier
TRIGGER:-PT7H
END:VALARM
END:VEVENT
BEGIN:VEVENT
UID:e401ecc42c33fb8ccf93213f6b3f89cc
DTSTAMP:20260421T092256Z
SUMMARY:Abholung Papier
DESCRIPTION:Alle Abholtermine auf abfallkalender.enni.de/abholtermine/zypre
 ssenweg
URL:https://abfallkalender.enni.de/abholtermine/zypressenweg
DTSTART;VALUE=DATE:20260518
LOCATION:Zypressenweg
BEGIN:VALARM
ACTION:DISPLAY
DESCRIPTION:Morgen: Abholung Papier
TRIGGER:-PT7H
END:VALARM
END:VEVENT
BEGIN:VEVENT
UID:c09d97f233d0068e12dfe33eb260efdc
DTSTAMP:20260421T092256Z
SUMMARY:Abholung Papier
DESCRIPTION:Alle Abholtermine auf abfallkalender.enni.de/abholtermine/zypre
 ssenweg
URL:https://abfallkalender.enni.de/abholtermine/zypressenweg
DTSTART;VALUE=DATE:20260615
LOCATION:Zypressenweg
BEGIN:VALARM
ACTION:DISPLAY
DESCRIPTION:Morgen: Abholung Papier
TRIGGER:-PT7H
END:VALARM
END:VEVENT
BEGIN:VEVENT
UID:5fb1ee0969eab6614589ce0e21b43aa6
DTSTAMP:20260421T092256Z
SUMMARY:Abholung Papier
DESCRIPTION:Alle Abholtermine auf abfallkalender.enni.de/abholtermine/zypre
 ssenweg
URL:https://abfallkalender.enni.de/abholtermine/zypressenweg
DTSTART;VALUE=DATE:20260713
LOCATION:Zypressenweg
BEGIN:VALARM
ACTION:DISPLAY
DESCRIPTION:Morgen: Abholung Papier
TRIGGER:-PT7H
END:VALARM
END:VEVENT
BEGIN:VEVENT
UID:1b7021e07ef172b977660289afddbb80
DTSTAMP:20260421T092256Z
SUMMARY:Abholung Papier
DESCRIPTION:Alle Abholtermine auf abfallkalender.enni.de/abholtermine/zypre
 ssenweg
URL:https://abfallkalender.enni.de/abholtermine/zypressenweg
DTSTART;VALUE=DATE:20260810
LOCATION:Zypressenweg
BEGIN:VALARM
ACTION:DISPLAY
DESCRIPTION:Morgen: Abholung Papier
TRIGGER:-PT7H
END:VALARM
END:VEVENT
BEGIN:VEVENT
UID:0e5b8cbe25d977d9300d99f8f8f461be
DTSTAMP:20260421T092256Z
SUMMARY:Abholung Papier
DESCRIPTION:Alle Abholtermine auf abfallkalender.enni.de/abholtermine/zypre
 ssenweg
URL:https://abfallkalender.enni.de/abholtermine/zypressenweg
DTSTART;VALUE=DATE:20260907
LOCATION:Zypressenweg
BEGIN:VALARM
ACTION:DISPLAY
DESCRIPTION:Morgen: Abholung Papier
TRIGGER:-PT7H
END:VALARM
END:VEVENT
BEGIN:VEVENT
UID:89fad76edb0fc752d64d5609799c24af
DTSTAMP:20260421T092256Z
SUMMARY:Abholung Papier
DESCRIPTION:Alle Abholtermine auf abfallkalender.enni.de/abholtermine/zypre
 ssenweg
URL:https://abfallkalender.enni.de/abholtermine/zypressenweg
DTSTART;VALUE=DATE:20261005
LOCATION:Zypressenweg
BEGIN:VALARM
ACTION:DISPLAY
DESCRIPTION:Morgen: Abholung Papier
TRIGGER:-PT7H
END:VALARM
END:VEVENT
BEGIN:VEVENT
UID:d5937f1a93159f9e8c7064b98eaf9f00
DTSTAMP:20260421T092256Z
SUMMARY:Abholung Papier
DESCRIPTION:Alle Abholtermine auf abfallkalender.enni.de/abholtermine/zypre
 ssenweg
URL:https://abfallkalender.enni.de/abholtermine/zypressenweg
DTSTART;VALUE=DATE:20261102
LOCATION:Zypressenweg
BEGIN:VALARM
ACTION:DISPLAY
DESCRIPTION:Morgen: Abholung Papier
TRIGGER:-PT7H
END:VALARM
END:VEVENT
BEGIN:VEVENT
UID:51403d5b269e21e1540b0f885ffc57f0
DTSTAMP:20260421T092256Z
SUMMARY:Abholung Papier
DESCRIPTION:Alle Abholtermine auf abfallkalender.enni.de/abholtermine/zypre
 ssenweg
URL:https://abfallkalender.enni.de/abholtermine/zypressenweg
DTSTART;VALUE=DATE:20261130
LOCATION:Zypressenweg
BEGIN:VALARM
ACTION:DISPLAY
DESCRIPTION:Morgen: Abholung Papier
TRIGGER:-PT7H
END:VALARM
END:VEVENT
BEGIN:VEVENT
UID:a8b24e85d622bacdfd28833b5feb5698
DTSTAMP:20260421T092256Z
SUMMARY:Abholung Papier
DESCRIPTION:Alle Abholtermine auf abfallkalender.enni.de/abholtermine/zypre
 ssenweg
URL:https://abfallkalender.enni.de/abholtermine/zypressenweg
DTSTART;VALUE=DATE:20261228
LOCATION:Zypressenweg
BEGIN:VALARM
ACTION:DISPLAY
DESCRIPTION:Morgen: Abholung Papier
TRIGGER:-PT7H
END:VALARM
END:VEVENT
BEGIN:VEVENT
UID:02cb7f16150e9e692a5bf49f6a5fb3af
DTSTAMP:20260421T092256Z
SUMMARY:Abholung Gelber Sack
DESCRIPTION:Alle Abholtermine auf abfallkalender.enni.de/abholtermine/zypre
 ssenweg
URL:https://abfallkalender.enni.de/abholtermine/zypressenweg
DTSTART;VALUE=DATE:20260423
LOCATION:Zypressenweg
BEGIN:VALARM
ACTION:DISPLAY
DESCRIPTION:Morgen: Abholung Gelber Sack
TRIGGER:-PT7H
END:VALARM
END:VEVENT
BEGIN:VEVENT
UID:536acb4a66777627ae000e60b65233c1
DTSTAMP:20260421T092256Z
SUMMARY:Abholung Gelber Sack
DESCRIPTION:Alle Abholtermine auf abfallkalender.enni.de/abholtermine/zypre
 ssenweg
URL:https://abfallkalender.enni.de/abholtermine/zypressenweg
DTSTART;VALUE=DATE:20260507
LOCATION:Zypressenweg
BEGIN:VALARM
ACTION:DISPLAY
DESCRIPTION:Morgen: Abholung Gelber Sack
TRIGGER:-PT7H
END:VALARM
END:VEVENT
BEGIN:VEVENT
UID:447697f1995a0187b8499900f9a06f2c
DTSTAMP:20260421T092256Z
SUMMARY:Abholung Gelber Sack
DESCRIPTION:Alle Abholtermine auf abfallkalender.enni.de/abholtermine/zypre
 ssenweg
URL:https://abfallkalender.enni.de/abholtermine/zypressenweg
DTSTART;VALUE=DATE:20260521
LOCATION:Zypressenweg
BEGIN:VALARM
ACTION:DISPLAY
DESCRIPTION:Morgen: Abholung Gelber Sack
TRIGGER:-PT7H
END:VALARM
END:VEVENT
BEGIN:VEVENT
UID:5635cd8dfca98e56b85e4c4dbf3b4c25
DTSTAMP:20260421T092256Z
SUMMARY:Abholung Gelber Sack
DESCRIPTION:Alle Abholtermine auf abfallkalender.enni.de/abholtermine/zypre
 ssenweg
URL:https://abfallkalender.enni.de/abholtermine/zypressenweg
DTSTART;VALUE=DATE:20260605
LOCATION:Zypressenweg
BEGIN:VALARM
ACTION:DISPLAY
DESCRIPTION:Morgen: Abholung Gelber Sack
TRIGGER:-PT7H
END:VALARM
END:VEVENT
BEGIN:VEVENT
UID:5bd4c4aa74bf8e2e3c514d1759bef2e1
DTSTAMP:20260421T092256Z
SUMMARY:Abholung Gelber Sack
DESCRIPTION:Alle Abholtermine auf abfallkalender.enni.de/abholtermine/zypre
 ssenweg
URL:https://abfallkalender.enni.de/abholtermine/zypressenweg
DTSTART;VALUE=DATE:20260618
LOCATION:Zypressenweg
BEGIN:VALARM
ACTION:DISPLAY
DESCRIPTION:Morgen: Abholung Gelber Sack
TRIGGER:-PT7H
END:VALARM
END:VEVENT
BEGIN:VEVENT
UID:0a208a43abe06f6f50d67728bdf08be9
DTSTAMP:20260421T092256Z
SUMMARY:Abholung Gelber Sack
DESCRIPTION:Alle Abholtermine auf abfallkalender.enni.de/abholtermine/zypre
 ssenweg
URL:https://abfallkalender.enni.de/abholtermine/zypressenweg
DTSTART;VALUE=DATE:20260702
LOCATION:Zypressenweg
BEGIN:VALARM
ACTION:DISPLAY
DESCRIPTION:Morgen: Abholung Gelber Sack
TRIGGER:-PT7H
END:VALARM
END:VEVENT
BEGIN:VEVENT
UID:09804e04325aac76e5d2400f15dfdbee
DTSTAMP:20260421T092256Z
SUMMARY:Abholung Gelber Sack
DESCRIPTION:Alle Abholtermine auf abfallkalender.enni.de/abholtermine/zypre
 ssenweg
URL:https://abfallkalender.enni.de/abholtermine/zypressenweg
DTSTART;VALUE=DATE:20260716
LOCATION:Zypressenweg
BEGIN:VALARM
ACTION:DISPLAY
DESCRIPTION:Morgen: Abholung Gelber Sack
TRIGGER:-PT7H
END:VALARM
END:VEVENT
BEGIN:VEVENT
UID:4249fee88a5d289ac1add2cc98be5739
DTSTAMP:20260421T092256Z
SUMMARY:Abholung Gelber Sack
DESCRIPTION:Alle Abholtermine auf abfallkalender.enni.de/abholtermine/zypre
 ssenweg
URL:https://abfallkalender.enni.de/abholtermine/zypressenweg
DTSTART;VALUE=DATE:20260730
LOCATION:Zypressenweg
BEGIN:VALARM
ACTION:DISPLAY
DESCRIPTION:Morgen: Abholung Gelber Sack
TRIGGER:-PT7H
END:VALARM
END:VEVENT
BEGIN:VEVENT
UID:0598a19faf86a62b5ffaf5a7ad3ccb8f
DTSTAMP:20260421T092256Z
SUMMARY:Abholung Gelber Sack
DESCRIPTION:Alle Abholtermine auf abfallkalender.enni.de/abholtermine/zypre
 ssenweg
URL:https://abfallkalender.enni.de/abholtermine/zypressenweg
DTSTART;VALUE=DATE:20260813
LOCATION:Zypressenweg
BEGIN:VALARM
ACTION:DISPLAY
DESCRIPTION:Morgen: Abholung Gelber Sack
TRIGGER:-PT7H
END:VALARM
END:VEVENT
BEGIN:VEVENT
UID:7a4cb465c2b7dcdb537af0ecd84b5ab3
DTSTAMP:20260421T092256Z
SUMMARY:Abholung Gelber Sack
DESCRIPTION:Alle Abholtermine auf abfallkalender.enni.de/abholtermine/zypre
 ssenweg
URL:https://abfallkalender.enni.de/abholtermine/zypressenweg
DTSTART;VALUE=DATE:20260827
LOCATION:Zypressenweg
BEGIN:VALARM
ACTION:DISPLAY
DESCRIPTION:Morgen: Abholung Gelber Sack
TRIGGER:-PT7H
END:VALARM
END:VEVENT
BEGIN:VEVENT
UID:449fffa16354661fa632454080ca2a19
DTSTAMP:20260421T092256Z
SUMMARY:Abholung Gelber Sack
DESCRIPTION:Alle Abholtermine auf abfallkalender.enni.de/abholtermine/zypre
 ssenweg
URL:https://abfallkalender.enni.de/abholtermine/zypressenweg
DTSTART;VALUE=DATE:20260910
LOCATION:Zypressenweg
BEGIN:VALARM
ACTION:DISPLAY
DESCRIPTION:Morgen: Abholung Gelber Sack
TRIGGER:-PT7H
END:VALARM
END:VEVENT
BEGIN:VEVENT
UID:b911b50f0a8c7c08b77189f8b089524a
DTSTAMP:20260421T092256Z
SUMMARY:Abholung Gelber Sack
DESCRIPTION:Alle Abholtermine auf abfallkalender.enni.de/abholtermine/zypre
 ssenweg
URL:https://abfallkalender.enni.de/abholtermine/zypressenweg
DTSTART;VALUE=DATE:20260924
LOCATION:Zypressenweg
BEGIN:VALARM
ACTION:DISPLAY
DESCRIPTION:Morgen: Abholung Gelber Sack
TRIGGER:-PT7H
END:VALARM
END:VEVENT
BEGIN:VEVENT
UID:151bbea1b4dda686949baaf2e0d7b221
DTSTAMP:20260421T092256Z
SUMMARY:Abholung Gelber Sack
DESCRIPTION:Alle Abholtermine auf abfallkalender.enni.de/abholtermine/zypre
 ssenweg
URL:https://abfallkalender.enni.de/abholtermine/zypressenweg
DTSTART;VALUE=DATE:20261008
LOCATION:Zypressenweg
BEGIN:VALARM
ACTION:DISPLAY
DESCRIPTION:Morgen: Abholung Gelber Sack
TRIGGER:-PT7H
END:VALARM
END:VEVENT
BEGIN:VEVENT
UID:313fdfc9ec186f077d9585ceed77d623
DTSTAMP:20260421T092256Z
SUMMARY:Abholung Gelber Sack
DESCRIPTION:Alle Abholtermine auf abfallkalender.enni.de/abholtermine/zypre
 ssenweg
URL:https://abfallkalender.enni.de/abholtermine/zypressenweg
DTSTART;VALUE=DATE:20261022
LOCATION:Zypressenweg
BEGIN:VALARM
ACTION:DISPLAY
DESCRIPTION:Morgen: Abholung Gelber Sack
TRIGGER:-PT7H
END:VALARM
END:VEVENT
BEGIN:VEVENT
UID:19741f48a4d4f6f7e2cc38d98316df55
DTSTAMP:20260421T092256Z
SUMMARY:Abholung Gelber Sack
DESCRIPTION:Alle Abholtermine auf abfallkalender.enni.de/abholtermine/zypre
 ssenweg
URL:https://abfallkalender.enni.de/abholtermine/zypressenweg
DTSTART;VALUE=DATE:20261105
LOCATION:Zypressenweg
BEGIN:VALARM
ACTION:DISPLAY
DESCRIPTION:Morgen: Abholung Gelber Sack
TRIGGER:-PT7H
END:VALARM
END:VEVENT
BEGIN:VEVENT
UID:9f849c4ef030e35168136d6cba477d8b
DTSTAMP:20260421T092256Z
SUMMARY:Abholung Gelber Sack
DESCRIPTION:Alle Abholtermine auf abfallkalender.enni.de/abholtermine/zypre
 ssenweg
URL:https://abfallkalender.enni.de/abholtermine/zypressenweg
DTSTART;VALUE=DATE:20261119
LOCATION:Zypressenweg
BEGIN:VALARM
ACTION:DISPLAY
DESCRIPTION:Morgen: Abholung Gelber Sack
TRIGGER:-PT7H
END:VALARM
END:VEVENT
BEGIN:VEVENT
UID:670b2a47c9a2e05f66a84a7fc3917a56
DTSTAMP:20260421T092256Z
SUMMARY:Abholung Gelber Sack
DESCRIPTION:Alle Abholtermine auf abfallkalender.enni.de/abholtermine/zypre
 ssenweg
URL:https://abfallkalender.enni.de/abholtermine/zypressenweg
DTSTART;VALUE=DATE:20261203
LOCATION:Zypressenweg
BEGIN:VALARM
ACTION:DISPLAY
DESCRIPTION:Morgen: Abholung Gelber Sack
TRIGGER:-PT7H
END:VALARM
END:VEVENT
BEGIN:VEVENT
UID:84f368f139af0cb7eb090f193b50cf3b
DTSTAMP:20260421T092256Z
SUMMARY:Abholung Gelber Sack
DESCRIPTION:Alle Abholtermine auf abfallkalender.enni.de/abholtermine/zypre
 ssenweg
URL:https://abfallkalender.enni.de/abholtermine/zypressenweg
DTSTART;VALUE=DATE:20261217
LOCATION:Zypressenweg
BEGIN:VALARM
ACTION:DISPLAY
DESCRIPTION:Morgen: Abholung Gelber Sack
TRIGGER:-PT7H
END:VALARM
END:VEVENT
BEGIN:VEVENT
UID:f8e8e7af32c0222a2d3ccf32106a990a
DTSTAMP:20260421T092256Z
SUMMARY:Abholung Gelber Sack
DESCRIPTION:Alle Abholtermine auf abfallkalender.enni.de/abholtermine/zypre
 ssenweg
URL:https://abfallkalender.enni.de/abholtermine/zypressenweg
DTSTART;VALUE=DATE:20261231
LOCATION:Zypressenweg
BEGIN:VALARM
ACTION:DISPLAY
DESCRIPTION:Morgen: Abholung Gelber Sack
TRIGGER:-PT7H
END:VALARM
END:VEVENT
BEGIN:VEVENT
UID:355b0dedc1b88243327d01531f9e4280
DTSTAMP:20260421T092256Z
SUMMARY:Abholung Biotonne
DESCRIPTION:Alle Abholtermine auf abfallkalender.enni.de/abholtermine/zypre
 ssenweg
URL:https://abfallkalender.enni.de/abholtermine/zypressenweg
DTSTART;VALUE=DATE:20260428
LOCATION:Zypressenweg
BEGIN:VALARM
ACTION:DISPLAY
DESCRIPTION:Morgen: Abholung Biotonne
TRIGGER:-PT7H
END:VALARM
END:VEVENT
BEGIN:VEVENT
UID:7b2634174490a3f9abbc7090b176656b
DTSTAMP:20260421T092256Z
SUMMARY:Abholung Biotonne
DESCRIPTION:Alle Abholtermine auf abfallkalender.enni.de/abholtermine/zypre
 ssenweg
URL:https://abfallkalender.enni.de/abholtermine/zypressenweg
DTSTART;VALUE=DATE:20260512
LOCATION:Zypressenweg
BEGIN:VALARM
ACTION:DISPLAY
DESCRIPTION:Morgen: Abholung Biotonne
TRIGGER:-PT7H
END:VALARM
END:VEVENT
BEGIN:VEVENT
UID:72550ca6723f3e8b638d566e3b20d8be
DTSTAMP:20260421T092256Z
SUMMARY:Abholung Biotonne
DESCRIPTION:Alle Abholtermine auf abfallkalender.enni.de/abholtermine/zypre
 ssenweg
URL:https://abfallkalender.enni.de/abholtermine/zypressenweg
DTSTART;VALUE=DATE:20260527
LOCATION:Zypressenweg
BEGIN:VALARM
ACTION:DISPLAY
DESCRIPTION:Morgen: Abholung Biotonne
TRIGGER:-PT7H
END:VALARM
END:VEVENT
BEGIN:VEVENT
UID:1af0cd84222587508ba9615764858cbc
DTSTAMP:20260421T092256Z
SUMMARY:Abholung Biotonne
DESCRIPTION:Alle Abholtermine auf abfallkalender.enni.de/abholtermine/zypre
 ssenweg
URL:https://abfallkalender.enni.de/abholtermine/zypressenweg
DTSTART;VALUE=DATE:20260609
LOCATION:Zypressenweg
BEGIN:VALARM
ACTION:DISPLAY
DESCRIPTION:Morgen: Abholung Biotonne
TRIGGER:-PT7H
END:VALARM
END:VEVENT
BEGIN:VEVENT
UID:202c9627ba46b5977ba7fe66e780d4f0
DTSTAMP:20260421T092256Z
SUMMARY:Abholung Biotonne
DESCRIPTION:Alle Abholtermine auf abfallkalender.enni.de/abholtermine/zypre
 ssenweg
URL:https://abfallkalender.enni.de/abholtermine/zypressenweg
DTSTART;VALUE=DATE:20260623
LOCATION:Zypressenweg
BEGIN:VALARM
ACTION:DISPLAY
DESCRIPTION:Morgen: Abholung Biotonne
TRIGGER:-PT7H
END:VALARM
END:VEVENT
BEGIN:VEVENT
UID:08e4f973c1362504fc6030fb71dbff45
DTSTAMP:20260421T092256Z
SUMMARY:Abholung Biotonne
DESCRIPTION:Alle Abholtermine auf abfallkalender.enni.de/abholtermine/zypre
 ssenweg
URL:https://abfallkalender.enni.de/abholtermine/zypressenweg
DTSTART;VALUE=DATE:20260707
LOCATION:Zypressenweg
BEGIN:VALARM
ACTION:DISPLAY
DESCRIPTION:Morgen: Abholung Biotonne
TRIGGER:-PT7H
END:VALARM
END:VEVENT
BEGIN:VEVENT
UID:aaa888739ca35acf96b2949470ee75ad
DTSTAMP:20260421T092256Z
SUMMARY:Abholung Biotonne
DESCRIPTION:Alle Abholtermine auf abfallkalender.enni.de/abholtermine/zypre
 ssenweg
URL:https://abfallkalender.enni.de/abholtermine/zypressenweg
DTSTART;VALUE=DATE:20260721
LOCATION:Zypressenweg
BEGIN:VALARM
ACTION:DISPLAY
DESCRIPTION:Morgen: Abholung Biotonne
TRIGGER:-PT7H
END:VALARM
END:VEVENT
BEGIN:VEVENT
UID:394fd2570aeffbe8d862e19faaa8e54d
DTSTAMP:20260421T092256Z
SUMMARY:Abholung Biotonne
DESCRIPTION:Alle Abholtermine auf abfallkalender.enni.de/abholtermine/zypre
 ssenweg
URL:https://abfallkalender.enni.de/abholtermine/zypressenweg
DTSTART;VALUE=DATE:20260804
LOCATION:Zypressenweg
BEGIN:VALARM
ACTION:DISPLAY
DESCRIPTION:Morgen: Abholung Biotonne
TRIGGER:-PT7H
END:VALARM
END:VEVENT
BEGIN:VEVENT
UID:ea99f34171c42869629f649086bb6518
DTSTAMP:20260421T092256Z
SUMMARY:Abholung Biotonne
DESCRIPTION:Alle Abholtermine auf abfallkalender.enni.de/abholtermine/zypre
 ssenweg
URL:https://abfallkalender.enni.de/abholtermine/zypressenweg
DTSTART;VALUE=DATE:20260818
LOCATION:Zypressenweg
BEGIN:VALARM
ACTION:DISPLAY
DESCRIPTION:Morgen: Abholung Biotonne
TRIGGER:-PT7H
END:VALARM
END:VEVENT
BEGIN:VEVENT
UID:2e27200540336aaad50306be7d89d98c
DTSTAMP:20260421T092256Z
SUMMARY:Abholung Biotonne
DESCRIPTION:Alle Abholtermine auf abfallkalender.enni.de/abholtermine/zypre
 ssenweg
URL:https://abfallkalender.enni.de/abholtermine/zypressenweg
DTSTART;VALUE=DATE:20260901
LOCATION:Zypressenweg
BEGIN:VALARM
ACTION:DISPLAY
DESCRIPTION:Morgen: Abholung Biotonne
TRIGGER:-PT7H
END:VALARM
END:VEVENT
BEGIN:VEVENT
UID:7bac32667ba40b7551e8d596918d5371
DTSTAMP:20260421T092256Z
SUMMARY:Abholung Biotonne
DESCRIPTION:Alle Abholtermine auf abfallkalender.enni.de/abholtermine/zypre
 ssenweg
URL:https://abfallkalender.enni.de/abholtermine/zypressenweg
DTSTART;VALUE=DATE:20260915
LOCATION:Zypressenweg
BEGIN:VALARM
ACTION:DISPLAY
DESCRIPTION:Morgen: Abholung Biotonne
TRIGGER:-PT7H
END:VALARM
END:VEVENT
BEGIN:VEVENT
UID:80aff80c72bf342e42a7bed5270a2243
DTSTAMP:20260421T092256Z
SUMMARY:Abholung Biotonne
DESCRIPTION:Alle Abholtermine auf abfallkalender.enni.de/abholtermine/zypre
 ssenweg
URL:https://abfallkalender.enni.de/abholtermine/zypressenweg
DTSTART;VALUE=DATE:20260929
LOCATION:Zypressenweg
BEGIN:VALARM
ACTION:DISPLAY
DESCRIPTION:Morgen: Abholung Biotonne
TRIGGER:-PT7H
END:VALARM
END:VEVENT
BEGIN:VEVENT
UID:dbcccd55b30fdeb3a8db3eebbc558594
DTSTAMP:20260421T092256Z
SUMMARY:Abholung Biotonne
DESCRIPTION:Alle Abholtermine auf abfallkalender.enni.de/abholtermine/zypre
 ssenweg
URL:https://abfallkalender.enni.de/abholtermine/zypressenweg
DTSTART;VALUE=DATE:20261013
LOCATION:Zypressenweg
BEGIN:VALARM
ACTION:DISPLAY
DESCRIPTION:Morgen: Abholung Biotonne
TRIGGER:-PT7H
END:VALARM
END:VEVENT
BEGIN:VEVENT
UID:f82c0debd4c5ca9f0cacd2c4d0e875ff
DTSTAMP:20260421T092256Z
SUMMARY:Abholung Biotonne
DESCRIPTION:Alle Abholtermine auf abfallkalender.enni.de/abholtermine/zypre
 ssenweg
URL:https://abfallkalender.enni.de/abholtermine/zypressenweg
DTSTART;VALUE=DATE:20261027
LOCATION:Zypressenweg
BEGIN:VALARM
ACTION:DISPLAY
DESCRIPTION:Morgen: Abholung Biotonne
TRIGGER:-PT7H
END:VALARM
END:VEVENT
BEGIN:VEVENT
UID:f595945067748a92bd1cabc446012b1b
DTSTAMP:20260421T092256Z
SUMMARY:Abholung Biotonne
DESCRIPTION:Alle Abholtermine auf abfallkalender.enni.de/abholtermine/zypre
 ssenweg
URL:https://abfallkalender.enni.de/abholtermine/zypressenweg
DTSTART;VALUE=DATE:20261110
LOCATION:Zypressenweg
BEGIN:VALARM
ACTION:DISPLAY
DESCRIPTION:Morgen: Abholung Biotonne
TRIGGER:-PT7H
END:VALARM
END:VEVENT
BEGIN:VEVENT
UID:9d7873dacc0f6335e2b55f37a1d7e70e
DTSTAMP:20260421T092256Z
SUMMARY:Abholung Biotonne
DESCRIPTION:Alle Abholtermine auf abfallkalender.enni.de/abholtermine/zypre
 ssenweg
URL:https://abfallkalender.enni.de/abholtermine/zypressenweg
DTSTART;VALUE=DATE:20261124
LOCATION:Zypressenweg
BEGIN:VALARM
ACTION:DISPLAY
DESCRIPTION:Morgen: Abholung Biotonne
TRIGGER:-PT7H
END:VALARM
END:VEVENT
BEGIN:VEVENT
UID:a182d8ea6f8aae1687fc5f37b4995aaa
DTSTAMP:20260421T092256Z
SUMMARY:Abholung Biotonne
DESCRIPTION:Alle Abholtermine auf abfallkalender.enni.de/abholtermine/zypre
 ssenweg
URL:https://abfallkalender.enni.de/abholtermine/zypressenweg
DTSTART;VALUE=DATE:20261208
LOCATION:Zypressenweg
BEGIN:VALARM
ACTION:DISPLAY
DESCRIPTION:Morgen: Abholung Biotonne
TRIGGER:-PT7H
END:VALARM
END:VEVENT
BEGIN:VEVENT
UID:841bceb9cd0782e73265c25b4395ea8b
DTSTAMP:20260421T092256Z
SUMMARY:Abholung Biotonne
DESCRIPTION:Alle Abholtermine auf abfallkalender.enni.de/abholtermine/zypre
 ssenweg
URL:https://abfallkalender.enni.de/abholtermine/zypressenweg
DTSTART;VALUE=DATE:20261221
LOCATION:Zypressenweg
BEGIN:VALARM
ACTION:DISPLAY
DESCRIPTION:Morgen: Abholung Biotonne
TRIGGER:-PT7H
END:VALARM
END:VEVENT
BEGIN:VEVENT
UID:db690591b510f94f6d014a37fd1ef30d
DTSTAMP:20260421T092256Z
SUMMARY:Abholung Grünschnitt
DESCRIPTION:Alle Abholtermine auf abfallkalender.enni.de/abholtermine/zypre
 ssenweg
URL:https://abfallkalender.enni.de/abholtermine/zypressenweg
DTSTART;VALUE=DATE:20261110
LOCATION:Zypressenweg
BEGIN:VALARM
ACTION:DISPLAY
DESCRIPTION:Morgen: Abholung Grünschnitt
TRIGGER:-PT7H
END:VALARM
END:VEVENT
END:VCALENDAR
