BEGIN:VCALENDAR
PRODID:-//eluceo/ical//2.0/EN
VERSION:2.0
CALSCALE:GREGORIAN
BEGIN:VEVENT
UID:49a33178c1f1d3f44563933e94b038fb
DTSTAMP:20260420T095548Z
SUMMARY:Abholung Restabfall
DESCRIPTION:Alle Abholtermine auf abfallkalender.enni.de/abholtermine/satur
 nring
URL:https://abfallkalender.enni.de/abholtermine/saturnring
DTSTART;VALUE=DATE:20260428
LOCATION:Saturnring
BEGIN:VALARM
ACTION:DISPLAY
DESCRIPTION:Morgen: Abholung Restabfall
TRIGGER:-PT7H
END:VALARM
END:VEVENT
BEGIN:VEVENT
UID:d217b75df381ea25140c1b935ba67df3
DTSTAMP:20260420T095548Z
SUMMARY:Abholung Restabfall
DESCRIPTION:Alle Abholtermine auf abfallkalender.enni.de/abholtermine/satur
 nring
URL:https://abfallkalender.enni.de/abholtermine/saturnring
DTSTART;VALUE=DATE:20260512
LOCATION:Saturnring
BEGIN:VALARM
ACTION:DISPLAY
DESCRIPTION:Morgen: Abholung Restabfall
TRIGGER:-PT7H
END:VALARM
END:VEVENT
BEGIN:VEVENT
UID:cbd41166daae256366e599bfee8046b7
DTSTAMP:20260420T095548Z
SUMMARY:Abholung Restabfall
DESCRIPTION:Alle Abholtermine auf abfallkalender.enni.de/abholtermine/satur
 nring
URL:https://abfallkalender.enni.de/abholtermine/saturnring
DTSTART;VALUE=DATE:20260527
LOCATION:Saturnring
BEGIN:VALARM
ACTION:DISPLAY
DESCRIPTION:Morgen: Abholung Restabfall
TRIGGER:-PT7H
END:VALARM
END:VEVENT
BEGIN:VEVENT
UID:0a7b1ef13742b7451b64762b2ebf8139
DTSTAMP:20260420T095548Z
SUMMARY:Abholung Restabfall
DESCRIPTION:Alle Abholtermine auf abfallkalender.enni.de/abholtermine/satur
 nring
URL:https://abfallkalender.enni.de/abholtermine/saturnring
DTSTART;VALUE=DATE:20260609
LOCATION:Saturnring
BEGIN:VALARM
ACTION:DISPLAY
DESCRIPTION:Morgen: Abholung Restabfall
TRIGGER:-PT7H
END:VALARM
END:VEVENT
BEGIN:VEVENT
UID:380b8f7121903392392ba1d17bd17e77
DTSTAMP:20260420T095548Z
SUMMARY:Abholung Restabfall
DESCRIPTION:Alle Abholtermine auf abfallkalender.enni.de/abholtermine/satur
 nring
URL:https://abfallkalender.enni.de/abholtermine/saturnring
DTSTART;VALUE=DATE:20260623
LOCATION:Saturnring
BEGIN:VALARM
ACTION:DISPLAY
DESCRIPTION:Morgen: Abholung Restabfall
TRIGGER:-PT7H
END:VALARM
END:VEVENT
BEGIN:VEVENT
UID:7f8a54076636c0059608b45325171773
DTSTAMP:20260420T095548Z
SUMMARY:Abholung Restabfall
DESCRIPTION:Alle Abholtermine auf abfallkalender.enni.de/abholtermine/satur
 nring
URL:https://abfallkalender.enni.de/abholtermine/saturnring
DTSTART;VALUE=DATE:20260707
LOCATION:Saturnring
BEGIN:VALARM
ACTION:DISPLAY
DESCRIPTION:Morgen: Abholung Restabfall
TRIGGER:-PT7H
END:VALARM
END:VEVENT
BEGIN:VEVENT
UID:ebeeba19d17b45567cdb9a5b9b66a4e8
DTSTAMP:20260420T095548Z
SUMMARY:Abholung Restabfall
DESCRIPTION:Alle Abholtermine auf abfallkalender.enni.de/abholtermine/satur
 nring
URL:https://abfallkalender.enni.de/abholtermine/saturnring
DTSTART;VALUE=DATE:20260721
LOCATION:Saturnring
BEGIN:VALARM
ACTION:DISPLAY
DESCRIPTION:Morgen: Abholung Restabfall
TRIGGER:-PT7H
END:VALARM
END:VEVENT
BEGIN:VEVENT
UID:a5f12adb8cb74e4c2fe21a8d81525bd2
DTSTAMP:20260420T095548Z
SUMMARY:Abholung Restabfall
DESCRIPTION:Alle Abholtermine auf abfallkalender.enni.de/abholtermine/satur
 nring
URL:https://abfallkalender.enni.de/abholtermine/saturnring
DTSTART;VALUE=DATE:20260804
LOCATION:Saturnring
BEGIN:VALARM
ACTION:DISPLAY
DESCRIPTION:Morgen: Abholung Restabfall
TRIGGER:-PT7H
END:VALARM
END:VEVENT
BEGIN:VEVENT
UID:ffde92b6e3b28e524f2368654fc6993b
DTSTAMP:20260420T095548Z
SUMMARY:Abholung Restabfall
DESCRIPTION:Alle Abholtermine auf abfallkalender.enni.de/abholtermine/satur
 nring
URL:https://abfallkalender.enni.de/abholtermine/saturnring
DTSTART;VALUE=DATE:20260818
LOCATION:Saturnring
BEGIN:VALARM
ACTION:DISPLAY
DESCRIPTION:Morgen: Abholung Restabfall
TRIGGER:-PT7H
END:VALARM
END:VEVENT
BEGIN:VEVENT
UID:083b49427f67784e80e277f9d35cf426
DTSTAMP:20260420T095548Z
SUMMARY:Abholung Restabfall
DESCRIPTION:Alle Abholtermine auf abfallkalender.enni.de/abholtermine/satur
 nring
URL:https://abfallkalender.enni.de/abholtermine/saturnring
DTSTART;VALUE=DATE:20260901
LOCATION:Saturnring
BEGIN:VALARM
ACTION:DISPLAY
DESCRIPTION:Morgen: Abholung Restabfall
TRIGGER:-PT7H
END:VALARM
END:VEVENT
BEGIN:VEVENT
UID:554cb26e4717fe6578385bf946e83730
DTSTAMP:20260420T095548Z
SUMMARY:Abholung Restabfall
DESCRIPTION:Alle Abholtermine auf abfallkalender.enni.de/abholtermine/satur
 nring
URL:https://abfallkalender.enni.de/abholtermine/saturnring
DTSTART;VALUE=DATE:20260915
LOCATION:Saturnring
BEGIN:VALARM
ACTION:DISPLAY
DESCRIPTION:Morgen: Abholung Restabfall
TRIGGER:-PT7H
END:VALARM
END:VEVENT
BEGIN:VEVENT
UID:4ee7c996358745913b0eba4e6806f14e
DTSTAMP:20260420T095548Z
SUMMARY:Abholung Restabfall
DESCRIPTION:Alle Abholtermine auf abfallkalender.enni.de/abholtermine/satur
 nring
URL:https://abfallkalender.enni.de/abholtermine/saturnring
DTSTART;VALUE=DATE:20260929
LOCATION:Saturnring
BEGIN:VALARM
ACTION:DISPLAY
DESCRIPTION:Morgen: Abholung Restabfall
TRIGGER:-PT7H
END:VALARM
END:VEVENT
BEGIN:VEVENT
UID:27066ca1ea65a9278e416f03de1db42c
DTSTAMP:20260420T095548Z
SUMMARY:Abholung Restabfall
DESCRIPTION:Alle Abholtermine auf abfallkalender.enni.de/abholtermine/satur
 nring
URL:https://abfallkalender.enni.de/abholtermine/saturnring
DTSTART;VALUE=DATE:20261013
LOCATION:Saturnring
BEGIN:VALARM
ACTION:DISPLAY
DESCRIPTION:Morgen: Abholung Restabfall
TRIGGER:-PT7H
END:VALARM
END:VEVENT
BEGIN:VEVENT
UID:78b83f35a2a908236d26a66c05c9ffb2
DTSTAMP:20260420T095548Z
SUMMARY:Abholung Restabfall
DESCRIPTION:Alle Abholtermine auf abfallkalender.enni.de/abholtermine/satur
 nring
URL:https://abfallkalender.enni.de/abholtermine/saturnring
DTSTART;VALUE=DATE:20261027
LOCATION:Saturnring
BEGIN:VALARM
ACTION:DISPLAY
DESCRIPTION:Morgen: Abholung Restabfall
TRIGGER:-PT7H
END:VALARM
END:VEVENT
BEGIN:VEVENT
UID:3eb1962ddc0a398ed894bd127ffa1d5d
DTSTAMP:20260420T095548Z
SUMMARY:Abholung Restabfall
DESCRIPTION:Alle Abholtermine auf abfallkalender.enni.de/abholtermine/satur
 nring
URL:https://abfallkalender.enni.de/abholtermine/saturnring
DTSTART;VALUE=DATE:20261110
LOCATION:Saturnring
BEGIN:VALARM
ACTION:DISPLAY
DESCRIPTION:Morgen: Abholung Restabfall
TRIGGER:-PT7H
END:VALARM
END:VEVENT
BEGIN:VEVENT
UID:6d775bce789f7127aa93c0948f5d28b2
DTSTAMP:20260420T095548Z
SUMMARY:Abholung Restabfall
DESCRIPTION:Alle Abholtermine auf abfallkalender.enni.de/abholtermine/satur
 nring
URL:https://abfallkalender.enni.de/abholtermine/saturnring
DTSTART;VALUE=DATE:20261124
LOCATION:Saturnring
BEGIN:VALARM
ACTION:DISPLAY
DESCRIPTION:Morgen: Abholung Restabfall
TRIGGER:-PT7H
END:VALARM
END:VEVENT
BEGIN:VEVENT
UID:0fde84f65139a70be2df711f5990cdc5
DTSTAMP:20260420T095548Z
SUMMARY:Abholung Restabfall
DESCRIPTION:Alle Abholtermine auf abfallkalender.enni.de/abholtermine/satur
 nring
URL:https://abfallkalender.enni.de/abholtermine/saturnring
DTSTART;VALUE=DATE:20261208
LOCATION:Saturnring
BEGIN:VALARM
ACTION:DISPLAY
DESCRIPTION:Morgen: Abholung Restabfall
TRIGGER:-PT7H
END:VALARM
END:VEVENT
BEGIN:VEVENT
UID:3e180fb84feb95233e1523c8c2004558
DTSTAMP:20260420T095548Z
SUMMARY:Abholung Restabfall
DESCRIPTION:Alle Abholtermine auf abfallkalender.enni.de/abholtermine/satur
 nring
URL:https://abfallkalender.enni.de/abholtermine/saturnring
DTSTART;VALUE=DATE:20261221
LOCATION:Saturnring
BEGIN:VALARM
ACTION:DISPLAY
DESCRIPTION:Morgen: Abholung Restabfall
TRIGGER:-PT7H
END:VALARM
END:VEVENT
BEGIN:VEVENT
UID:f4db6ae92a73ddb0cccc5559f97d9df0
DTSTAMP:20260420T095548Z
SUMMARY:Abholung Papier
DESCRIPTION:Alle Abholtermine auf abfallkalender.enni.de/abholtermine/satur
 nring
URL:https://abfallkalender.enni.de/abholtermine/saturnring
DTSTART;VALUE=DATE:20260505
LOCATION:Saturnring
BEGIN:VALARM
ACTION:DISPLAY
DESCRIPTION:Morgen: Abholung Papier
TRIGGER:-PT7H
END:VALARM
END:VEVENT
BEGIN:VEVENT
UID:5e6659afccdfb4ed8737a37f775a3dc7
DTSTAMP:20260420T095548Z
SUMMARY:Abholung Papier
DESCRIPTION:Alle Abholtermine auf abfallkalender.enni.de/abholtermine/satur
 nring
URL:https://abfallkalender.enni.de/abholtermine/saturnring
DTSTART;VALUE=DATE:20260602
LOCATION:Saturnring
BEGIN:VALARM
ACTION:DISPLAY
DESCRIPTION:Morgen: Abholung Papier
TRIGGER:-PT7H
END:VALARM
END:VEVENT
BEGIN:VEVENT
UID:2a2b4b6e97d8d5bb98328651f8e2d2ff
DTSTAMP:20260420T095548Z
SUMMARY:Abholung Papier
DESCRIPTION:Alle Abholtermine auf abfallkalender.enni.de/abholtermine/satur
 nring
URL:https://abfallkalender.enni.de/abholtermine/saturnring
DTSTART;VALUE=DATE:20260630
LOCATION:Saturnring
BEGIN:VALARM
ACTION:DISPLAY
DESCRIPTION:Morgen: Abholung Papier
TRIGGER:-PT7H
END:VALARM
END:VEVENT
BEGIN:VEVENT
UID:09dcf616a91e5e5a13555d336b3a647a
DTSTAMP:20260420T095548Z
SUMMARY:Abholung Papier
DESCRIPTION:Alle Abholtermine auf abfallkalender.enni.de/abholtermine/satur
 nring
URL:https://abfallkalender.enni.de/abholtermine/saturnring
DTSTART;VALUE=DATE:20260728
LOCATION:Saturnring
BEGIN:VALARM
ACTION:DISPLAY
DESCRIPTION:Morgen: Abholung Papier
TRIGGER:-PT7H
END:VALARM
END:VEVENT
BEGIN:VEVENT
UID:4189427b05107911b87d7dd1eec84b2c
DTSTAMP:20260420T095548Z
SUMMARY:Abholung Papier
DESCRIPTION:Alle Abholtermine auf abfallkalender.enni.de/abholtermine/satur
 nring
URL:https://abfallkalender.enni.de/abholtermine/saturnring
DTSTART;VALUE=DATE:20260825
LOCATION:Saturnring
BEGIN:VALARM
ACTION:DISPLAY
DESCRIPTION:Morgen: Abholung Papier
TRIGGER:-PT7H
END:VALARM
END:VEVENT
BEGIN:VEVENT
UID:769567580c5c3e96e0849855659b1c6d
DTSTAMP:20260420T095548Z
SUMMARY:Abholung Papier
DESCRIPTION:Alle Abholtermine auf abfallkalender.enni.de/abholtermine/satur
 nring
URL:https://abfallkalender.enni.de/abholtermine/saturnring
DTSTART;VALUE=DATE:20260922
LOCATION:Saturnring
BEGIN:VALARM
ACTION:DISPLAY
DESCRIPTION:Morgen: Abholung Papier
TRIGGER:-PT7H
END:VALARM
END:VEVENT
BEGIN:VEVENT
UID:42f22bf79502a64a803a40a891b82d82
DTSTAMP:20260420T095548Z
SUMMARY:Abholung Papier
DESCRIPTION:Alle Abholtermine auf abfallkalender.enni.de/abholtermine/satur
 nring
URL:https://abfallkalender.enni.de/abholtermine/saturnring
DTSTART;VALUE=DATE:20261020
LOCATION:Saturnring
BEGIN:VALARM
ACTION:DISPLAY
DESCRIPTION:Morgen: Abholung Papier
TRIGGER:-PT7H
END:VALARM
END:VEVENT
BEGIN:VEVENT
UID:33b97aed5ca17e0a4a4428a55241fde3
DTSTAMP:20260420T095548Z
SUMMARY:Abholung Papier
DESCRIPTION:Alle Abholtermine auf abfallkalender.enni.de/abholtermine/satur
 nring
URL:https://abfallkalender.enni.de/abholtermine/saturnring
DTSTART;VALUE=DATE:20261117
LOCATION:Saturnring
BEGIN:VALARM
ACTION:DISPLAY
DESCRIPTION:Morgen: Abholung Papier
TRIGGER:-PT7H
END:VALARM
END:VEVENT
BEGIN:VEVENT
UID:8e79b4dd449bb99a3aacefd2e78ccb77
DTSTAMP:20260420T095548Z
SUMMARY:Abholung Papier
DESCRIPTION:Alle Abholtermine auf abfallkalender.enni.de/abholtermine/satur
 nring
URL:https://abfallkalender.enni.de/abholtermine/saturnring
DTSTART;VALUE=DATE:20261215
LOCATION:Saturnring
BEGIN:VALARM
ACTION:DISPLAY
DESCRIPTION:Morgen: Abholung Papier
TRIGGER:-PT7H
END:VALARM
END:VEVENT
BEGIN:VEVENT
UID:b1083bb79116dd8535ca25452b8460e5
DTSTAMP:20260420T095548Z
SUMMARY:Abholung Gelber Sack
DESCRIPTION:Alle Abholtermine auf abfallkalender.enni.de/abholtermine/satur
 nring
URL:https://abfallkalender.enni.de/abholtermine/saturnring
DTSTART;VALUE=DATE:20260420
LOCATION:Saturnring
BEGIN:VALARM
ACTION:DISPLAY
DESCRIPTION:Morgen: Abholung Gelber Sack
TRIGGER:-PT7H
END:VALARM
END:VEVENT
BEGIN:VEVENT
UID:f06548df4e7a8cd3a29c71e5b6d30d0c
DTSTAMP:20260420T095548Z
SUMMARY:Abholung Gelber Sack
DESCRIPTION:Alle Abholtermine auf abfallkalender.enni.de/abholtermine/satur
 nring
URL:https://abfallkalender.enni.de/abholtermine/saturnring
DTSTART;VALUE=DATE:20260504
LOCATION:Saturnring
BEGIN:VALARM
ACTION:DISPLAY
DESCRIPTION:Morgen: Abholung Gelber Sack
TRIGGER:-PT7H
END:VALARM
END:VEVENT
BEGIN:VEVENT
UID:c56ab62175c2407cb9027c5c49cd52e2
DTSTAMP:20260420T095548Z
SUMMARY:Abholung Gelber Sack
DESCRIPTION:Alle Abholtermine auf abfallkalender.enni.de/abholtermine/satur
 nring
URL:https://abfallkalender.enni.de/abholtermine/saturnring
DTSTART;VALUE=DATE:20260518
LOCATION:Saturnring
BEGIN:VALARM
ACTION:DISPLAY
DESCRIPTION:Morgen: Abholung Gelber Sack
TRIGGER:-PT7H
END:VALARM
END:VEVENT
BEGIN:VEVENT
UID:c8746aad2bb54b969f77f8de5b42cec2
DTSTAMP:20260420T095548Z
SUMMARY:Abholung Gelber Sack
DESCRIPTION:Alle Abholtermine auf abfallkalender.enni.de/abholtermine/satur
 nring
URL:https://abfallkalender.enni.de/abholtermine/saturnring
DTSTART;VALUE=DATE:20260601
LOCATION:Saturnring
BEGIN:VALARM
ACTION:DISPLAY
DESCRIPTION:Morgen: Abholung Gelber Sack
TRIGGER:-PT7H
END:VALARM
END:VEVENT
BEGIN:VEVENT
UID:0070536e5e64433b69992791c64acf92
DTSTAMP:20260420T095548Z
SUMMARY:Abholung Gelber Sack
DESCRIPTION:Alle Abholtermine auf abfallkalender.enni.de/abholtermine/satur
 nring
URL:https://abfallkalender.enni.de/abholtermine/saturnring
DTSTART;VALUE=DATE:20260615
LOCATION:Saturnring
BEGIN:VALARM
ACTION:DISPLAY
DESCRIPTION:Morgen: Abholung Gelber Sack
TRIGGER:-PT7H
END:VALARM
END:VEVENT
BEGIN:VEVENT
UID:894707c28b9a5ee3c82c33985e78a945
DTSTAMP:20260420T095548Z
SUMMARY:Abholung Gelber Sack
DESCRIPTION:Alle Abholtermine auf abfallkalender.enni.de/abholtermine/satur
 nring
URL:https://abfallkalender.enni.de/abholtermine/saturnring
DTSTART;VALUE=DATE:20260629
LOCATION:Saturnring
BEGIN:VALARM
ACTION:DISPLAY
DESCRIPTION:Morgen: Abholung Gelber Sack
TRIGGER:-PT7H
END:VALARM
END:VEVENT
BEGIN:VEVENT
UID:55eed1a52daba13ddee639b4f3e40d89
DTSTAMP:20260420T095548Z
SUMMARY:Abholung Gelber Sack
DESCRIPTION:Alle Abholtermine auf abfallkalender.enni.de/abholtermine/satur
 nring
URL:https://abfallkalender.enni.de/abholtermine/saturnring
DTSTART;VALUE=DATE:20260713
LOCATION:Saturnring
BEGIN:VALARM
ACTION:DISPLAY
DESCRIPTION:Morgen: Abholung Gelber Sack
TRIGGER:-PT7H
END:VALARM
END:VEVENT
BEGIN:VEVENT
UID:995118b174822ec1823621d17cbab5da
DTSTAMP:20260420T095548Z
SUMMARY:Abholung Gelber Sack
DESCRIPTION:Alle Abholtermine auf abfallkalender.enni.de/abholtermine/satur
 nring
URL:https://abfallkalender.enni.de/abholtermine/saturnring
DTSTART;VALUE=DATE:20260727
LOCATION:Saturnring
BEGIN:VALARM
ACTION:DISPLAY
DESCRIPTION:Morgen: Abholung Gelber Sack
TRIGGER:-PT7H
END:VALARM
END:VEVENT
BEGIN:VEVENT
UID:aba7a0503f8840c805deb80642546627
DTSTAMP:20260420T095548Z
SUMMARY:Abholung Gelber Sack
DESCRIPTION:Alle Abholtermine auf abfallkalender.enni.de/abholtermine/satur
 nring
URL:https://abfallkalender.enni.de/abholtermine/saturnring
DTSTART;VALUE=DATE:20260810
LOCATION:Saturnring
BEGIN:VALARM
ACTION:DISPLAY
DESCRIPTION:Morgen: Abholung Gelber Sack
TRIGGER:-PT7H
END:VALARM
END:VEVENT
BEGIN:VEVENT
UID:36fa32f406c04ad80e31d0220a9d45af
DTSTAMP:20260420T095548Z
SUMMARY:Abholung Gelber Sack
DESCRIPTION:Alle Abholtermine auf abfallkalender.enni.de/abholtermine/satur
 nring
URL:https://abfallkalender.enni.de/abholtermine/saturnring
DTSTART;VALUE=DATE:20260824
LOCATION:Saturnring
BEGIN:VALARM
ACTION:DISPLAY
DESCRIPTION:Morgen: Abholung Gelber Sack
TRIGGER:-PT7H
END:VALARM
END:VEVENT
BEGIN:VEVENT
UID:e68cdb4d38f3d31fcc9a84e2895b5705
DTSTAMP:20260420T095548Z
SUMMARY:Abholung Gelber Sack
DESCRIPTION:Alle Abholtermine auf abfallkalender.enni.de/abholtermine/satur
 nring
URL:https://abfallkalender.enni.de/abholtermine/saturnring
DTSTART;VALUE=DATE:20260907
LOCATION:Saturnring
BEGIN:VALARM
ACTION:DISPLAY
DESCRIPTION:Morgen: Abholung Gelber Sack
TRIGGER:-PT7H
END:VALARM
END:VEVENT
BEGIN:VEVENT
UID:a1dee5d6dd442863082f3718a7262f42
DTSTAMP:20260420T095548Z
SUMMARY:Abholung Gelber Sack
DESCRIPTION:Alle Abholtermine auf abfallkalender.enni.de/abholtermine/satur
 nring
URL:https://abfallkalender.enni.de/abholtermine/saturnring
DTSTART;VALUE=DATE:20260921
LOCATION:Saturnring
BEGIN:VALARM
ACTION:DISPLAY
DESCRIPTION:Morgen: Abholung Gelber Sack
TRIGGER:-PT7H
END:VALARM
END:VEVENT
BEGIN:VEVENT
UID:1d87f0ef51301e8a57c4f346cccc8eff
DTSTAMP:20260420T095548Z
SUMMARY:Abholung Gelber Sack
DESCRIPTION:Alle Abholtermine auf abfallkalender.enni.de/abholtermine/satur
 nring
URL:https://abfallkalender.enni.de/abholtermine/saturnring
DTSTART;VALUE=DATE:20261005
LOCATION:Saturnring
BEGIN:VALARM
ACTION:DISPLAY
DESCRIPTION:Morgen: Abholung Gelber Sack
TRIGGER:-PT7H
END:VALARM
END:VEVENT
BEGIN:VEVENT
UID:7a06a77b225271f6a23cdcd28f3aac9c
DTSTAMP:20260420T095548Z
SUMMARY:Abholung Gelber Sack
DESCRIPTION:Alle Abholtermine auf abfallkalender.enni.de/abholtermine/satur
 nring
URL:https://abfallkalender.enni.de/abholtermine/saturnring
DTSTART;VALUE=DATE:20261019
LOCATION:Saturnring
BEGIN:VALARM
ACTION:DISPLAY
DESCRIPTION:Morgen: Abholung Gelber Sack
TRIGGER:-PT7H
END:VALARM
END:VEVENT
BEGIN:VEVENT
UID:86baa71669674325243a8cc454874e30
DTSTAMP:20260420T095548Z
SUMMARY:Abholung Gelber Sack
DESCRIPTION:Alle Abholtermine auf abfallkalender.enni.de/abholtermine/satur
 nring
URL:https://abfallkalender.enni.de/abholtermine/saturnring
DTSTART;VALUE=DATE:20261102
LOCATION:Saturnring
BEGIN:VALARM
ACTION:DISPLAY
DESCRIPTION:Morgen: Abholung Gelber Sack
TRIGGER:-PT7H
END:VALARM
END:VEVENT
BEGIN:VEVENT
UID:31fe6e41046e9f8e093cbec9019fe80c
DTSTAMP:20260420T095548Z
SUMMARY:Abholung Gelber Sack
DESCRIPTION:Alle Abholtermine auf abfallkalender.enni.de/abholtermine/satur
 nring
URL:https://abfallkalender.enni.de/abholtermine/saturnring
DTSTART;VALUE=DATE:20261116
LOCATION:Saturnring
BEGIN:VALARM
ACTION:DISPLAY
DESCRIPTION:Morgen: Abholung Gelber Sack
TRIGGER:-PT7H
END:VALARM
END:VEVENT
BEGIN:VEVENT
UID:5298814622fecbe4d178eb945d270ce5
DTSTAMP:20260420T095548Z
SUMMARY:Abholung Gelber Sack
DESCRIPTION:Alle Abholtermine auf abfallkalender.enni.de/abholtermine/satur
 nring
URL:https://abfallkalender.enni.de/abholtermine/saturnring
DTSTART;VALUE=DATE:20261130
LOCATION:Saturnring
BEGIN:VALARM
ACTION:DISPLAY
DESCRIPTION:Morgen: Abholung Gelber Sack
TRIGGER:-PT7H
END:VALARM
END:VEVENT
BEGIN:VEVENT
UID:8dee6b6676056d07a85977515d81812a
DTSTAMP:20260420T095548Z
SUMMARY:Abholung Gelber Sack
DESCRIPTION:Alle Abholtermine auf abfallkalender.enni.de/abholtermine/satur
 nring
URL:https://abfallkalender.enni.de/abholtermine/saturnring
DTSTART;VALUE=DATE:20261214
LOCATION:Saturnring
BEGIN:VALARM
ACTION:DISPLAY
DESCRIPTION:Morgen: Abholung Gelber Sack
TRIGGER:-PT7H
END:VALARM
END:VEVENT
BEGIN:VEVENT
UID:62d29d98be0ec34ddc194efcc450b699
DTSTAMP:20260420T095548Z
SUMMARY:Abholung Gelber Sack
DESCRIPTION:Alle Abholtermine auf abfallkalender.enni.de/abholtermine/satur
 nring
URL:https://abfallkalender.enni.de/abholtermine/saturnring
DTSTART;VALUE=DATE:20261228
LOCATION:Saturnring
BEGIN:VALARM
ACTION:DISPLAY
DESCRIPTION:Morgen: Abholung Gelber Sack
TRIGGER:-PT7H
END:VALARM
END:VEVENT
BEGIN:VEVENT
UID:d28d84b95b4ec9dd7c1f1cce7a3d32f0
DTSTAMP:20260420T095548Z
SUMMARY:Abholung Biotonne
DESCRIPTION:Alle Abholtermine auf abfallkalender.enni.de/abholtermine/satur
 nring
URL:https://abfallkalender.enni.de/abholtermine/saturnring
DTSTART;VALUE=DATE:20260422
LOCATION:Saturnring
BEGIN:VALARM
ACTION:DISPLAY
DESCRIPTION:Morgen: Abholung Biotonne
TRIGGER:-PT7H
END:VALARM
END:VEVENT
BEGIN:VEVENT
UID:c0dbd9d8697a5d2825918561e0861590
DTSTAMP:20260420T095548Z
SUMMARY:Abholung Biotonne
DESCRIPTION:Alle Abholtermine auf abfallkalender.enni.de/abholtermine/satur
 nring
URL:https://abfallkalender.enni.de/abholtermine/saturnring
DTSTART;VALUE=DATE:20260506
LOCATION:Saturnring
BEGIN:VALARM
ACTION:DISPLAY
DESCRIPTION:Morgen: Abholung Biotonne
TRIGGER:-PT7H
END:VALARM
END:VEVENT
BEGIN:VEVENT
UID:69f469d1f3d29bd81549123d54f2b644
DTSTAMP:20260420T095548Z
SUMMARY:Abholung Biotonne
DESCRIPTION:Alle Abholtermine auf abfallkalender.enni.de/abholtermine/satur
 nring
URL:https://abfallkalender.enni.de/abholtermine/saturnring
DTSTART;VALUE=DATE:20260520
LOCATION:Saturnring
BEGIN:VALARM
ACTION:DISPLAY
DESCRIPTION:Morgen: Abholung Biotonne
TRIGGER:-PT7H
END:VALARM
END:VEVENT
BEGIN:VEVENT
UID:820aa55c769342ffeff88d9641f6d02e
DTSTAMP:20260420T095548Z
SUMMARY:Abholung Biotonne
DESCRIPTION:Alle Abholtermine auf abfallkalender.enni.de/abholtermine/satur
 nring
URL:https://abfallkalender.enni.de/abholtermine/saturnring
DTSTART;VALUE=DATE:20260603
LOCATION:Saturnring
BEGIN:VALARM
ACTION:DISPLAY
DESCRIPTION:Morgen: Abholung Biotonne
TRIGGER:-PT7H
END:VALARM
END:VEVENT
BEGIN:VEVENT
UID:cb15a69cd86e8870be4f9a474d27213f
DTSTAMP:20260420T095548Z
SUMMARY:Abholung Biotonne
DESCRIPTION:Alle Abholtermine auf abfallkalender.enni.de/abholtermine/satur
 nring
URL:https://abfallkalender.enni.de/abholtermine/saturnring
DTSTART;VALUE=DATE:20260617
LOCATION:Saturnring
BEGIN:VALARM
ACTION:DISPLAY
DESCRIPTION:Morgen: Abholung Biotonne
TRIGGER:-PT7H
END:VALARM
END:VEVENT
BEGIN:VEVENT
UID:5cc9a2a03ebaa262d14c8d4c58d6af2b
DTSTAMP:20260420T095548Z
SUMMARY:Abholung Biotonne
DESCRIPTION:Alle Abholtermine auf abfallkalender.enni.de/abholtermine/satur
 nring
URL:https://abfallkalender.enni.de/abholtermine/saturnring
DTSTART;VALUE=DATE:20260701
LOCATION:Saturnring
BEGIN:VALARM
ACTION:DISPLAY
DESCRIPTION:Morgen: Abholung Biotonne
TRIGGER:-PT7H
END:VALARM
END:VEVENT
BEGIN:VEVENT
UID:203b04ceee0b529a0910ea1ed6865b58
DTSTAMP:20260420T095548Z
SUMMARY:Abholung Biotonne
DESCRIPTION:Alle Abholtermine auf abfallkalender.enni.de/abholtermine/satur
 nring
URL:https://abfallkalender.enni.de/abholtermine/saturnring
DTSTART;VALUE=DATE:20260715
LOCATION:Saturnring
BEGIN:VALARM
ACTION:DISPLAY
DESCRIPTION:Morgen: Abholung Biotonne
TRIGGER:-PT7H
END:VALARM
END:VEVENT
BEGIN:VEVENT
UID:1533359ece6f0083d27c00456858744f
DTSTAMP:20260420T095548Z
SUMMARY:Abholung Biotonne
DESCRIPTION:Alle Abholtermine auf abfallkalender.enni.de/abholtermine/satur
 nring
URL:https://abfallkalender.enni.de/abholtermine/saturnring
DTSTART;VALUE=DATE:20260729
LOCATION:Saturnring
BEGIN:VALARM
ACTION:DISPLAY
DESCRIPTION:Morgen: Abholung Biotonne
TRIGGER:-PT7H
END:VALARM
END:VEVENT
BEGIN:VEVENT
UID:396ec39fc2ce81a5ac6f0d8f871f7952
DTSTAMP:20260420T095548Z
SUMMARY:Abholung Biotonne
DESCRIPTION:Alle Abholtermine auf abfallkalender.enni.de/abholtermine/satur
 nring
URL:https://abfallkalender.enni.de/abholtermine/saturnring
DTSTART;VALUE=DATE:20260812
LOCATION:Saturnring
BEGIN:VALARM
ACTION:DISPLAY
DESCRIPTION:Morgen: Abholung Biotonne
TRIGGER:-PT7H
END:VALARM
END:VEVENT
BEGIN:VEVENT
UID:5eaea432c418085b1891696c82b1f37a
DTSTAMP:20260420T095548Z
SUMMARY:Abholung Biotonne
DESCRIPTION:Alle Abholtermine auf abfallkalender.enni.de/abholtermine/satur
 nring
URL:https://abfallkalender.enni.de/abholtermine/saturnring
DTSTART;VALUE=DATE:20260826
LOCATION:Saturnring
BEGIN:VALARM
ACTION:DISPLAY
DESCRIPTION:Morgen: Abholung Biotonne
TRIGGER:-PT7H
END:VALARM
END:VEVENT
BEGIN:VEVENT
UID:3ce6575283ab7a7fb1fa68ab2cd9e538
DTSTAMP:20260420T095548Z
SUMMARY:Abholung Biotonne
DESCRIPTION:Alle Abholtermine auf abfallkalender.enni.de/abholtermine/satur
 nring
URL:https://abfallkalender.enni.de/abholtermine/saturnring
DTSTART;VALUE=DATE:20260909
LOCATION:Saturnring
BEGIN:VALARM
ACTION:DISPLAY
DESCRIPTION:Morgen: Abholung Biotonne
TRIGGER:-PT7H
END:VALARM
END:VEVENT
BEGIN:VEVENT
UID:13ccb08c655fe0c74f7b82d3ad3ea946
DTSTAMP:20260420T095548Z
SUMMARY:Abholung Biotonne
DESCRIPTION:Alle Abholtermine auf abfallkalender.enni.de/abholtermine/satur
 nring
URL:https://abfallkalender.enni.de/abholtermine/saturnring
DTSTART;VALUE=DATE:20260923
LOCATION:Saturnring
BEGIN:VALARM
ACTION:DISPLAY
DESCRIPTION:Morgen: Abholung Biotonne
TRIGGER:-PT7H
END:VALARM
END:VEVENT
BEGIN:VEVENT
UID:7a6cbf7449a85e70ef349f672ea2c87c
DTSTAMP:20260420T095548Z
SUMMARY:Abholung Biotonne
DESCRIPTION:Alle Abholtermine auf abfallkalender.enni.de/abholtermine/satur
 nring
URL:https://abfallkalender.enni.de/abholtermine/saturnring
DTSTART;VALUE=DATE:20261007
LOCATION:Saturnring
BEGIN:VALARM
ACTION:DISPLAY
DESCRIPTION:Morgen: Abholung Biotonne
TRIGGER:-PT7H
END:VALARM
END:VEVENT
BEGIN:VEVENT
UID:388a46714d7faa26e62812cc511e5771
DTSTAMP:20260420T095548Z
SUMMARY:Abholung Biotonne
DESCRIPTION:Alle Abholtermine auf abfallkalender.enni.de/abholtermine/satur
 nring
URL:https://abfallkalender.enni.de/abholtermine/saturnring
DTSTART;VALUE=DATE:20261021
LOCATION:Saturnring
BEGIN:VALARM
ACTION:DISPLAY
DESCRIPTION:Morgen: Abholung Biotonne
TRIGGER:-PT7H
END:VALARM
END:VEVENT
BEGIN:VEVENT
UID:224a1df3231bfe25592070f669e9a57b
DTSTAMP:20260420T095548Z
SUMMARY:Abholung Biotonne
DESCRIPTION:Alle Abholtermine auf abfallkalender.enni.de/abholtermine/satur
 nring
URL:https://abfallkalender.enni.de/abholtermine/saturnring
DTSTART;VALUE=DATE:20261104
LOCATION:Saturnring
BEGIN:VALARM
ACTION:DISPLAY
DESCRIPTION:Morgen: Abholung Biotonne
TRIGGER:-PT7H
END:VALARM
END:VEVENT
BEGIN:VEVENT
UID:d7912e33f3ee9ec499f79223ce0ddf5f
DTSTAMP:20260420T095548Z
SUMMARY:Abholung Biotonne
DESCRIPTION:Alle Abholtermine auf abfallkalender.enni.de/abholtermine/satur
 nring
URL:https://abfallkalender.enni.de/abholtermine/saturnring
DTSTART;VALUE=DATE:20261118
LOCATION:Saturnring
BEGIN:VALARM
ACTION:DISPLAY
DESCRIPTION:Morgen: Abholung Biotonne
TRIGGER:-PT7H
END:VALARM
END:VEVENT
BEGIN:VEVENT
UID:27e4c19277f9c80447a7e207924f6974
DTSTAMP:20260420T095548Z
SUMMARY:Abholung Biotonne
DESCRIPTION:Alle Abholtermine auf abfallkalender.enni.de/abholtermine/satur
 nring
URL:https://abfallkalender.enni.de/abholtermine/saturnring
DTSTART;VALUE=DATE:20261202
LOCATION:Saturnring
BEGIN:VALARM
ACTION:DISPLAY
DESCRIPTION:Morgen: Abholung Biotonne
TRIGGER:-PT7H
END:VALARM
END:VEVENT
BEGIN:VEVENT
UID:b989ee95041c30da0a04aaea58142ee9
DTSTAMP:20260420T095548Z
SUMMARY:Abholung Biotonne
DESCRIPTION:Alle Abholtermine auf abfallkalender.enni.de/abholtermine/satur
 nring
URL:https://abfallkalender.enni.de/abholtermine/saturnring
DTSTART;VALUE=DATE:20261216
LOCATION:Saturnring
BEGIN:VALARM
ACTION:DISPLAY
DESCRIPTION:Morgen: Abholung Biotonne
TRIGGER:-PT7H
END:VALARM
END:VEVENT
BEGIN:VEVENT
UID:bcea02704d6e347a028164859746472d
DTSTAMP:20260420T095548Z
SUMMARY:Abholung Biotonne
DESCRIPTION:Alle Abholtermine auf abfallkalender.enni.de/abholtermine/satur
 nring
URL:https://abfallkalender.enni.de/abholtermine/saturnring
DTSTART;VALUE=DATE:20261230
LOCATION:Saturnring
BEGIN:VALARM
ACTION:DISPLAY
DESCRIPTION:Morgen: Abholung Biotonne
TRIGGER:-PT7H
END:VALARM
END:VEVENT
BEGIN:VEVENT
UID:456ed340785582d3103b021b841fdd1a
DTSTAMP:20260420T095548Z
SUMMARY:Abholung Grünschnitt
DESCRIPTION:Alle Abholtermine auf abfallkalender.enni.de/abholtermine/satur
 nring
URL:https://abfallkalender.enni.de/abholtermine/saturnring
DTSTART;VALUE=DATE:20261118
LOCATION:Saturnring
BEGIN:VALARM
ACTION:DISPLAY
DESCRIPTION:Morgen: Abholung Grünschnitt
TRIGGER:-PT7H
END:VALARM
END:VEVENT
END:VCALENDAR
