BEGIN:VCALENDAR
PRODID:-//eluceo/ical//2.0/EN
VERSION:2.0
CALSCALE:GREGORIAN
BEGIN:VEVENT
UID:38fb6fdd5e4afeccd83ef655e8dd1a3d
DTSTAMP:20260422T104712Z
SUMMARY:Abholung Restabfall
DESCRIPTION:Alle Abholtermine auf abfallkalender.enni.de/abholtermine/roeme
 rstrasse/1-3752-384
URL:https://abfallkalender.enni.de/abholtermine/roemerstrasse/1-3752-384
DTSTART;VALUE=DATE:20260427
LOCATION:Römerstraße
BEGIN:VALARM
ACTION:DISPLAY
DESCRIPTION:Morgen: Abholung Restabfall
TRIGGER:-PT7H
END:VALARM
END:VEVENT
BEGIN:VEVENT
UID:12cab769ac0637d62163f099725b7e74
DTSTAMP:20260422T104712Z
SUMMARY:Abholung Restabfall
DESCRIPTION:Alle Abholtermine auf abfallkalender.enni.de/abholtermine/roeme
 rstrasse/1-3752-384
URL:https://abfallkalender.enni.de/abholtermine/roemerstrasse/1-3752-384
DTSTART;VALUE=DATE:20260511
LOCATION:Römerstraße
BEGIN:VALARM
ACTION:DISPLAY
DESCRIPTION:Morgen: Abholung Restabfall
TRIGGER:-PT7H
END:VALARM
END:VEVENT
BEGIN:VEVENT
UID:5762e6633d5ce4ec8cfc73130524a543
DTSTAMP:20260422T104712Z
SUMMARY:Abholung Restabfall
DESCRIPTION:Alle Abholtermine auf abfallkalender.enni.de/abholtermine/roeme
 rstrasse/1-3752-384
URL:https://abfallkalender.enni.de/abholtermine/roemerstrasse/1-3752-384
DTSTART;VALUE=DATE:20260526
LOCATION:Römerstraße
BEGIN:VALARM
ACTION:DISPLAY
DESCRIPTION:Morgen: Abholung Restabfall
TRIGGER:-PT7H
END:VALARM
END:VEVENT
BEGIN:VEVENT
UID:33c343e59e731147c6fba04456668480
DTSTAMP:20260422T104712Z
SUMMARY:Abholung Restabfall
DESCRIPTION:Alle Abholtermine auf abfallkalender.enni.de/abholtermine/roeme
 rstrasse/1-3752-384
URL:https://abfallkalender.enni.de/abholtermine/roemerstrasse/1-3752-384
DTSTART;VALUE=DATE:20260608
LOCATION:Römerstraße
BEGIN:VALARM
ACTION:DISPLAY
DESCRIPTION:Morgen: Abholung Restabfall
TRIGGER:-PT7H
END:VALARM
END:VEVENT
BEGIN:VEVENT
UID:84462be58dfff46e5ddfaebc8d30bffa
DTSTAMP:20260422T104712Z
SUMMARY:Abholung Restabfall
DESCRIPTION:Alle Abholtermine auf abfallkalender.enni.de/abholtermine/roeme
 rstrasse/1-3752-384
URL:https://abfallkalender.enni.de/abholtermine/roemerstrasse/1-3752-384
DTSTART;VALUE=DATE:20260622
LOCATION:Römerstraße
BEGIN:VALARM
ACTION:DISPLAY
DESCRIPTION:Morgen: Abholung Restabfall
TRIGGER:-PT7H
END:VALARM
END:VEVENT
BEGIN:VEVENT
UID:018d6d1ff6e02babdd1d476989930956
DTSTAMP:20260422T104712Z
SUMMARY:Abholung Restabfall
DESCRIPTION:Alle Abholtermine auf abfallkalender.enni.de/abholtermine/roeme
 rstrasse/1-3752-384
URL:https://abfallkalender.enni.de/abholtermine/roemerstrasse/1-3752-384
DTSTART;VALUE=DATE:20260706
LOCATION:Römerstraße
BEGIN:VALARM
ACTION:DISPLAY
DESCRIPTION:Morgen: Abholung Restabfall
TRIGGER:-PT7H
END:VALARM
END:VEVENT
BEGIN:VEVENT
UID:64e7e5f95fc37c81cb596ca488c03110
DTSTAMP:20260422T104712Z
SUMMARY:Abholung Restabfall
DESCRIPTION:Alle Abholtermine auf abfallkalender.enni.de/abholtermine/roeme
 rstrasse/1-3752-384
URL:https://abfallkalender.enni.de/abholtermine/roemerstrasse/1-3752-384
DTSTART;VALUE=DATE:20260720
LOCATION:Römerstraße
BEGIN:VALARM
ACTION:DISPLAY
DESCRIPTION:Morgen: Abholung Restabfall
TRIGGER:-PT7H
END:VALARM
END:VEVENT
BEGIN:VEVENT
UID:d7da7986fda1798001ba6d66ff73b96c
DTSTAMP:20260422T104712Z
SUMMARY:Abholung Restabfall
DESCRIPTION:Alle Abholtermine auf abfallkalender.enni.de/abholtermine/roeme
 rstrasse/1-3752-384
URL:https://abfallkalender.enni.de/abholtermine/roemerstrasse/1-3752-384
DTSTART;VALUE=DATE:20260803
LOCATION:Römerstraße
BEGIN:VALARM
ACTION:DISPLAY
DESCRIPTION:Morgen: Abholung Restabfall
TRIGGER:-PT7H
END:VALARM
END:VEVENT
BEGIN:VEVENT
UID:391a4dba27a89c8bb9704ca6432b678a
DTSTAMP:20260422T104712Z
SUMMARY:Abholung Restabfall
DESCRIPTION:Alle Abholtermine auf abfallkalender.enni.de/abholtermine/roeme
 rstrasse/1-3752-384
URL:https://abfallkalender.enni.de/abholtermine/roemerstrasse/1-3752-384
DTSTART;VALUE=DATE:20260817
LOCATION:Römerstraße
BEGIN:VALARM
ACTION:DISPLAY
DESCRIPTION:Morgen: Abholung Restabfall
TRIGGER:-PT7H
END:VALARM
END:VEVENT
BEGIN:VEVENT
UID:b4f879de2f58eaf4da2029adb291e9f6
DTSTAMP:20260422T104712Z
SUMMARY:Abholung Restabfall
DESCRIPTION:Alle Abholtermine auf abfallkalender.enni.de/abholtermine/roeme
 rstrasse/1-3752-384
URL:https://abfallkalender.enni.de/abholtermine/roemerstrasse/1-3752-384
DTSTART;VALUE=DATE:20260831
LOCATION:Römerstraße
BEGIN:VALARM
ACTION:DISPLAY
DESCRIPTION:Morgen: Abholung Restabfall
TRIGGER:-PT7H
END:VALARM
END:VEVENT
BEGIN:VEVENT
UID:12f45660d804e5129aed4a1c7f95facd
DTSTAMP:20260422T104712Z
SUMMARY:Abholung Restabfall
DESCRIPTION:Alle Abholtermine auf abfallkalender.enni.de/abholtermine/roeme
 rstrasse/1-3752-384
URL:https://abfallkalender.enni.de/abholtermine/roemerstrasse/1-3752-384
DTSTART;VALUE=DATE:20260914
LOCATION:Römerstraße
BEGIN:VALARM
ACTION:DISPLAY
DESCRIPTION:Morgen: Abholung Restabfall
TRIGGER:-PT7H
END:VALARM
END:VEVENT
BEGIN:VEVENT
UID:7f54cec8379c5807409853b4d41b2c06
DTSTAMP:20260422T104712Z
SUMMARY:Abholung Restabfall
DESCRIPTION:Alle Abholtermine auf abfallkalender.enni.de/abholtermine/roeme
 rstrasse/1-3752-384
URL:https://abfallkalender.enni.de/abholtermine/roemerstrasse/1-3752-384
DTSTART;VALUE=DATE:20260928
LOCATION:Römerstraße
BEGIN:VALARM
ACTION:DISPLAY
DESCRIPTION:Morgen: Abholung Restabfall
TRIGGER:-PT7H
END:VALARM
END:VEVENT
BEGIN:VEVENT
UID:6e2ea1d76ef64ee1db3c549e09de5696
DTSTAMP:20260422T104712Z
SUMMARY:Abholung Restabfall
DESCRIPTION:Alle Abholtermine auf abfallkalender.enni.de/abholtermine/roeme
 rstrasse/1-3752-384
URL:https://abfallkalender.enni.de/abholtermine/roemerstrasse/1-3752-384
DTSTART;VALUE=DATE:20261012
LOCATION:Römerstraße
BEGIN:VALARM
ACTION:DISPLAY
DESCRIPTION:Morgen: Abholung Restabfall
TRIGGER:-PT7H
END:VALARM
END:VEVENT
BEGIN:VEVENT
UID:8a03ee8a99a473dfd92c75f93bae5aa9
DTSTAMP:20260422T104712Z
SUMMARY:Abholung Restabfall
DESCRIPTION:Alle Abholtermine auf abfallkalender.enni.de/abholtermine/roeme
 rstrasse/1-3752-384
URL:https://abfallkalender.enni.de/abholtermine/roemerstrasse/1-3752-384
DTSTART;VALUE=DATE:20261026
LOCATION:Römerstraße
BEGIN:VALARM
ACTION:DISPLAY
DESCRIPTION:Morgen: Abholung Restabfall
TRIGGER:-PT7H
END:VALARM
END:VEVENT
BEGIN:VEVENT
UID:f09b5becd41d1913f1098feb3cf24e44
DTSTAMP:20260422T104712Z
SUMMARY:Abholung Restabfall
DESCRIPTION:Alle Abholtermine auf abfallkalender.enni.de/abholtermine/roeme
 rstrasse/1-3752-384
URL:https://abfallkalender.enni.de/abholtermine/roemerstrasse/1-3752-384
DTSTART;VALUE=DATE:20261109
LOCATION:Römerstraße
BEGIN:VALARM
ACTION:DISPLAY
DESCRIPTION:Morgen: Abholung Restabfall
TRIGGER:-PT7H
END:VALARM
END:VEVENT
BEGIN:VEVENT
UID:473e8f51f11e9003fd253d49bc92029a
DTSTAMP:20260422T104712Z
SUMMARY:Abholung Restabfall
DESCRIPTION:Alle Abholtermine auf abfallkalender.enni.de/abholtermine/roeme
 rstrasse/1-3752-384
URL:https://abfallkalender.enni.de/abholtermine/roemerstrasse/1-3752-384
DTSTART;VALUE=DATE:20261123
LOCATION:Römerstraße
BEGIN:VALARM
ACTION:DISPLAY
DESCRIPTION:Morgen: Abholung Restabfall
TRIGGER:-PT7H
END:VALARM
END:VEVENT
BEGIN:VEVENT
UID:469d519f153811caef2aca9e49c41863
DTSTAMP:20260422T104712Z
SUMMARY:Abholung Restabfall
DESCRIPTION:Alle Abholtermine auf abfallkalender.enni.de/abholtermine/roeme
 rstrasse/1-3752-384
URL:https://abfallkalender.enni.de/abholtermine/roemerstrasse/1-3752-384
DTSTART;VALUE=DATE:20261207
LOCATION:Römerstraße
BEGIN:VALARM
ACTION:DISPLAY
DESCRIPTION:Morgen: Abholung Restabfall
TRIGGER:-PT7H
END:VALARM
END:VEVENT
BEGIN:VEVENT
UID:27ee0edb311a5dfeaaf931ca8453a251
DTSTAMP:20260422T104712Z
SUMMARY:Abholung Restabfall
DESCRIPTION:Alle Abholtermine auf abfallkalender.enni.de/abholtermine/roeme
 rstrasse/1-3752-384
URL:https://abfallkalender.enni.de/abholtermine/roemerstrasse/1-3752-384
DTSTART;VALUE=DATE:20261219
LOCATION:Römerstraße
BEGIN:VALARM
ACTION:DISPLAY
DESCRIPTION:Morgen: Abholung Restabfall
TRIGGER:-PT7H
END:VALARM
END:VEVENT
BEGIN:VEVENT
UID:cd6b6e166ba5d643bbab4e28dd4433f5
DTSTAMP:20260422T104712Z
SUMMARY:Abholung Papier
DESCRIPTION:Alle Abholtermine auf abfallkalender.enni.de/abholtermine/roeme
 rstrasse/1-3752-384
URL:https://abfallkalender.enni.de/abholtermine/roemerstrasse/1-3752-384
DTSTART;VALUE=DATE:20260518
LOCATION:Römerstraße
BEGIN:VALARM
ACTION:DISPLAY
DESCRIPTION:Morgen: Abholung Papier
TRIGGER:-PT7H
END:VALARM
END:VEVENT
BEGIN:VEVENT
UID:624af71713a521f8287f6d0073a12d47
DTSTAMP:20260422T104712Z
SUMMARY:Abholung Papier
DESCRIPTION:Alle Abholtermine auf abfallkalender.enni.de/abholtermine/roeme
 rstrasse/1-3752-384
URL:https://abfallkalender.enni.de/abholtermine/roemerstrasse/1-3752-384
DTSTART;VALUE=DATE:20260615
LOCATION:Römerstraße
BEGIN:VALARM
ACTION:DISPLAY
DESCRIPTION:Morgen: Abholung Papier
TRIGGER:-PT7H
END:VALARM
END:VEVENT
BEGIN:VEVENT
UID:1c942117225deee78e7d060ae8fa3040
DTSTAMP:20260422T104712Z
SUMMARY:Abholung Papier
DESCRIPTION:Alle Abholtermine auf abfallkalender.enni.de/abholtermine/roeme
 rstrasse/1-3752-384
URL:https://abfallkalender.enni.de/abholtermine/roemerstrasse/1-3752-384
DTSTART;VALUE=DATE:20260713
LOCATION:Römerstraße
BEGIN:VALARM
ACTION:DISPLAY
DESCRIPTION:Morgen: Abholung Papier
TRIGGER:-PT7H
END:VALARM
END:VEVENT
BEGIN:VEVENT
UID:bc48003a16ab7b7f27b13f86620949f5
DTSTAMP:20260422T104712Z
SUMMARY:Abholung Papier
DESCRIPTION:Alle Abholtermine auf abfallkalender.enni.de/abholtermine/roeme
 rstrasse/1-3752-384
URL:https://abfallkalender.enni.de/abholtermine/roemerstrasse/1-3752-384
DTSTART;VALUE=DATE:20260810
LOCATION:Römerstraße
BEGIN:VALARM
ACTION:DISPLAY
DESCRIPTION:Morgen: Abholung Papier
TRIGGER:-PT7H
END:VALARM
END:VEVENT
BEGIN:VEVENT
UID:1d05f5b186fa48d260f9aadab2d1c221
DTSTAMP:20260422T104712Z
SUMMARY:Abholung Papier
DESCRIPTION:Alle Abholtermine auf abfallkalender.enni.de/abholtermine/roeme
 rstrasse/1-3752-384
URL:https://abfallkalender.enni.de/abholtermine/roemerstrasse/1-3752-384
DTSTART;VALUE=DATE:20260907
LOCATION:Römerstraße
BEGIN:VALARM
ACTION:DISPLAY
DESCRIPTION:Morgen: Abholung Papier
TRIGGER:-PT7H
END:VALARM
END:VEVENT
BEGIN:VEVENT
UID:6c47f7cbc979ca7bf3ca7712edb78114
DTSTAMP:20260422T104712Z
SUMMARY:Abholung Papier
DESCRIPTION:Alle Abholtermine auf abfallkalender.enni.de/abholtermine/roeme
 rstrasse/1-3752-384
URL:https://abfallkalender.enni.de/abholtermine/roemerstrasse/1-3752-384
DTSTART;VALUE=DATE:20261005
LOCATION:Römerstraße
BEGIN:VALARM
ACTION:DISPLAY
DESCRIPTION:Morgen: Abholung Papier
TRIGGER:-PT7H
END:VALARM
END:VEVENT
BEGIN:VEVENT
UID:e6758e4d506cd6dc1f3311b38e311409
DTSTAMP:20260422T104712Z
SUMMARY:Abholung Papier
DESCRIPTION:Alle Abholtermine auf abfallkalender.enni.de/abholtermine/roeme
 rstrasse/1-3752-384
URL:https://abfallkalender.enni.de/abholtermine/roemerstrasse/1-3752-384
DTSTART;VALUE=DATE:20261102
LOCATION:Römerstraße
BEGIN:VALARM
ACTION:DISPLAY
DESCRIPTION:Morgen: Abholung Papier
TRIGGER:-PT7H
END:VALARM
END:VEVENT
BEGIN:VEVENT
UID:b3a7d35a08c8f63259825a4177aee9e4
DTSTAMP:20260422T104712Z
SUMMARY:Abholung Papier
DESCRIPTION:Alle Abholtermine auf abfallkalender.enni.de/abholtermine/roeme
 rstrasse/1-3752-384
URL:https://abfallkalender.enni.de/abholtermine/roemerstrasse/1-3752-384
DTSTART;VALUE=DATE:20261130
LOCATION:Römerstraße
BEGIN:VALARM
ACTION:DISPLAY
DESCRIPTION:Morgen: Abholung Papier
TRIGGER:-PT7H
END:VALARM
END:VEVENT
BEGIN:VEVENT
UID:969904307063c8d028240cfca998e578
DTSTAMP:20260422T104712Z
SUMMARY:Abholung Papier
DESCRIPTION:Alle Abholtermine auf abfallkalender.enni.de/abholtermine/roeme
 rstrasse/1-3752-384
URL:https://abfallkalender.enni.de/abholtermine/roemerstrasse/1-3752-384
DTSTART;VALUE=DATE:20261228
LOCATION:Römerstraße
BEGIN:VALARM
ACTION:DISPLAY
DESCRIPTION:Morgen: Abholung Papier
TRIGGER:-PT7H
END:VALARM
END:VEVENT
BEGIN:VEVENT
UID:a076035b2bbba36fc0d03bf121b60f4f
DTSTAMP:20260422T104712Z
SUMMARY:Abholung Gelber Sack
DESCRIPTION:Alle Abholtermine auf abfallkalender.enni.de/abholtermine/roeme
 rstrasse/1-3752-384
URL:https://abfallkalender.enni.de/abholtermine/roemerstrasse/1-3752-384
DTSTART;VALUE=DATE:20260422
LOCATION:Römerstraße
BEGIN:VALARM
ACTION:DISPLAY
DESCRIPTION:Morgen: Abholung Gelber Sack
TRIGGER:-PT7H
END:VALARM
END:VEVENT
BEGIN:VEVENT
UID:e9f30a3e1080b33c475bfce228eda83d
DTSTAMP:20260422T104712Z
SUMMARY:Abholung Gelber Sack
DESCRIPTION:Alle Abholtermine auf abfallkalender.enni.de/abholtermine/roeme
 rstrasse/1-3752-384
URL:https://abfallkalender.enni.de/abholtermine/roemerstrasse/1-3752-384
DTSTART;VALUE=DATE:20260506
LOCATION:Römerstraße
BEGIN:VALARM
ACTION:DISPLAY
DESCRIPTION:Morgen: Abholung Gelber Sack
TRIGGER:-PT7H
END:VALARM
END:VEVENT
BEGIN:VEVENT
UID:2c75a412d5f88170a9c390525714f976
DTSTAMP:20260422T104712Z
SUMMARY:Abholung Gelber Sack
DESCRIPTION:Alle Abholtermine auf abfallkalender.enni.de/abholtermine/roeme
 rstrasse/1-3752-384
URL:https://abfallkalender.enni.de/abholtermine/roemerstrasse/1-3752-384
DTSTART;VALUE=DATE:20260520
LOCATION:Römerstraße
BEGIN:VALARM
ACTION:DISPLAY
DESCRIPTION:Morgen: Abholung Gelber Sack
TRIGGER:-PT7H
END:VALARM
END:VEVENT
BEGIN:VEVENT
UID:0898b878b1670f24458b9f2dea4da5eb
DTSTAMP:20260422T104712Z
SUMMARY:Abholung Gelber Sack
DESCRIPTION:Alle Abholtermine auf abfallkalender.enni.de/abholtermine/roeme
 rstrasse/1-3752-384
URL:https://abfallkalender.enni.de/abholtermine/roemerstrasse/1-3752-384
DTSTART;VALUE=DATE:20260603
LOCATION:Römerstraße
BEGIN:VALARM
ACTION:DISPLAY
DESCRIPTION:Morgen: Abholung Gelber Sack
TRIGGER:-PT7H
END:VALARM
END:VEVENT
BEGIN:VEVENT
UID:dbc328bf38003fd09d33402eebc68d90
DTSTAMP:20260422T104712Z
SUMMARY:Abholung Gelber Sack
DESCRIPTION:Alle Abholtermine auf abfallkalender.enni.de/abholtermine/roeme
 rstrasse/1-3752-384
URL:https://abfallkalender.enni.de/abholtermine/roemerstrasse/1-3752-384
DTSTART;VALUE=DATE:20260617
LOCATION:Römerstraße
BEGIN:VALARM
ACTION:DISPLAY
DESCRIPTION:Morgen: Abholung Gelber Sack
TRIGGER:-PT7H
END:VALARM
END:VEVENT
BEGIN:VEVENT
UID:155d1ae258c41ad25c8e5ec303d1eb24
DTSTAMP:20260422T104712Z
SUMMARY:Abholung Gelber Sack
DESCRIPTION:Alle Abholtermine auf abfallkalender.enni.de/abholtermine/roeme
 rstrasse/1-3752-384
URL:https://abfallkalender.enni.de/abholtermine/roemerstrasse/1-3752-384
DTSTART;VALUE=DATE:20260701
LOCATION:Römerstraße
BEGIN:VALARM
ACTION:DISPLAY
DESCRIPTION:Morgen: Abholung Gelber Sack
TRIGGER:-PT7H
END:VALARM
END:VEVENT
BEGIN:VEVENT
UID:9549c0d7c87d1a1ea075763833e67b87
DTSTAMP:20260422T104712Z
SUMMARY:Abholung Gelber Sack
DESCRIPTION:Alle Abholtermine auf abfallkalender.enni.de/abholtermine/roeme
 rstrasse/1-3752-384
URL:https://abfallkalender.enni.de/abholtermine/roemerstrasse/1-3752-384
DTSTART;VALUE=DATE:20260715
LOCATION:Römerstraße
BEGIN:VALARM
ACTION:DISPLAY
DESCRIPTION:Morgen: Abholung Gelber Sack
TRIGGER:-PT7H
END:VALARM
END:VEVENT
BEGIN:VEVENT
UID:604927411a9c9d048210fea5ffc393c5
DTSTAMP:20260422T104712Z
SUMMARY:Abholung Gelber Sack
DESCRIPTION:Alle Abholtermine auf abfallkalender.enni.de/abholtermine/roeme
 rstrasse/1-3752-384
URL:https://abfallkalender.enni.de/abholtermine/roemerstrasse/1-3752-384
DTSTART;VALUE=DATE:20260729
LOCATION:Römerstraße
BEGIN:VALARM
ACTION:DISPLAY
DESCRIPTION:Morgen: Abholung Gelber Sack
TRIGGER:-PT7H
END:VALARM
END:VEVENT
BEGIN:VEVENT
UID:3c9874c57ab73e2ca29a264709857828
DTSTAMP:20260422T104712Z
SUMMARY:Abholung Gelber Sack
DESCRIPTION:Alle Abholtermine auf abfallkalender.enni.de/abholtermine/roeme
 rstrasse/1-3752-384
URL:https://abfallkalender.enni.de/abholtermine/roemerstrasse/1-3752-384
DTSTART;VALUE=DATE:20260812
LOCATION:Römerstraße
BEGIN:VALARM
ACTION:DISPLAY
DESCRIPTION:Morgen: Abholung Gelber Sack
TRIGGER:-PT7H
END:VALARM
END:VEVENT
BEGIN:VEVENT
UID:066675098073dc342bd04161e260ef73
DTSTAMP:20260422T104712Z
SUMMARY:Abholung Gelber Sack
DESCRIPTION:Alle Abholtermine auf abfallkalender.enni.de/abholtermine/roeme
 rstrasse/1-3752-384
URL:https://abfallkalender.enni.de/abholtermine/roemerstrasse/1-3752-384
DTSTART;VALUE=DATE:20260826
LOCATION:Römerstraße
BEGIN:VALARM
ACTION:DISPLAY
DESCRIPTION:Morgen: Abholung Gelber Sack
TRIGGER:-PT7H
END:VALARM
END:VEVENT
BEGIN:VEVENT
UID:7910c0462427077dcfd3bd82971dddc6
DTSTAMP:20260422T104712Z
SUMMARY:Abholung Gelber Sack
DESCRIPTION:Alle Abholtermine auf abfallkalender.enni.de/abholtermine/roeme
 rstrasse/1-3752-384
URL:https://abfallkalender.enni.de/abholtermine/roemerstrasse/1-3752-384
DTSTART;VALUE=DATE:20260909
LOCATION:Römerstraße
BEGIN:VALARM
ACTION:DISPLAY
DESCRIPTION:Morgen: Abholung Gelber Sack
TRIGGER:-PT7H
END:VALARM
END:VEVENT
BEGIN:VEVENT
UID:cfa9d00ca27e51c7f65fc6aeb5f8de07
DTSTAMP:20260422T104712Z
SUMMARY:Abholung Gelber Sack
DESCRIPTION:Alle Abholtermine auf abfallkalender.enni.de/abholtermine/roeme
 rstrasse/1-3752-384
URL:https://abfallkalender.enni.de/abholtermine/roemerstrasse/1-3752-384
DTSTART;VALUE=DATE:20260923
LOCATION:Römerstraße
BEGIN:VALARM
ACTION:DISPLAY
DESCRIPTION:Morgen: Abholung Gelber Sack
TRIGGER:-PT7H
END:VALARM
END:VEVENT
BEGIN:VEVENT
UID:4c4eecdba7b6dcdc161fa590a3693a52
DTSTAMP:20260422T104712Z
SUMMARY:Abholung Gelber Sack
DESCRIPTION:Alle Abholtermine auf abfallkalender.enni.de/abholtermine/roeme
 rstrasse/1-3752-384
URL:https://abfallkalender.enni.de/abholtermine/roemerstrasse/1-3752-384
DTSTART;VALUE=DATE:20261007
LOCATION:Römerstraße
BEGIN:VALARM
ACTION:DISPLAY
DESCRIPTION:Morgen: Abholung Gelber Sack
TRIGGER:-PT7H
END:VALARM
END:VEVENT
BEGIN:VEVENT
UID:4069cd405a8008fd841d8b2957455353
DTSTAMP:20260422T104712Z
SUMMARY:Abholung Gelber Sack
DESCRIPTION:Alle Abholtermine auf abfallkalender.enni.de/abholtermine/roeme
 rstrasse/1-3752-384
URL:https://abfallkalender.enni.de/abholtermine/roemerstrasse/1-3752-384
DTSTART;VALUE=DATE:20261021
LOCATION:Römerstraße
BEGIN:VALARM
ACTION:DISPLAY
DESCRIPTION:Morgen: Abholung Gelber Sack
TRIGGER:-PT7H
END:VALARM
END:VEVENT
BEGIN:VEVENT
UID:feaa1813a21681af32245899d6b5f981
DTSTAMP:20260422T104712Z
SUMMARY:Abholung Gelber Sack
DESCRIPTION:Alle Abholtermine auf abfallkalender.enni.de/abholtermine/roeme
 rstrasse/1-3752-384
URL:https://abfallkalender.enni.de/abholtermine/roemerstrasse/1-3752-384
DTSTART;VALUE=DATE:20261104
LOCATION:Römerstraße
BEGIN:VALARM
ACTION:DISPLAY
DESCRIPTION:Morgen: Abholung Gelber Sack
TRIGGER:-PT7H
END:VALARM
END:VEVENT
BEGIN:VEVENT
UID:9b467d5d8a6539e3d57e49cba87e584e
DTSTAMP:20260422T104712Z
SUMMARY:Abholung Gelber Sack
DESCRIPTION:Alle Abholtermine auf abfallkalender.enni.de/abholtermine/roeme
 rstrasse/1-3752-384
URL:https://abfallkalender.enni.de/abholtermine/roemerstrasse/1-3752-384
DTSTART;VALUE=DATE:20261118
LOCATION:Römerstraße
BEGIN:VALARM
ACTION:DISPLAY
DESCRIPTION:Morgen: Abholung Gelber Sack
TRIGGER:-PT7H
END:VALARM
END:VEVENT
BEGIN:VEVENT
UID:7e232506f546d043ac55ad92db291d12
DTSTAMP:20260422T104712Z
SUMMARY:Abholung Gelber Sack
DESCRIPTION:Alle Abholtermine auf abfallkalender.enni.de/abholtermine/roeme
 rstrasse/1-3752-384
URL:https://abfallkalender.enni.de/abholtermine/roemerstrasse/1-3752-384
DTSTART;VALUE=DATE:20261202
LOCATION:Römerstraße
BEGIN:VALARM
ACTION:DISPLAY
DESCRIPTION:Morgen: Abholung Gelber Sack
TRIGGER:-PT7H
END:VALARM
END:VEVENT
BEGIN:VEVENT
UID:0a341a3501ca4541234d8126ee8723c4
DTSTAMP:20260422T104712Z
SUMMARY:Abholung Gelber Sack
DESCRIPTION:Alle Abholtermine auf abfallkalender.enni.de/abholtermine/roeme
 rstrasse/1-3752-384
URL:https://abfallkalender.enni.de/abholtermine/roemerstrasse/1-3752-384
DTSTART;VALUE=DATE:20261216
LOCATION:Römerstraße
BEGIN:VALARM
ACTION:DISPLAY
DESCRIPTION:Morgen: Abholung Gelber Sack
TRIGGER:-PT7H
END:VALARM
END:VEVENT
BEGIN:VEVENT
UID:bcc00eebf99d84257c1795d77efa1e0e
DTSTAMP:20260422T104712Z
SUMMARY:Abholung Gelber Sack
DESCRIPTION:Alle Abholtermine auf abfallkalender.enni.de/abholtermine/roeme
 rstrasse/1-3752-384
URL:https://abfallkalender.enni.de/abholtermine/roemerstrasse/1-3752-384
DTSTART;VALUE=DATE:20261230
LOCATION:Römerstraße
BEGIN:VALARM
ACTION:DISPLAY
DESCRIPTION:Morgen: Abholung Gelber Sack
TRIGGER:-PT7H
END:VALARM
END:VEVENT
BEGIN:VEVENT
UID:bbd6e2f398220841b37d6388b94e4e0b
DTSTAMP:20260422T104712Z
SUMMARY:Abholung Biotonne
DESCRIPTION:Alle Abholtermine auf abfallkalender.enni.de/abholtermine/roeme
 rstrasse/1-3752-384
URL:https://abfallkalender.enni.de/abholtermine/roemerstrasse/1-3752-384
DTSTART;VALUE=DATE:20260502
LOCATION:Römerstraße
BEGIN:VALARM
ACTION:DISPLAY
DESCRIPTION:Morgen: Abholung Biotonne
TRIGGER:-PT7H
END:VALARM
END:VEVENT
BEGIN:VEVENT
UID:4c89e2179e813a956fae70d40f576a78
DTSTAMP:20260422T104712Z
SUMMARY:Abholung Biotonne
DESCRIPTION:Alle Abholtermine auf abfallkalender.enni.de/abholtermine/roeme
 rstrasse/1-3752-384
URL:https://abfallkalender.enni.de/abholtermine/roemerstrasse/1-3752-384
DTSTART;VALUE=DATE:20260516
LOCATION:Römerstraße
BEGIN:VALARM
ACTION:DISPLAY
DESCRIPTION:Morgen: Abholung Biotonne
TRIGGER:-PT7H
END:VALARM
END:VEVENT
BEGIN:VEVENT
UID:30d2d667e05244361c2737ea4107ebf7
DTSTAMP:20260422T104712Z
SUMMARY:Abholung Biotonne
DESCRIPTION:Alle Abholtermine auf abfallkalender.enni.de/abholtermine/roeme
 rstrasse/1-3752-384
URL:https://abfallkalender.enni.de/abholtermine/roemerstrasse/1-3752-384
DTSTART;VALUE=DATE:20260530
LOCATION:Römerstraße
BEGIN:VALARM
ACTION:DISPLAY
DESCRIPTION:Morgen: Abholung Biotonne
TRIGGER:-PT7H
END:VALARM
END:VEVENT
BEGIN:VEVENT
UID:4f5622142b00d94a8af97d8721fb281f
DTSTAMP:20260422T104712Z
SUMMARY:Abholung Biotonne
DESCRIPTION:Alle Abholtermine auf abfallkalender.enni.de/abholtermine/roeme
 rstrasse/1-3752-384
URL:https://abfallkalender.enni.de/abholtermine/roemerstrasse/1-3752-384
DTSTART;VALUE=DATE:20260612
LOCATION:Römerstraße
BEGIN:VALARM
ACTION:DISPLAY
DESCRIPTION:Morgen: Abholung Biotonne
TRIGGER:-PT7H
END:VALARM
END:VEVENT
BEGIN:VEVENT
UID:be2b422c3a592de907633ddf31db86da
DTSTAMP:20260422T104712Z
SUMMARY:Abholung Biotonne
DESCRIPTION:Alle Abholtermine auf abfallkalender.enni.de/abholtermine/roeme
 rstrasse/1-3752-384
URL:https://abfallkalender.enni.de/abholtermine/roemerstrasse/1-3752-384
DTSTART;VALUE=DATE:20260626
LOCATION:Römerstraße
BEGIN:VALARM
ACTION:DISPLAY
DESCRIPTION:Morgen: Abholung Biotonne
TRIGGER:-PT7H
END:VALARM
END:VEVENT
BEGIN:VEVENT
UID:319083f275b693d74ec3a685ba1ec567
DTSTAMP:20260422T104712Z
SUMMARY:Abholung Biotonne
DESCRIPTION:Alle Abholtermine auf abfallkalender.enni.de/abholtermine/roeme
 rstrasse/1-3752-384
URL:https://abfallkalender.enni.de/abholtermine/roemerstrasse/1-3752-384
DTSTART;VALUE=DATE:20260710
LOCATION:Römerstraße
BEGIN:VALARM
ACTION:DISPLAY
DESCRIPTION:Morgen: Abholung Biotonne
TRIGGER:-PT7H
END:VALARM
END:VEVENT
BEGIN:VEVENT
UID:f84e9f3f16e793da4e674d9d21800761
DTSTAMP:20260422T104712Z
SUMMARY:Abholung Biotonne
DESCRIPTION:Alle Abholtermine auf abfallkalender.enni.de/abholtermine/roeme
 rstrasse/1-3752-384
URL:https://abfallkalender.enni.de/abholtermine/roemerstrasse/1-3752-384
DTSTART;VALUE=DATE:20260724
LOCATION:Römerstraße
BEGIN:VALARM
ACTION:DISPLAY
DESCRIPTION:Morgen: Abholung Biotonne
TRIGGER:-PT7H
END:VALARM
END:VEVENT
BEGIN:VEVENT
UID:0201ca1a28563b745a8d152d9510a816
DTSTAMP:20260422T104712Z
SUMMARY:Abholung Biotonne
DESCRIPTION:Alle Abholtermine auf abfallkalender.enni.de/abholtermine/roeme
 rstrasse/1-3752-384
URL:https://abfallkalender.enni.de/abholtermine/roemerstrasse/1-3752-384
DTSTART;VALUE=DATE:20260807
LOCATION:Römerstraße
BEGIN:VALARM
ACTION:DISPLAY
DESCRIPTION:Morgen: Abholung Biotonne
TRIGGER:-PT7H
END:VALARM
END:VEVENT
BEGIN:VEVENT
UID:7c8cf2bd967a69030bd316ca095b3862
DTSTAMP:20260422T104712Z
SUMMARY:Abholung Biotonne
DESCRIPTION:Alle Abholtermine auf abfallkalender.enni.de/abholtermine/roeme
 rstrasse/1-3752-384
URL:https://abfallkalender.enni.de/abholtermine/roemerstrasse/1-3752-384
DTSTART;VALUE=DATE:20260821
LOCATION:Römerstraße
BEGIN:VALARM
ACTION:DISPLAY
DESCRIPTION:Morgen: Abholung Biotonne
TRIGGER:-PT7H
END:VALARM
END:VEVENT
BEGIN:VEVENT
UID:4c16a9afa6c90576e33abdc6b324355c
DTSTAMP:20260422T104712Z
SUMMARY:Abholung Biotonne
DESCRIPTION:Alle Abholtermine auf abfallkalender.enni.de/abholtermine/roeme
 rstrasse/1-3752-384
URL:https://abfallkalender.enni.de/abholtermine/roemerstrasse/1-3752-384
DTSTART;VALUE=DATE:20260904
LOCATION:Römerstraße
BEGIN:VALARM
ACTION:DISPLAY
DESCRIPTION:Morgen: Abholung Biotonne
TRIGGER:-PT7H
END:VALARM
END:VEVENT
BEGIN:VEVENT
UID:f25bc22ed01ed1e1e4e754ec8be088ba
DTSTAMP:20260422T104712Z
SUMMARY:Abholung Biotonne
DESCRIPTION:Alle Abholtermine auf abfallkalender.enni.de/abholtermine/roeme
 rstrasse/1-3752-384
URL:https://abfallkalender.enni.de/abholtermine/roemerstrasse/1-3752-384
DTSTART;VALUE=DATE:20260918
LOCATION:Römerstraße
BEGIN:VALARM
ACTION:DISPLAY
DESCRIPTION:Morgen: Abholung Biotonne
TRIGGER:-PT7H
END:VALARM
END:VEVENT
BEGIN:VEVENT
UID:3e1914f2d680a66af7bf70d13f0bafbe
DTSTAMP:20260422T104712Z
SUMMARY:Abholung Biotonne
DESCRIPTION:Alle Abholtermine auf abfallkalender.enni.de/abholtermine/roeme
 rstrasse/1-3752-384
URL:https://abfallkalender.enni.de/abholtermine/roemerstrasse/1-3752-384
DTSTART;VALUE=DATE:20261002
LOCATION:Römerstraße
BEGIN:VALARM
ACTION:DISPLAY
DESCRIPTION:Morgen: Abholung Biotonne
TRIGGER:-PT7H
END:VALARM
END:VEVENT
BEGIN:VEVENT
UID:4a482dbff5fba3486beed1bfc5c4f7f6
DTSTAMP:20260422T104712Z
SUMMARY:Abholung Biotonne
DESCRIPTION:Alle Abholtermine auf abfallkalender.enni.de/abholtermine/roeme
 rstrasse/1-3752-384
URL:https://abfallkalender.enni.de/abholtermine/roemerstrasse/1-3752-384
DTSTART;VALUE=DATE:20261016
LOCATION:Römerstraße
BEGIN:VALARM
ACTION:DISPLAY
DESCRIPTION:Morgen: Abholung Biotonne
TRIGGER:-PT7H
END:VALARM
END:VEVENT
BEGIN:VEVENT
UID:3c94cbbe28d64a1fbcb0d9197b2fe0ab
DTSTAMP:20260422T104712Z
SUMMARY:Abholung Biotonne
DESCRIPTION:Alle Abholtermine auf abfallkalender.enni.de/abholtermine/roeme
 rstrasse/1-3752-384
URL:https://abfallkalender.enni.de/abholtermine/roemerstrasse/1-3752-384
DTSTART;VALUE=DATE:20261030
LOCATION:Römerstraße
BEGIN:VALARM
ACTION:DISPLAY
DESCRIPTION:Morgen: Abholung Biotonne
TRIGGER:-PT7H
END:VALARM
END:VEVENT
BEGIN:VEVENT
UID:2f24e2cf65613a23f068900ee902b63b
DTSTAMP:20260422T104712Z
SUMMARY:Abholung Biotonne
DESCRIPTION:Alle Abholtermine auf abfallkalender.enni.de/abholtermine/roeme
 rstrasse/1-3752-384
URL:https://abfallkalender.enni.de/abholtermine/roemerstrasse/1-3752-384
DTSTART;VALUE=DATE:20261113
LOCATION:Römerstraße
BEGIN:VALARM
ACTION:DISPLAY
DESCRIPTION:Morgen: Abholung Biotonne
TRIGGER:-PT7H
END:VALARM
END:VEVENT
BEGIN:VEVENT
UID:411b7b7ad85da0e969009ab589f59d1c
DTSTAMP:20260422T104712Z
SUMMARY:Abholung Biotonne
DESCRIPTION:Alle Abholtermine auf abfallkalender.enni.de/abholtermine/roeme
 rstrasse/1-3752-384
URL:https://abfallkalender.enni.de/abholtermine/roemerstrasse/1-3752-384
DTSTART;VALUE=DATE:20261127
LOCATION:Römerstraße
BEGIN:VALARM
ACTION:DISPLAY
DESCRIPTION:Morgen: Abholung Biotonne
TRIGGER:-PT7H
END:VALARM
END:VEVENT
BEGIN:VEVENT
UID:1e982247309add4bed1fd5eccceea287
DTSTAMP:20260422T104712Z
SUMMARY:Abholung Biotonne
DESCRIPTION:Alle Abholtermine auf abfallkalender.enni.de/abholtermine/roeme
 rstrasse/1-3752-384
URL:https://abfallkalender.enni.de/abholtermine/roemerstrasse/1-3752-384
DTSTART;VALUE=DATE:20261211
LOCATION:Römerstraße
BEGIN:VALARM
ACTION:DISPLAY
DESCRIPTION:Morgen: Abholung Biotonne
TRIGGER:-PT7H
END:VALARM
END:VEVENT
BEGIN:VEVENT
UID:6f0a60373d5b36b8be6c1f956ffa452c
DTSTAMP:20260422T104712Z
SUMMARY:Abholung Biotonne
DESCRIPTION:Alle Abholtermine auf abfallkalender.enni.de/abholtermine/roeme
 rstrasse/1-3752-384
URL:https://abfallkalender.enni.de/abholtermine/roemerstrasse/1-3752-384
DTSTART;VALUE=DATE:20261224
LOCATION:Römerstraße
BEGIN:VALARM
ACTION:DISPLAY
DESCRIPTION:Morgen: Abholung Biotonne
TRIGGER:-PT7H
END:VALARM
END:VEVENT
BEGIN:VEVENT
UID:0a408378e08d52f8f4a84dce961cd26c
DTSTAMP:20260422T104712Z
SUMMARY:Abholung Grünschnitt
DESCRIPTION:Alle Abholtermine auf abfallkalender.enni.de/abholtermine/roeme
 rstrasse/1-3752-384
URL:https://abfallkalender.enni.de/abholtermine/roemerstrasse/1-3752-384
DTSTART;VALUE=DATE:20261113
LOCATION:Römerstraße
BEGIN:VALARM
ACTION:DISPLAY
DESCRIPTION:Morgen: Abholung Grünschnitt
TRIGGER:-PT7H
END:VALARM
END:VEVENT
END:VCALENDAR
