BEGIN:VCALENDAR
PRODID:-//eluceo/ical//2.0/EN
VERSION:2.0
CALSCALE:GREGORIAN
BEGIN:VEVENT
UID:8d47a396a399d734ae464924286d084c
DTSTAMP:20260420T133703Z
SUMMARY:Abholung Restabfall
DESCRIPTION:Alle Abholtermine auf abfallkalender.enni.de/abholtermine/rober
 t-koch-strasse
URL:https://abfallkalender.enni.de/abholtermine/robert-koch-strasse
DTSTART;VALUE=DATE:20260420
LOCATION:Robert-Koch-Straße
BEGIN:VALARM
ACTION:DISPLAY
DESCRIPTION:Morgen: Abholung Restabfall
TRIGGER:-PT7H
END:VALARM
END:VEVENT
BEGIN:VEVENT
UID:51ee4146de29d57475df771875661216
DTSTAMP:20260420T133703Z
SUMMARY:Abholung Restabfall
DESCRIPTION:Alle Abholtermine auf abfallkalender.enni.de/abholtermine/rober
 t-koch-strasse
URL:https://abfallkalender.enni.de/abholtermine/robert-koch-strasse
DTSTART;VALUE=DATE:20260504
LOCATION:Robert-Koch-Straße
BEGIN:VALARM
ACTION:DISPLAY
DESCRIPTION:Morgen: Abholung Restabfall
TRIGGER:-PT7H
END:VALARM
END:VEVENT
BEGIN:VEVENT
UID:0d90036922d93c1a7db71859dd9ccc04
DTSTAMP:20260420T133703Z
SUMMARY:Abholung Restabfall
DESCRIPTION:Alle Abholtermine auf abfallkalender.enni.de/abholtermine/rober
 t-koch-strasse
URL:https://abfallkalender.enni.de/abholtermine/robert-koch-strasse
DTSTART;VALUE=DATE:20260518
LOCATION:Robert-Koch-Straße
BEGIN:VALARM
ACTION:DISPLAY
DESCRIPTION:Morgen: Abholung Restabfall
TRIGGER:-PT7H
END:VALARM
END:VEVENT
BEGIN:VEVENT
UID:f1e215b5ea01321b9c4e650da9268b9e
DTSTAMP:20260420T133703Z
SUMMARY:Abholung Restabfall
DESCRIPTION:Alle Abholtermine auf abfallkalender.enni.de/abholtermine/rober
 t-koch-strasse
URL:https://abfallkalender.enni.de/abholtermine/robert-koch-strasse
DTSTART;VALUE=DATE:20260601
LOCATION:Robert-Koch-Straße
BEGIN:VALARM
ACTION:DISPLAY
DESCRIPTION:Morgen: Abholung Restabfall
TRIGGER:-PT7H
END:VALARM
END:VEVENT
BEGIN:VEVENT
UID:2f64463adc0e72af86951c02b4b2c74f
DTSTAMP:20260420T133703Z
SUMMARY:Abholung Restabfall
DESCRIPTION:Alle Abholtermine auf abfallkalender.enni.de/abholtermine/rober
 t-koch-strasse
URL:https://abfallkalender.enni.de/abholtermine/robert-koch-strasse
DTSTART;VALUE=DATE:20260615
LOCATION:Robert-Koch-Straße
BEGIN:VALARM
ACTION:DISPLAY
DESCRIPTION:Morgen: Abholung Restabfall
TRIGGER:-PT7H
END:VALARM
END:VEVENT
BEGIN:VEVENT
UID:3159dd52e52374f13fb917933a7cafe4
DTSTAMP:20260420T133703Z
SUMMARY:Abholung Restabfall
DESCRIPTION:Alle Abholtermine auf abfallkalender.enni.de/abholtermine/rober
 t-koch-strasse
URL:https://abfallkalender.enni.de/abholtermine/robert-koch-strasse
DTSTART;VALUE=DATE:20260629
LOCATION:Robert-Koch-Straße
BEGIN:VALARM
ACTION:DISPLAY
DESCRIPTION:Morgen: Abholung Restabfall
TRIGGER:-PT7H
END:VALARM
END:VEVENT
BEGIN:VEVENT
UID:dcef1029e76b3ea08328cb485c67076e
DTSTAMP:20260420T133703Z
SUMMARY:Abholung Restabfall
DESCRIPTION:Alle Abholtermine auf abfallkalender.enni.de/abholtermine/rober
 t-koch-strasse
URL:https://abfallkalender.enni.de/abholtermine/robert-koch-strasse
DTSTART;VALUE=DATE:20260713
LOCATION:Robert-Koch-Straße
BEGIN:VALARM
ACTION:DISPLAY
DESCRIPTION:Morgen: Abholung Restabfall
TRIGGER:-PT7H
END:VALARM
END:VEVENT
BEGIN:VEVENT
UID:35d27893ff03b2d58d8ddb4967bb9b12
DTSTAMP:20260420T133703Z
SUMMARY:Abholung Restabfall
DESCRIPTION:Alle Abholtermine auf abfallkalender.enni.de/abholtermine/rober
 t-koch-strasse
URL:https://abfallkalender.enni.de/abholtermine/robert-koch-strasse
DTSTART;VALUE=DATE:20260727
LOCATION:Robert-Koch-Straße
BEGIN:VALARM
ACTION:DISPLAY
DESCRIPTION:Morgen: Abholung Restabfall
TRIGGER:-PT7H
END:VALARM
END:VEVENT
BEGIN:VEVENT
UID:c7f5416054e5c24ada4572a5492349c2
DTSTAMP:20260420T133703Z
SUMMARY:Abholung Restabfall
DESCRIPTION:Alle Abholtermine auf abfallkalender.enni.de/abholtermine/rober
 t-koch-strasse
URL:https://abfallkalender.enni.de/abholtermine/robert-koch-strasse
DTSTART;VALUE=DATE:20260810
LOCATION:Robert-Koch-Straße
BEGIN:VALARM
ACTION:DISPLAY
DESCRIPTION:Morgen: Abholung Restabfall
TRIGGER:-PT7H
END:VALARM
END:VEVENT
BEGIN:VEVENT
UID:9dcd27739a2b0d51ba73230242ef6518
DTSTAMP:20260420T133703Z
SUMMARY:Abholung Restabfall
DESCRIPTION:Alle Abholtermine auf abfallkalender.enni.de/abholtermine/rober
 t-koch-strasse
URL:https://abfallkalender.enni.de/abholtermine/robert-koch-strasse
DTSTART;VALUE=DATE:20260824
LOCATION:Robert-Koch-Straße
BEGIN:VALARM
ACTION:DISPLAY
DESCRIPTION:Morgen: Abholung Restabfall
TRIGGER:-PT7H
END:VALARM
END:VEVENT
BEGIN:VEVENT
UID:1da1502ad8eba9347ec76ecd8526dff2
DTSTAMP:20260420T133703Z
SUMMARY:Abholung Restabfall
DESCRIPTION:Alle Abholtermine auf abfallkalender.enni.de/abholtermine/rober
 t-koch-strasse
URL:https://abfallkalender.enni.de/abholtermine/robert-koch-strasse
DTSTART;VALUE=DATE:20260907
LOCATION:Robert-Koch-Straße
BEGIN:VALARM
ACTION:DISPLAY
DESCRIPTION:Morgen: Abholung Restabfall
TRIGGER:-PT7H
END:VALARM
END:VEVENT
BEGIN:VEVENT
UID:394d012609b5cede155815050bd98a03
DTSTAMP:20260420T133703Z
SUMMARY:Abholung Restabfall
DESCRIPTION:Alle Abholtermine auf abfallkalender.enni.de/abholtermine/rober
 t-koch-strasse
URL:https://abfallkalender.enni.de/abholtermine/robert-koch-strasse
DTSTART;VALUE=DATE:20260921
LOCATION:Robert-Koch-Straße
BEGIN:VALARM
ACTION:DISPLAY
DESCRIPTION:Morgen: Abholung Restabfall
TRIGGER:-PT7H
END:VALARM
END:VEVENT
BEGIN:VEVENT
UID:69e707e9e9cfc08b66b50ee24bc28576
DTSTAMP:20260420T133703Z
SUMMARY:Abholung Restabfall
DESCRIPTION:Alle Abholtermine auf abfallkalender.enni.de/abholtermine/rober
 t-koch-strasse
URL:https://abfallkalender.enni.de/abholtermine/robert-koch-strasse
DTSTART;VALUE=DATE:20261005
LOCATION:Robert-Koch-Straße
BEGIN:VALARM
ACTION:DISPLAY
DESCRIPTION:Morgen: Abholung Restabfall
TRIGGER:-PT7H
END:VALARM
END:VEVENT
BEGIN:VEVENT
UID:aac68ec0da9ead1c76a848b42ffb2638
DTSTAMP:20260420T133703Z
SUMMARY:Abholung Restabfall
DESCRIPTION:Alle Abholtermine auf abfallkalender.enni.de/abholtermine/rober
 t-koch-strasse
URL:https://abfallkalender.enni.de/abholtermine/robert-koch-strasse
DTSTART;VALUE=DATE:20261019
LOCATION:Robert-Koch-Straße
BEGIN:VALARM
ACTION:DISPLAY
DESCRIPTION:Morgen: Abholung Restabfall
TRIGGER:-PT7H
END:VALARM
END:VEVENT
BEGIN:VEVENT
UID:243fd0c657c0efb56b6ba91660d6c45a
DTSTAMP:20260420T133703Z
SUMMARY:Abholung Restabfall
DESCRIPTION:Alle Abholtermine auf abfallkalender.enni.de/abholtermine/rober
 t-koch-strasse
URL:https://abfallkalender.enni.de/abholtermine/robert-koch-strasse
DTSTART;VALUE=DATE:20261102
LOCATION:Robert-Koch-Straße
BEGIN:VALARM
ACTION:DISPLAY
DESCRIPTION:Morgen: Abholung Restabfall
TRIGGER:-PT7H
END:VALARM
END:VEVENT
BEGIN:VEVENT
UID:2534767de472ee7ebc7ba23cd62be81e
DTSTAMP:20260420T133703Z
SUMMARY:Abholung Restabfall
DESCRIPTION:Alle Abholtermine auf abfallkalender.enni.de/abholtermine/rober
 t-koch-strasse
URL:https://abfallkalender.enni.de/abholtermine/robert-koch-strasse
DTSTART;VALUE=DATE:20261116
LOCATION:Robert-Koch-Straße
BEGIN:VALARM
ACTION:DISPLAY
DESCRIPTION:Morgen: Abholung Restabfall
TRIGGER:-PT7H
END:VALARM
END:VEVENT
BEGIN:VEVENT
UID:edd61821033bd4b585d17185179cfedc
DTSTAMP:20260420T133703Z
SUMMARY:Abholung Restabfall
DESCRIPTION:Alle Abholtermine auf abfallkalender.enni.de/abholtermine/rober
 t-koch-strasse
URL:https://abfallkalender.enni.de/abholtermine/robert-koch-strasse
DTSTART;VALUE=DATE:20261130
LOCATION:Robert-Koch-Straße
BEGIN:VALARM
ACTION:DISPLAY
DESCRIPTION:Morgen: Abholung Restabfall
TRIGGER:-PT7H
END:VALARM
END:VEVENT
BEGIN:VEVENT
UID:48a66715f7316fce2eceef74c8b6d07a
DTSTAMP:20260420T133703Z
SUMMARY:Abholung Restabfall
DESCRIPTION:Alle Abholtermine auf abfallkalender.enni.de/abholtermine/rober
 t-koch-strasse
URL:https://abfallkalender.enni.de/abholtermine/robert-koch-strasse
DTSTART;VALUE=DATE:20261214
LOCATION:Robert-Koch-Straße
BEGIN:VALARM
ACTION:DISPLAY
DESCRIPTION:Morgen: Abholung Restabfall
TRIGGER:-PT7H
END:VALARM
END:VEVENT
BEGIN:VEVENT
UID:cd466aa2a6c5650957b6c81b7a4317dc
DTSTAMP:20260420T133703Z
SUMMARY:Abholung Restabfall
DESCRIPTION:Alle Abholtermine auf abfallkalender.enni.de/abholtermine/rober
 t-koch-strasse
URL:https://abfallkalender.enni.de/abholtermine/robert-koch-strasse
DTSTART;VALUE=DATE:20261228
LOCATION:Robert-Koch-Straße
BEGIN:VALARM
ACTION:DISPLAY
DESCRIPTION:Morgen: Abholung Restabfall
TRIGGER:-PT7H
END:VALARM
END:VEVENT
BEGIN:VEVENT
UID:b7cdac48e732035000c142d2796b9b01
DTSTAMP:20260420T133703Z
SUMMARY:Abholung Papier
DESCRIPTION:Alle Abholtermine auf abfallkalender.enni.de/abholtermine/rober
 t-koch-strasse
URL:https://abfallkalender.enni.de/abholtermine/robert-koch-strasse
DTSTART;VALUE=DATE:20260422
LOCATION:Robert-Koch-Straße
BEGIN:VALARM
ACTION:DISPLAY
DESCRIPTION:Morgen: Abholung Papier
TRIGGER:-PT7H
END:VALARM
END:VEVENT
BEGIN:VEVENT
UID:598c5bd532249c881dac73ef7bebb13b
DTSTAMP:20260420T133703Z
SUMMARY:Abholung Papier
DESCRIPTION:Alle Abholtermine auf abfallkalender.enni.de/abholtermine/rober
 t-koch-strasse
URL:https://abfallkalender.enni.de/abholtermine/robert-koch-strasse
DTSTART;VALUE=DATE:20260520
LOCATION:Robert-Koch-Straße
BEGIN:VALARM
ACTION:DISPLAY
DESCRIPTION:Morgen: Abholung Papier
TRIGGER:-PT7H
END:VALARM
END:VEVENT
BEGIN:VEVENT
UID:54f15372b3a8a83ff832d838a5835cf3
DTSTAMP:20260420T133703Z
SUMMARY:Abholung Papier
DESCRIPTION:Alle Abholtermine auf abfallkalender.enni.de/abholtermine/rober
 t-koch-strasse
URL:https://abfallkalender.enni.de/abholtermine/robert-koch-strasse
DTSTART;VALUE=DATE:20260617
LOCATION:Robert-Koch-Straße
BEGIN:VALARM
ACTION:DISPLAY
DESCRIPTION:Morgen: Abholung Papier
TRIGGER:-PT7H
END:VALARM
END:VEVENT
BEGIN:VEVENT
UID:c5cd8a516ab9dd970bbcad9f26ef26d0
DTSTAMP:20260420T133703Z
SUMMARY:Abholung Papier
DESCRIPTION:Alle Abholtermine auf abfallkalender.enni.de/abholtermine/rober
 t-koch-strasse
URL:https://abfallkalender.enni.de/abholtermine/robert-koch-strasse
DTSTART;VALUE=DATE:20260715
LOCATION:Robert-Koch-Straße
BEGIN:VALARM
ACTION:DISPLAY
DESCRIPTION:Morgen: Abholung Papier
TRIGGER:-PT7H
END:VALARM
END:VEVENT
BEGIN:VEVENT
UID:158064635b5b27da50a2e9a32a3db828
DTSTAMP:20260420T133703Z
SUMMARY:Abholung Papier
DESCRIPTION:Alle Abholtermine auf abfallkalender.enni.de/abholtermine/rober
 t-koch-strasse
URL:https://abfallkalender.enni.de/abholtermine/robert-koch-strasse
DTSTART;VALUE=DATE:20260812
LOCATION:Robert-Koch-Straße
BEGIN:VALARM
ACTION:DISPLAY
DESCRIPTION:Morgen: Abholung Papier
TRIGGER:-PT7H
END:VALARM
END:VEVENT
BEGIN:VEVENT
UID:aa65bb766d063e90320ff3fb7cfe80b5
DTSTAMP:20260420T133703Z
SUMMARY:Abholung Papier
DESCRIPTION:Alle Abholtermine auf abfallkalender.enni.de/abholtermine/rober
 t-koch-strasse
URL:https://abfallkalender.enni.de/abholtermine/robert-koch-strasse
DTSTART;VALUE=DATE:20260909
LOCATION:Robert-Koch-Straße
BEGIN:VALARM
ACTION:DISPLAY
DESCRIPTION:Morgen: Abholung Papier
TRIGGER:-PT7H
END:VALARM
END:VEVENT
BEGIN:VEVENT
UID:2421cb48d490ee3d3e35c4f5133d8793
DTSTAMP:20260420T133703Z
SUMMARY:Abholung Papier
DESCRIPTION:Alle Abholtermine auf abfallkalender.enni.de/abholtermine/rober
 t-koch-strasse
URL:https://abfallkalender.enni.de/abholtermine/robert-koch-strasse
DTSTART;VALUE=DATE:20261007
LOCATION:Robert-Koch-Straße
BEGIN:VALARM
ACTION:DISPLAY
DESCRIPTION:Morgen: Abholung Papier
TRIGGER:-PT7H
END:VALARM
END:VEVENT
BEGIN:VEVENT
UID:efcac194da021ab15b908ac1e6992dfc
DTSTAMP:20260420T133703Z
SUMMARY:Abholung Papier
DESCRIPTION:Alle Abholtermine auf abfallkalender.enni.de/abholtermine/rober
 t-koch-strasse
URL:https://abfallkalender.enni.de/abholtermine/robert-koch-strasse
DTSTART;VALUE=DATE:20261104
LOCATION:Robert-Koch-Straße
BEGIN:VALARM
ACTION:DISPLAY
DESCRIPTION:Morgen: Abholung Papier
TRIGGER:-PT7H
END:VALARM
END:VEVENT
BEGIN:VEVENT
UID:e769f61f8b614063e22f1b25766cf7f8
DTSTAMP:20260420T133703Z
SUMMARY:Abholung Papier
DESCRIPTION:Alle Abholtermine auf abfallkalender.enni.de/abholtermine/rober
 t-koch-strasse
URL:https://abfallkalender.enni.de/abholtermine/robert-koch-strasse
DTSTART;VALUE=DATE:20261202
LOCATION:Robert-Koch-Straße
BEGIN:VALARM
ACTION:DISPLAY
DESCRIPTION:Morgen: Abholung Papier
TRIGGER:-PT7H
END:VALARM
END:VEVENT
BEGIN:VEVENT
UID:0aea9412735aab495ef4886f65cf40ae
DTSTAMP:20260420T133703Z
SUMMARY:Abholung Papier
DESCRIPTION:Alle Abholtermine auf abfallkalender.enni.de/abholtermine/rober
 t-koch-strasse
URL:https://abfallkalender.enni.de/abholtermine/robert-koch-strasse
DTSTART;VALUE=DATE:20261230
LOCATION:Robert-Koch-Straße
BEGIN:VALARM
ACTION:DISPLAY
DESCRIPTION:Morgen: Abholung Papier
TRIGGER:-PT7H
END:VALARM
END:VEVENT
BEGIN:VEVENT
UID:a4c0f21c29dc13c4195f2224960909de
DTSTAMP:20260420T133703Z
SUMMARY:Abholung Gelber Sack
DESCRIPTION:Alle Abholtermine auf abfallkalender.enni.de/abholtermine/rober
 t-koch-strasse
URL:https://abfallkalender.enni.de/abholtermine/robert-koch-strasse
DTSTART;VALUE=DATE:20260430
LOCATION:Robert-Koch-Straße
BEGIN:VALARM
ACTION:DISPLAY
DESCRIPTION:Morgen: Abholung Gelber Sack
TRIGGER:-PT7H
END:VALARM
END:VEVENT
BEGIN:VEVENT
UID:e855a2391465d55b89d32a3bad53e6ea
DTSTAMP:20260420T133703Z
SUMMARY:Abholung Gelber Sack
DESCRIPTION:Alle Abholtermine auf abfallkalender.enni.de/abholtermine/rober
 t-koch-strasse
URL:https://abfallkalender.enni.de/abholtermine/robert-koch-strasse
DTSTART;VALUE=DATE:20260515
LOCATION:Robert-Koch-Straße
BEGIN:VALARM
ACTION:DISPLAY
DESCRIPTION:Morgen: Abholung Gelber Sack
TRIGGER:-PT7H
END:VALARM
END:VEVENT
BEGIN:VEVENT
UID:557daa0d47bbe87d9204a30d8aaf1d54
DTSTAMP:20260420T133703Z
SUMMARY:Abholung Gelber Sack
DESCRIPTION:Alle Abholtermine auf abfallkalender.enni.de/abholtermine/rober
 t-koch-strasse
URL:https://abfallkalender.enni.de/abholtermine/robert-koch-strasse
DTSTART;VALUE=DATE:20260529
LOCATION:Robert-Koch-Straße
BEGIN:VALARM
ACTION:DISPLAY
DESCRIPTION:Morgen: Abholung Gelber Sack
TRIGGER:-PT7H
END:VALARM
END:VEVENT
BEGIN:VEVENT
UID:6d319ee32bf2809f49e90c735811c217
DTSTAMP:20260420T133703Z
SUMMARY:Abholung Gelber Sack
DESCRIPTION:Alle Abholtermine auf abfallkalender.enni.de/abholtermine/rober
 t-koch-strasse
URL:https://abfallkalender.enni.de/abholtermine/robert-koch-strasse
DTSTART;VALUE=DATE:20260611
LOCATION:Robert-Koch-Straße
BEGIN:VALARM
ACTION:DISPLAY
DESCRIPTION:Morgen: Abholung Gelber Sack
TRIGGER:-PT7H
END:VALARM
END:VEVENT
BEGIN:VEVENT
UID:3ee616b45e87187b65f5af1dee360fbf
DTSTAMP:20260420T133703Z
SUMMARY:Abholung Gelber Sack
DESCRIPTION:Alle Abholtermine auf abfallkalender.enni.de/abholtermine/rober
 t-koch-strasse
URL:https://abfallkalender.enni.de/abholtermine/robert-koch-strasse
DTSTART;VALUE=DATE:20260625
LOCATION:Robert-Koch-Straße
BEGIN:VALARM
ACTION:DISPLAY
DESCRIPTION:Morgen: Abholung Gelber Sack
TRIGGER:-PT7H
END:VALARM
END:VEVENT
BEGIN:VEVENT
UID:d8a461fb6465c51fb8120f7867658c8d
DTSTAMP:20260420T133703Z
SUMMARY:Abholung Gelber Sack
DESCRIPTION:Alle Abholtermine auf abfallkalender.enni.de/abholtermine/rober
 t-koch-strasse
URL:https://abfallkalender.enni.de/abholtermine/robert-koch-strasse
DTSTART;VALUE=DATE:20260709
LOCATION:Robert-Koch-Straße
BEGIN:VALARM
ACTION:DISPLAY
DESCRIPTION:Morgen: Abholung Gelber Sack
TRIGGER:-PT7H
END:VALARM
END:VEVENT
BEGIN:VEVENT
UID:f2af531f65d854776daef0a75147cf62
DTSTAMP:20260420T133703Z
SUMMARY:Abholung Gelber Sack
DESCRIPTION:Alle Abholtermine auf abfallkalender.enni.de/abholtermine/rober
 t-koch-strasse
URL:https://abfallkalender.enni.de/abholtermine/robert-koch-strasse
DTSTART;VALUE=DATE:20260723
LOCATION:Robert-Koch-Straße
BEGIN:VALARM
ACTION:DISPLAY
DESCRIPTION:Morgen: Abholung Gelber Sack
TRIGGER:-PT7H
END:VALARM
END:VEVENT
BEGIN:VEVENT
UID:4e23660cc3e5193f511a7c21cfb7d30a
DTSTAMP:20260420T133703Z
SUMMARY:Abholung Gelber Sack
DESCRIPTION:Alle Abholtermine auf abfallkalender.enni.de/abholtermine/rober
 t-koch-strasse
URL:https://abfallkalender.enni.de/abholtermine/robert-koch-strasse
DTSTART;VALUE=DATE:20260806
LOCATION:Robert-Koch-Straße
BEGIN:VALARM
ACTION:DISPLAY
DESCRIPTION:Morgen: Abholung Gelber Sack
TRIGGER:-PT7H
END:VALARM
END:VEVENT
BEGIN:VEVENT
UID:b5bbd0b4a95c249ab80184dbe2137271
DTSTAMP:20260420T133703Z
SUMMARY:Abholung Gelber Sack
DESCRIPTION:Alle Abholtermine auf abfallkalender.enni.de/abholtermine/rober
 t-koch-strasse
URL:https://abfallkalender.enni.de/abholtermine/robert-koch-strasse
DTSTART;VALUE=DATE:20260820
LOCATION:Robert-Koch-Straße
BEGIN:VALARM
ACTION:DISPLAY
DESCRIPTION:Morgen: Abholung Gelber Sack
TRIGGER:-PT7H
END:VALARM
END:VEVENT
BEGIN:VEVENT
UID:3a577810782629c581c654bae765c449
DTSTAMP:20260420T133703Z
SUMMARY:Abholung Gelber Sack
DESCRIPTION:Alle Abholtermine auf abfallkalender.enni.de/abholtermine/rober
 t-koch-strasse
URL:https://abfallkalender.enni.de/abholtermine/robert-koch-strasse
DTSTART;VALUE=DATE:20260903
LOCATION:Robert-Koch-Straße
BEGIN:VALARM
ACTION:DISPLAY
DESCRIPTION:Morgen: Abholung Gelber Sack
TRIGGER:-PT7H
END:VALARM
END:VEVENT
BEGIN:VEVENT
UID:9f5a624e164e429d9929d46479f742c2
DTSTAMP:20260420T133703Z
SUMMARY:Abholung Gelber Sack
DESCRIPTION:Alle Abholtermine auf abfallkalender.enni.de/abholtermine/rober
 t-koch-strasse
URL:https://abfallkalender.enni.de/abholtermine/robert-koch-strasse
DTSTART;VALUE=DATE:20260917
LOCATION:Robert-Koch-Straße
BEGIN:VALARM
ACTION:DISPLAY
DESCRIPTION:Morgen: Abholung Gelber Sack
TRIGGER:-PT7H
END:VALARM
END:VEVENT
BEGIN:VEVENT
UID:3ff2334b86d0a1eef222ccaa8651ea82
DTSTAMP:20260420T133703Z
SUMMARY:Abholung Gelber Sack
DESCRIPTION:Alle Abholtermine auf abfallkalender.enni.de/abholtermine/rober
 t-koch-strasse
URL:https://abfallkalender.enni.de/abholtermine/robert-koch-strasse
DTSTART;VALUE=DATE:20261001
LOCATION:Robert-Koch-Straße
BEGIN:VALARM
ACTION:DISPLAY
DESCRIPTION:Morgen: Abholung Gelber Sack
TRIGGER:-PT7H
END:VALARM
END:VEVENT
BEGIN:VEVENT
UID:85692c7449529db842e21b6cb31a904b
DTSTAMP:20260420T133703Z
SUMMARY:Abholung Gelber Sack
DESCRIPTION:Alle Abholtermine auf abfallkalender.enni.de/abholtermine/rober
 t-koch-strasse
URL:https://abfallkalender.enni.de/abholtermine/robert-koch-strasse
DTSTART;VALUE=DATE:20261015
LOCATION:Robert-Koch-Straße
BEGIN:VALARM
ACTION:DISPLAY
DESCRIPTION:Morgen: Abholung Gelber Sack
TRIGGER:-PT7H
END:VALARM
END:VEVENT
BEGIN:VEVENT
UID:e59f67bfbdff30e83acf617262d47571
DTSTAMP:20260420T133703Z
SUMMARY:Abholung Gelber Sack
DESCRIPTION:Alle Abholtermine auf abfallkalender.enni.de/abholtermine/rober
 t-koch-strasse
URL:https://abfallkalender.enni.de/abholtermine/robert-koch-strasse
DTSTART;VALUE=DATE:20261029
LOCATION:Robert-Koch-Straße
BEGIN:VALARM
ACTION:DISPLAY
DESCRIPTION:Morgen: Abholung Gelber Sack
TRIGGER:-PT7H
END:VALARM
END:VEVENT
BEGIN:VEVENT
UID:1c93be317a5cbd2d98742c4d9e119373
DTSTAMP:20260420T133703Z
SUMMARY:Abholung Gelber Sack
DESCRIPTION:Alle Abholtermine auf abfallkalender.enni.de/abholtermine/rober
 t-koch-strasse
URL:https://abfallkalender.enni.de/abholtermine/robert-koch-strasse
DTSTART;VALUE=DATE:20261112
LOCATION:Robert-Koch-Straße
BEGIN:VALARM
ACTION:DISPLAY
DESCRIPTION:Morgen: Abholung Gelber Sack
TRIGGER:-PT7H
END:VALARM
END:VEVENT
BEGIN:VEVENT
UID:d9b0d3bc3c45b6be8dc019eb1f9bd438
DTSTAMP:20260420T133703Z
SUMMARY:Abholung Gelber Sack
DESCRIPTION:Alle Abholtermine auf abfallkalender.enni.de/abholtermine/rober
 t-koch-strasse
URL:https://abfallkalender.enni.de/abholtermine/robert-koch-strasse
DTSTART;VALUE=DATE:20261126
LOCATION:Robert-Koch-Straße
BEGIN:VALARM
ACTION:DISPLAY
DESCRIPTION:Morgen: Abholung Gelber Sack
TRIGGER:-PT7H
END:VALARM
END:VEVENT
BEGIN:VEVENT
UID:9bfee6b50938215c76df9d783ffecf27
DTSTAMP:20260420T133703Z
SUMMARY:Abholung Gelber Sack
DESCRIPTION:Alle Abholtermine auf abfallkalender.enni.de/abholtermine/rober
 t-koch-strasse
URL:https://abfallkalender.enni.de/abholtermine/robert-koch-strasse
DTSTART;VALUE=DATE:20261210
LOCATION:Robert-Koch-Straße
BEGIN:VALARM
ACTION:DISPLAY
DESCRIPTION:Morgen: Abholung Gelber Sack
TRIGGER:-PT7H
END:VALARM
END:VEVENT
BEGIN:VEVENT
UID:32de4695db1baa3515c592dfa55cb647
DTSTAMP:20260420T133703Z
SUMMARY:Abholung Gelber Sack
DESCRIPTION:Alle Abholtermine auf abfallkalender.enni.de/abholtermine/rober
 t-koch-strasse
URL:https://abfallkalender.enni.de/abholtermine/robert-koch-strasse
DTSTART;VALUE=DATE:20261223
LOCATION:Robert-Koch-Straße
BEGIN:VALARM
ACTION:DISPLAY
DESCRIPTION:Morgen: Abholung Gelber Sack
TRIGGER:-PT7H
END:VALARM
END:VEVENT
BEGIN:VEVENT
UID:16dfcf305a0f00f029e068cea15f6a69
DTSTAMP:20260420T133703Z
SUMMARY:Abholung Biotonne
DESCRIPTION:Alle Abholtermine auf abfallkalender.enni.de/abholtermine/rober
 t-koch-strasse
URL:https://abfallkalender.enni.de/abholtermine/robert-koch-strasse
DTSTART;VALUE=DATE:20260427
LOCATION:Robert-Koch-Straße
BEGIN:VALARM
ACTION:DISPLAY
DESCRIPTION:Morgen: Abholung Biotonne
TRIGGER:-PT7H
END:VALARM
END:VEVENT
BEGIN:VEVENT
UID:7283efe176490fcb5bd1c2c4d42caabe
DTSTAMP:20260420T133703Z
SUMMARY:Abholung Biotonne
DESCRIPTION:Alle Abholtermine auf abfallkalender.enni.de/abholtermine/rober
 t-koch-strasse
URL:https://abfallkalender.enni.de/abholtermine/robert-koch-strasse
DTSTART;VALUE=DATE:20260511
LOCATION:Robert-Koch-Straße
BEGIN:VALARM
ACTION:DISPLAY
DESCRIPTION:Morgen: Abholung Biotonne
TRIGGER:-PT7H
END:VALARM
END:VEVENT
BEGIN:VEVENT
UID:7dad4ba22eb2f55710f689da0388054a
DTSTAMP:20260420T133703Z
SUMMARY:Abholung Biotonne
DESCRIPTION:Alle Abholtermine auf abfallkalender.enni.de/abholtermine/rober
 t-koch-strasse
URL:https://abfallkalender.enni.de/abholtermine/robert-koch-strasse
DTSTART;VALUE=DATE:20260526
LOCATION:Robert-Koch-Straße
BEGIN:VALARM
ACTION:DISPLAY
DESCRIPTION:Morgen: Abholung Biotonne
TRIGGER:-PT7H
END:VALARM
END:VEVENT
BEGIN:VEVENT
UID:fa63a70a686a621e3e876c3565a40636
DTSTAMP:20260420T133703Z
SUMMARY:Abholung Biotonne
DESCRIPTION:Alle Abholtermine auf abfallkalender.enni.de/abholtermine/rober
 t-koch-strasse
URL:https://abfallkalender.enni.de/abholtermine/robert-koch-strasse
DTSTART;VALUE=DATE:20260608
LOCATION:Robert-Koch-Straße
BEGIN:VALARM
ACTION:DISPLAY
DESCRIPTION:Morgen: Abholung Biotonne
TRIGGER:-PT7H
END:VALARM
END:VEVENT
BEGIN:VEVENT
UID:6ef0725fbba75208314655f3a698e145
DTSTAMP:20260420T133703Z
SUMMARY:Abholung Biotonne
DESCRIPTION:Alle Abholtermine auf abfallkalender.enni.de/abholtermine/rober
 t-koch-strasse
URL:https://abfallkalender.enni.de/abholtermine/robert-koch-strasse
DTSTART;VALUE=DATE:20260622
LOCATION:Robert-Koch-Straße
BEGIN:VALARM
ACTION:DISPLAY
DESCRIPTION:Morgen: Abholung Biotonne
TRIGGER:-PT7H
END:VALARM
END:VEVENT
BEGIN:VEVENT
UID:5fead3ad51bfb22aa9b95cba6edfb42f
DTSTAMP:20260420T133703Z
SUMMARY:Abholung Biotonne
DESCRIPTION:Alle Abholtermine auf abfallkalender.enni.de/abholtermine/rober
 t-koch-strasse
URL:https://abfallkalender.enni.de/abholtermine/robert-koch-strasse
DTSTART;VALUE=DATE:20260706
LOCATION:Robert-Koch-Straße
BEGIN:VALARM
ACTION:DISPLAY
DESCRIPTION:Morgen: Abholung Biotonne
TRIGGER:-PT7H
END:VALARM
END:VEVENT
BEGIN:VEVENT
UID:7556b4afbb42eb97d657a807458e6d18
DTSTAMP:20260420T133703Z
SUMMARY:Abholung Biotonne
DESCRIPTION:Alle Abholtermine auf abfallkalender.enni.de/abholtermine/rober
 t-koch-strasse
URL:https://abfallkalender.enni.de/abholtermine/robert-koch-strasse
DTSTART;VALUE=DATE:20260720
LOCATION:Robert-Koch-Straße
BEGIN:VALARM
ACTION:DISPLAY
DESCRIPTION:Morgen: Abholung Biotonne
TRIGGER:-PT7H
END:VALARM
END:VEVENT
BEGIN:VEVENT
UID:f3abe3d04fa7bf9c800be2b04a2b032b
DTSTAMP:20260420T133703Z
SUMMARY:Abholung Biotonne
DESCRIPTION:Alle Abholtermine auf abfallkalender.enni.de/abholtermine/rober
 t-koch-strasse
URL:https://abfallkalender.enni.de/abholtermine/robert-koch-strasse
DTSTART;VALUE=DATE:20260803
LOCATION:Robert-Koch-Straße
BEGIN:VALARM
ACTION:DISPLAY
DESCRIPTION:Morgen: Abholung Biotonne
TRIGGER:-PT7H
END:VALARM
END:VEVENT
BEGIN:VEVENT
UID:0de3d0dbef2d5f382d9c293d3eae313e
DTSTAMP:20260420T133703Z
SUMMARY:Abholung Biotonne
DESCRIPTION:Alle Abholtermine auf abfallkalender.enni.de/abholtermine/rober
 t-koch-strasse
URL:https://abfallkalender.enni.de/abholtermine/robert-koch-strasse
DTSTART;VALUE=DATE:20260817
LOCATION:Robert-Koch-Straße
BEGIN:VALARM
ACTION:DISPLAY
DESCRIPTION:Morgen: Abholung Biotonne
TRIGGER:-PT7H
END:VALARM
END:VEVENT
BEGIN:VEVENT
UID:a989ff889477b48548ca35ce0b610cd4
DTSTAMP:20260420T133703Z
SUMMARY:Abholung Biotonne
DESCRIPTION:Alle Abholtermine auf abfallkalender.enni.de/abholtermine/rober
 t-koch-strasse
URL:https://abfallkalender.enni.de/abholtermine/robert-koch-strasse
DTSTART;VALUE=DATE:20260831
LOCATION:Robert-Koch-Straße
BEGIN:VALARM
ACTION:DISPLAY
DESCRIPTION:Morgen: Abholung Biotonne
TRIGGER:-PT7H
END:VALARM
END:VEVENT
BEGIN:VEVENT
UID:0a073fab79543f93f168c82f481d69e9
DTSTAMP:20260420T133703Z
SUMMARY:Abholung Biotonne
DESCRIPTION:Alle Abholtermine auf abfallkalender.enni.de/abholtermine/rober
 t-koch-strasse
URL:https://abfallkalender.enni.de/abholtermine/robert-koch-strasse
DTSTART;VALUE=DATE:20260914
LOCATION:Robert-Koch-Straße
BEGIN:VALARM
ACTION:DISPLAY
DESCRIPTION:Morgen: Abholung Biotonne
TRIGGER:-PT7H
END:VALARM
END:VEVENT
BEGIN:VEVENT
UID:c7ada486308288c9adb655bcf92fad3e
DTSTAMP:20260420T133703Z
SUMMARY:Abholung Biotonne
DESCRIPTION:Alle Abholtermine auf abfallkalender.enni.de/abholtermine/rober
 t-koch-strasse
URL:https://abfallkalender.enni.de/abholtermine/robert-koch-strasse
DTSTART;VALUE=DATE:20260928
LOCATION:Robert-Koch-Straße
BEGIN:VALARM
ACTION:DISPLAY
DESCRIPTION:Morgen: Abholung Biotonne
TRIGGER:-PT7H
END:VALARM
END:VEVENT
BEGIN:VEVENT
UID:0e8eafd589854bc9d00139a6047ff185
DTSTAMP:20260420T133703Z
SUMMARY:Abholung Biotonne
DESCRIPTION:Alle Abholtermine auf abfallkalender.enni.de/abholtermine/rober
 t-koch-strasse
URL:https://abfallkalender.enni.de/abholtermine/robert-koch-strasse
DTSTART;VALUE=DATE:20261012
LOCATION:Robert-Koch-Straße
BEGIN:VALARM
ACTION:DISPLAY
DESCRIPTION:Morgen: Abholung Biotonne
TRIGGER:-PT7H
END:VALARM
END:VEVENT
BEGIN:VEVENT
UID:aa86b97211fc0abe68fcb6cfbc92e3b1
DTSTAMP:20260420T133703Z
SUMMARY:Abholung Biotonne
DESCRIPTION:Alle Abholtermine auf abfallkalender.enni.de/abholtermine/rober
 t-koch-strasse
URL:https://abfallkalender.enni.de/abholtermine/robert-koch-strasse
DTSTART;VALUE=DATE:20261026
LOCATION:Robert-Koch-Straße
BEGIN:VALARM
ACTION:DISPLAY
DESCRIPTION:Morgen: Abholung Biotonne
TRIGGER:-PT7H
END:VALARM
END:VEVENT
BEGIN:VEVENT
UID:e29b56b434099796047cd05c2ce2aa8a
DTSTAMP:20260420T133703Z
SUMMARY:Abholung Biotonne
DESCRIPTION:Alle Abholtermine auf abfallkalender.enni.de/abholtermine/rober
 t-koch-strasse
URL:https://abfallkalender.enni.de/abholtermine/robert-koch-strasse
DTSTART;VALUE=DATE:20261109
LOCATION:Robert-Koch-Straße
BEGIN:VALARM
ACTION:DISPLAY
DESCRIPTION:Morgen: Abholung Biotonne
TRIGGER:-PT7H
END:VALARM
END:VEVENT
BEGIN:VEVENT
UID:56c9531319b15ffb7030822ad9b20a1c
DTSTAMP:20260420T133703Z
SUMMARY:Abholung Biotonne
DESCRIPTION:Alle Abholtermine auf abfallkalender.enni.de/abholtermine/rober
 t-koch-strasse
URL:https://abfallkalender.enni.de/abholtermine/robert-koch-strasse
DTSTART;VALUE=DATE:20261123
LOCATION:Robert-Koch-Straße
BEGIN:VALARM
ACTION:DISPLAY
DESCRIPTION:Morgen: Abholung Biotonne
TRIGGER:-PT7H
END:VALARM
END:VEVENT
BEGIN:VEVENT
UID:b0b8ce511c8c3a0c2e6294dfd0eb8008
DTSTAMP:20260420T133703Z
SUMMARY:Abholung Biotonne
DESCRIPTION:Alle Abholtermine auf abfallkalender.enni.de/abholtermine/rober
 t-koch-strasse
URL:https://abfallkalender.enni.de/abholtermine/robert-koch-strasse
DTSTART;VALUE=DATE:20261207
LOCATION:Robert-Koch-Straße
BEGIN:VALARM
ACTION:DISPLAY
DESCRIPTION:Morgen: Abholung Biotonne
TRIGGER:-PT7H
END:VALARM
END:VEVENT
BEGIN:VEVENT
UID:0f15d402026f762df6996b96db69fde2
DTSTAMP:20260420T133703Z
SUMMARY:Abholung Biotonne
DESCRIPTION:Alle Abholtermine auf abfallkalender.enni.de/abholtermine/rober
 t-koch-strasse
URL:https://abfallkalender.enni.de/abholtermine/robert-koch-strasse
DTSTART;VALUE=DATE:20261219
LOCATION:Robert-Koch-Straße
BEGIN:VALARM
ACTION:DISPLAY
DESCRIPTION:Morgen: Abholung Biotonne
TRIGGER:-PT7H
END:VALARM
END:VEVENT
BEGIN:VEVENT
UID:4fb033ba5d31187b662cf87955634bea
DTSTAMP:20260420T133703Z
SUMMARY:Abholung Grünschnitt
DESCRIPTION:Alle Abholtermine auf abfallkalender.enni.de/abholtermine/rober
 t-koch-strasse
URL:https://abfallkalender.enni.de/abholtermine/robert-koch-strasse
DTSTART;VALUE=DATE:20261109
LOCATION:Robert-Koch-Straße
BEGIN:VALARM
ACTION:DISPLAY
DESCRIPTION:Morgen: Abholung Grünschnitt
TRIGGER:-PT7H
END:VALARM
END:VEVENT
END:VCALENDAR
