BEGIN:VCALENDAR
PRODID:-//eluceo/ical//2.0/EN
VERSION:2.0
CALSCALE:GREGORIAN
BEGIN:VEVENT
UID:4f5d5befbbd9330761b634619cf8099a
DTSTAMP:20260420T101840Z
SUMMARY:Abholung Restabfall
DESCRIPTION:Alle Abholtermine auf abfallkalender.enni.de/abholtermine/kleve
 r-platz
URL:https://abfallkalender.enni.de/abholtermine/klever-platz
DTSTART;VALUE=DATE:20260423
LOCATION:Klever Platz
BEGIN:VALARM
ACTION:DISPLAY
DESCRIPTION:Morgen: Abholung Restabfall
TRIGGER:-PT7H
END:VALARM
END:VEVENT
BEGIN:VEVENT
UID:2a3b33174ff1810fa591a4dfc156600e
DTSTAMP:20260420T101840Z
SUMMARY:Abholung Restabfall
DESCRIPTION:Alle Abholtermine auf abfallkalender.enni.de/abholtermine/kleve
 r-platz
URL:https://abfallkalender.enni.de/abholtermine/klever-platz
DTSTART;VALUE=DATE:20260507
LOCATION:Klever Platz
BEGIN:VALARM
ACTION:DISPLAY
DESCRIPTION:Morgen: Abholung Restabfall
TRIGGER:-PT7H
END:VALARM
END:VEVENT
BEGIN:VEVENT
UID:cc55ffac9f89e32580ecb0013fc587ab
DTSTAMP:20260420T101840Z
SUMMARY:Abholung Restabfall
DESCRIPTION:Alle Abholtermine auf abfallkalender.enni.de/abholtermine/kleve
 r-platz
URL:https://abfallkalender.enni.de/abholtermine/klever-platz
DTSTART;VALUE=DATE:20260521
LOCATION:Klever Platz
BEGIN:VALARM
ACTION:DISPLAY
DESCRIPTION:Morgen: Abholung Restabfall
TRIGGER:-PT7H
END:VALARM
END:VEVENT
BEGIN:VEVENT
UID:3de6592beeb5481b23ddeae006f69404
DTSTAMP:20260420T101840Z
SUMMARY:Abholung Restabfall
DESCRIPTION:Alle Abholtermine auf abfallkalender.enni.de/abholtermine/kleve
 r-platz
URL:https://abfallkalender.enni.de/abholtermine/klever-platz
DTSTART;VALUE=DATE:20260605
LOCATION:Klever Platz
BEGIN:VALARM
ACTION:DISPLAY
DESCRIPTION:Morgen: Abholung Restabfall
TRIGGER:-PT7H
END:VALARM
END:VEVENT
BEGIN:VEVENT
UID:3270ce3f7e22fdb6933d5a324f4b5db0
DTSTAMP:20260420T101840Z
SUMMARY:Abholung Restabfall
DESCRIPTION:Alle Abholtermine auf abfallkalender.enni.de/abholtermine/kleve
 r-platz
URL:https://abfallkalender.enni.de/abholtermine/klever-platz
DTSTART;VALUE=DATE:20260618
LOCATION:Klever Platz
BEGIN:VALARM
ACTION:DISPLAY
DESCRIPTION:Morgen: Abholung Restabfall
TRIGGER:-PT7H
END:VALARM
END:VEVENT
BEGIN:VEVENT
UID:07208af9eea5caeb845f06e9a19129ea
DTSTAMP:20260420T101840Z
SUMMARY:Abholung Restabfall
DESCRIPTION:Alle Abholtermine auf abfallkalender.enni.de/abholtermine/kleve
 r-platz
URL:https://abfallkalender.enni.de/abholtermine/klever-platz
DTSTART;VALUE=DATE:20260702
LOCATION:Klever Platz
BEGIN:VALARM
ACTION:DISPLAY
DESCRIPTION:Morgen: Abholung Restabfall
TRIGGER:-PT7H
END:VALARM
END:VEVENT
BEGIN:VEVENT
UID:e9584cc25ad8d9c2a65f294714e95eb8
DTSTAMP:20260420T101840Z
SUMMARY:Abholung Restabfall
DESCRIPTION:Alle Abholtermine auf abfallkalender.enni.de/abholtermine/kleve
 r-platz
URL:https://abfallkalender.enni.de/abholtermine/klever-platz
DTSTART;VALUE=DATE:20260716
LOCATION:Klever Platz
BEGIN:VALARM
ACTION:DISPLAY
DESCRIPTION:Morgen: Abholung Restabfall
TRIGGER:-PT7H
END:VALARM
END:VEVENT
BEGIN:VEVENT
UID:6b7281b9475b54fd8567eaca530b5a16
DTSTAMP:20260420T101840Z
SUMMARY:Abholung Restabfall
DESCRIPTION:Alle Abholtermine auf abfallkalender.enni.de/abholtermine/kleve
 r-platz
URL:https://abfallkalender.enni.de/abholtermine/klever-platz
DTSTART;VALUE=DATE:20260730
LOCATION:Klever Platz
BEGIN:VALARM
ACTION:DISPLAY
DESCRIPTION:Morgen: Abholung Restabfall
TRIGGER:-PT7H
END:VALARM
END:VEVENT
BEGIN:VEVENT
UID:edae163dd76290ae0a32143ccc076666
DTSTAMP:20260420T101840Z
SUMMARY:Abholung Restabfall
DESCRIPTION:Alle Abholtermine auf abfallkalender.enni.de/abholtermine/kleve
 r-platz
URL:https://abfallkalender.enni.de/abholtermine/klever-platz
DTSTART;VALUE=DATE:20260813
LOCATION:Klever Platz
BEGIN:VALARM
ACTION:DISPLAY
DESCRIPTION:Morgen: Abholung Restabfall
TRIGGER:-PT7H
END:VALARM
END:VEVENT
BEGIN:VEVENT
UID:a14d487b0ab0f4402cfb93106be3a1ca
DTSTAMP:20260420T101840Z
SUMMARY:Abholung Restabfall
DESCRIPTION:Alle Abholtermine auf abfallkalender.enni.de/abholtermine/kleve
 r-platz
URL:https://abfallkalender.enni.de/abholtermine/klever-platz
DTSTART;VALUE=DATE:20260827
LOCATION:Klever Platz
BEGIN:VALARM
ACTION:DISPLAY
DESCRIPTION:Morgen: Abholung Restabfall
TRIGGER:-PT7H
END:VALARM
END:VEVENT
BEGIN:VEVENT
UID:32869da470752c568422de5259ef9c13
DTSTAMP:20260420T101840Z
SUMMARY:Abholung Restabfall
DESCRIPTION:Alle Abholtermine auf abfallkalender.enni.de/abholtermine/kleve
 r-platz
URL:https://abfallkalender.enni.de/abholtermine/klever-platz
DTSTART;VALUE=DATE:20260910
LOCATION:Klever Platz
BEGIN:VALARM
ACTION:DISPLAY
DESCRIPTION:Morgen: Abholung Restabfall
TRIGGER:-PT7H
END:VALARM
END:VEVENT
BEGIN:VEVENT
UID:c769fb2e7a7ac14c822d30c7f7b434e3
DTSTAMP:20260420T101840Z
SUMMARY:Abholung Restabfall
DESCRIPTION:Alle Abholtermine auf abfallkalender.enni.de/abholtermine/kleve
 r-platz
URL:https://abfallkalender.enni.de/abholtermine/klever-platz
DTSTART;VALUE=DATE:20260924
LOCATION:Klever Platz
BEGIN:VALARM
ACTION:DISPLAY
DESCRIPTION:Morgen: Abholung Restabfall
TRIGGER:-PT7H
END:VALARM
END:VEVENT
BEGIN:VEVENT
UID:00015c34489bfaa89c09c3fffebc1d68
DTSTAMP:20260420T101840Z
SUMMARY:Abholung Restabfall
DESCRIPTION:Alle Abholtermine auf abfallkalender.enni.de/abholtermine/kleve
 r-platz
URL:https://abfallkalender.enni.de/abholtermine/klever-platz
DTSTART;VALUE=DATE:20261008
LOCATION:Klever Platz
BEGIN:VALARM
ACTION:DISPLAY
DESCRIPTION:Morgen: Abholung Restabfall
TRIGGER:-PT7H
END:VALARM
END:VEVENT
BEGIN:VEVENT
UID:ce1a244d8fb393449ff7ff61b6e98f6f
DTSTAMP:20260420T101840Z
SUMMARY:Abholung Restabfall
DESCRIPTION:Alle Abholtermine auf abfallkalender.enni.de/abholtermine/kleve
 r-platz
URL:https://abfallkalender.enni.de/abholtermine/klever-platz
DTSTART;VALUE=DATE:20261022
LOCATION:Klever Platz
BEGIN:VALARM
ACTION:DISPLAY
DESCRIPTION:Morgen: Abholung Restabfall
TRIGGER:-PT7H
END:VALARM
END:VEVENT
BEGIN:VEVENT
UID:b72600f5921cec9d63336763518f57d8
DTSTAMP:20260420T101840Z
SUMMARY:Abholung Restabfall
DESCRIPTION:Alle Abholtermine auf abfallkalender.enni.de/abholtermine/kleve
 r-platz
URL:https://abfallkalender.enni.de/abholtermine/klever-platz
DTSTART;VALUE=DATE:20261105
LOCATION:Klever Platz
BEGIN:VALARM
ACTION:DISPLAY
DESCRIPTION:Morgen: Abholung Restabfall
TRIGGER:-PT7H
END:VALARM
END:VEVENT
BEGIN:VEVENT
UID:beb9aa1fec325d405834a958052cd284
DTSTAMP:20260420T101840Z
SUMMARY:Abholung Restabfall
DESCRIPTION:Alle Abholtermine auf abfallkalender.enni.de/abholtermine/kleve
 r-platz
URL:https://abfallkalender.enni.de/abholtermine/klever-platz
DTSTART;VALUE=DATE:20261119
LOCATION:Klever Platz
BEGIN:VALARM
ACTION:DISPLAY
DESCRIPTION:Morgen: Abholung Restabfall
TRIGGER:-PT7H
END:VALARM
END:VEVENT
BEGIN:VEVENT
UID:399408668db27885dcadaad5bff58eda
DTSTAMP:20260420T101840Z
SUMMARY:Abholung Restabfall
DESCRIPTION:Alle Abholtermine auf abfallkalender.enni.de/abholtermine/kleve
 r-platz
URL:https://abfallkalender.enni.de/abholtermine/klever-platz
DTSTART;VALUE=DATE:20261203
LOCATION:Klever Platz
BEGIN:VALARM
ACTION:DISPLAY
DESCRIPTION:Morgen: Abholung Restabfall
TRIGGER:-PT7H
END:VALARM
END:VEVENT
BEGIN:VEVENT
UID:20f20785891ba456ce1f17a13af5f10d
DTSTAMP:20260420T101840Z
SUMMARY:Abholung Restabfall
DESCRIPTION:Alle Abholtermine auf abfallkalender.enni.de/abholtermine/kleve
 r-platz
URL:https://abfallkalender.enni.de/abholtermine/klever-platz
DTSTART;VALUE=DATE:20261217
LOCATION:Klever Platz
BEGIN:VALARM
ACTION:DISPLAY
DESCRIPTION:Morgen: Abholung Restabfall
TRIGGER:-PT7H
END:VALARM
END:VEVENT
BEGIN:VEVENT
UID:a4ab09fce5a23e0eea210f62ef2a9188
DTSTAMP:20260420T101840Z
SUMMARY:Abholung Restabfall
DESCRIPTION:Alle Abholtermine auf abfallkalender.enni.de/abholtermine/kleve
 r-platz
URL:https://abfallkalender.enni.de/abholtermine/klever-platz
DTSTART;VALUE=DATE:20261231
LOCATION:Klever Platz
BEGIN:VALARM
ACTION:DISPLAY
DESCRIPTION:Morgen: Abholung Restabfall
TRIGGER:-PT7H
END:VALARM
END:VEVENT
BEGIN:VEVENT
UID:2c0d7be7c4f207bcb90ec80058c70f1e
DTSTAMP:20260420T101840Z
SUMMARY:Abholung Papier
DESCRIPTION:Alle Abholtermine auf abfallkalender.enni.de/abholtermine/kleve
 r-platz
URL:https://abfallkalender.enni.de/abholtermine/klever-platz
DTSTART;VALUE=DATE:20260430
LOCATION:Klever Platz
BEGIN:VALARM
ACTION:DISPLAY
DESCRIPTION:Morgen: Abholung Papier
TRIGGER:-PT7H
END:VALARM
END:VEVENT
BEGIN:VEVENT
UID:2f12f6a60487bb1dc47d0ddfbfcc4325
DTSTAMP:20260420T101840Z
SUMMARY:Abholung Papier
DESCRIPTION:Alle Abholtermine auf abfallkalender.enni.de/abholtermine/kleve
 r-platz
URL:https://abfallkalender.enni.de/abholtermine/klever-platz
DTSTART;VALUE=DATE:20260529
LOCATION:Klever Platz
BEGIN:VALARM
ACTION:DISPLAY
DESCRIPTION:Morgen: Abholung Papier
TRIGGER:-PT7H
END:VALARM
END:VEVENT
BEGIN:VEVENT
UID:3b90c3ff9a5c9e203b04329502d3ea0e
DTSTAMP:20260420T101840Z
SUMMARY:Abholung Papier
DESCRIPTION:Alle Abholtermine auf abfallkalender.enni.de/abholtermine/kleve
 r-platz
URL:https://abfallkalender.enni.de/abholtermine/klever-platz
DTSTART;VALUE=DATE:20260625
LOCATION:Klever Platz
BEGIN:VALARM
ACTION:DISPLAY
DESCRIPTION:Morgen: Abholung Papier
TRIGGER:-PT7H
END:VALARM
END:VEVENT
BEGIN:VEVENT
UID:1795a5b9ccfe8f2b08a114ad371b4606
DTSTAMP:20260420T101840Z
SUMMARY:Abholung Papier
DESCRIPTION:Alle Abholtermine auf abfallkalender.enni.de/abholtermine/kleve
 r-platz
URL:https://abfallkalender.enni.de/abholtermine/klever-platz
DTSTART;VALUE=DATE:20260723
LOCATION:Klever Platz
BEGIN:VALARM
ACTION:DISPLAY
DESCRIPTION:Morgen: Abholung Papier
TRIGGER:-PT7H
END:VALARM
END:VEVENT
BEGIN:VEVENT
UID:b618a3f9310e7d1f8672f38f18713a47
DTSTAMP:20260420T101840Z
SUMMARY:Abholung Papier
DESCRIPTION:Alle Abholtermine auf abfallkalender.enni.de/abholtermine/kleve
 r-platz
URL:https://abfallkalender.enni.de/abholtermine/klever-platz
DTSTART;VALUE=DATE:20260820
LOCATION:Klever Platz
BEGIN:VALARM
ACTION:DISPLAY
DESCRIPTION:Morgen: Abholung Papier
TRIGGER:-PT7H
END:VALARM
END:VEVENT
BEGIN:VEVENT
UID:0184057b3e17a528afbcfbe44c008dd7
DTSTAMP:20260420T101840Z
SUMMARY:Abholung Papier
DESCRIPTION:Alle Abholtermine auf abfallkalender.enni.de/abholtermine/kleve
 r-platz
URL:https://abfallkalender.enni.de/abholtermine/klever-platz
DTSTART;VALUE=DATE:20260917
LOCATION:Klever Platz
BEGIN:VALARM
ACTION:DISPLAY
DESCRIPTION:Morgen: Abholung Papier
TRIGGER:-PT7H
END:VALARM
END:VEVENT
BEGIN:VEVENT
UID:c8f45e5f55dece29647fb41aba005daa
DTSTAMP:20260420T101840Z
SUMMARY:Abholung Papier
DESCRIPTION:Alle Abholtermine auf abfallkalender.enni.de/abholtermine/kleve
 r-platz
URL:https://abfallkalender.enni.de/abholtermine/klever-platz
DTSTART;VALUE=DATE:20261015
LOCATION:Klever Platz
BEGIN:VALARM
ACTION:DISPLAY
DESCRIPTION:Morgen: Abholung Papier
TRIGGER:-PT7H
END:VALARM
END:VEVENT
BEGIN:VEVENT
UID:638eacc0f38c363153b9bd4090b5f50c
DTSTAMP:20260420T101840Z
SUMMARY:Abholung Papier
DESCRIPTION:Alle Abholtermine auf abfallkalender.enni.de/abholtermine/kleve
 r-platz
URL:https://abfallkalender.enni.de/abholtermine/klever-platz
DTSTART;VALUE=DATE:20261112
LOCATION:Klever Platz
BEGIN:VALARM
ACTION:DISPLAY
DESCRIPTION:Morgen: Abholung Papier
TRIGGER:-PT7H
END:VALARM
END:VEVENT
BEGIN:VEVENT
UID:f5a78f830c515caf6394c087c2c0e80b
DTSTAMP:20260420T101840Z
SUMMARY:Abholung Papier
DESCRIPTION:Alle Abholtermine auf abfallkalender.enni.de/abholtermine/kleve
 r-platz
URL:https://abfallkalender.enni.de/abholtermine/klever-platz
DTSTART;VALUE=DATE:20261210
LOCATION:Klever Platz
BEGIN:VALARM
ACTION:DISPLAY
DESCRIPTION:Morgen: Abholung Papier
TRIGGER:-PT7H
END:VALARM
END:VEVENT
BEGIN:VEVENT
UID:24175b2c2b1cdabfdc657eb6f11e6507
DTSTAMP:20260420T101840Z
SUMMARY:Abholung Gelber Sack
DESCRIPTION:Alle Abholtermine auf abfallkalender.enni.de/abholtermine/kleve
 r-platz
URL:https://abfallkalender.enni.de/abholtermine/klever-platz
DTSTART;VALUE=DATE:20260428
LOCATION:Klever Platz
BEGIN:VALARM
ACTION:DISPLAY
DESCRIPTION:Morgen: Abholung Gelber Sack
TRIGGER:-PT7H
END:VALARM
END:VEVENT
BEGIN:VEVENT
UID:18520d90c38357aedcc76562d6b6995d
DTSTAMP:20260420T101840Z
SUMMARY:Abholung Gelber Sack
DESCRIPTION:Alle Abholtermine auf abfallkalender.enni.de/abholtermine/kleve
 r-platz
URL:https://abfallkalender.enni.de/abholtermine/klever-platz
DTSTART;VALUE=DATE:20260512
LOCATION:Klever Platz
BEGIN:VALARM
ACTION:DISPLAY
DESCRIPTION:Morgen: Abholung Gelber Sack
TRIGGER:-PT7H
END:VALARM
END:VEVENT
BEGIN:VEVENT
UID:129e533c31fae7ac5f97657a5b450350
DTSTAMP:20260420T101840Z
SUMMARY:Abholung Gelber Sack
DESCRIPTION:Alle Abholtermine auf abfallkalender.enni.de/abholtermine/kleve
 r-platz
URL:https://abfallkalender.enni.de/abholtermine/klever-platz
DTSTART;VALUE=DATE:20260527
LOCATION:Klever Platz
BEGIN:VALARM
ACTION:DISPLAY
DESCRIPTION:Morgen: Abholung Gelber Sack
TRIGGER:-PT7H
END:VALARM
END:VEVENT
BEGIN:VEVENT
UID:5b0d489cb7fab8b455ad5134e86bdeea
DTSTAMP:20260420T101840Z
SUMMARY:Abholung Gelber Sack
DESCRIPTION:Alle Abholtermine auf abfallkalender.enni.de/abholtermine/kleve
 r-platz
URL:https://abfallkalender.enni.de/abholtermine/klever-platz
DTSTART;VALUE=DATE:20260609
LOCATION:Klever Platz
BEGIN:VALARM
ACTION:DISPLAY
DESCRIPTION:Morgen: Abholung Gelber Sack
TRIGGER:-PT7H
END:VALARM
END:VEVENT
BEGIN:VEVENT
UID:0d62a3d28f6e150dbbd02748072b5b3c
DTSTAMP:20260420T101840Z
SUMMARY:Abholung Gelber Sack
DESCRIPTION:Alle Abholtermine auf abfallkalender.enni.de/abholtermine/kleve
 r-platz
URL:https://abfallkalender.enni.de/abholtermine/klever-platz
DTSTART;VALUE=DATE:20260623
LOCATION:Klever Platz
BEGIN:VALARM
ACTION:DISPLAY
DESCRIPTION:Morgen: Abholung Gelber Sack
TRIGGER:-PT7H
END:VALARM
END:VEVENT
BEGIN:VEVENT
UID:f6426936422b69d84fca94bae9229700
DTSTAMP:20260420T101840Z
SUMMARY:Abholung Gelber Sack
DESCRIPTION:Alle Abholtermine auf abfallkalender.enni.de/abholtermine/kleve
 r-platz
URL:https://abfallkalender.enni.de/abholtermine/klever-platz
DTSTART;VALUE=DATE:20260707
LOCATION:Klever Platz
BEGIN:VALARM
ACTION:DISPLAY
DESCRIPTION:Morgen: Abholung Gelber Sack
TRIGGER:-PT7H
END:VALARM
END:VEVENT
BEGIN:VEVENT
UID:d070243c675e8f305e3b15907c21235d
DTSTAMP:20260420T101840Z
SUMMARY:Abholung Gelber Sack
DESCRIPTION:Alle Abholtermine auf abfallkalender.enni.de/abholtermine/kleve
 r-platz
URL:https://abfallkalender.enni.de/abholtermine/klever-platz
DTSTART;VALUE=DATE:20260721
LOCATION:Klever Platz
BEGIN:VALARM
ACTION:DISPLAY
DESCRIPTION:Morgen: Abholung Gelber Sack
TRIGGER:-PT7H
END:VALARM
END:VEVENT
BEGIN:VEVENT
UID:172664ae0016e143e17c636c44fbc4e7
DTSTAMP:20260420T101840Z
SUMMARY:Abholung Gelber Sack
DESCRIPTION:Alle Abholtermine auf abfallkalender.enni.de/abholtermine/kleve
 r-platz
URL:https://abfallkalender.enni.de/abholtermine/klever-platz
DTSTART;VALUE=DATE:20260804
LOCATION:Klever Platz
BEGIN:VALARM
ACTION:DISPLAY
DESCRIPTION:Morgen: Abholung Gelber Sack
TRIGGER:-PT7H
END:VALARM
END:VEVENT
BEGIN:VEVENT
UID:6a09fd3ed9de2ada0271f137110c0167
DTSTAMP:20260420T101840Z
SUMMARY:Abholung Gelber Sack
DESCRIPTION:Alle Abholtermine auf abfallkalender.enni.de/abholtermine/kleve
 r-platz
URL:https://abfallkalender.enni.de/abholtermine/klever-platz
DTSTART;VALUE=DATE:20260818
LOCATION:Klever Platz
BEGIN:VALARM
ACTION:DISPLAY
DESCRIPTION:Morgen: Abholung Gelber Sack
TRIGGER:-PT7H
END:VALARM
END:VEVENT
BEGIN:VEVENT
UID:88e0e476f8c38aa4aadc534eb6a7790a
DTSTAMP:20260420T101840Z
SUMMARY:Abholung Gelber Sack
DESCRIPTION:Alle Abholtermine auf abfallkalender.enni.de/abholtermine/kleve
 r-platz
URL:https://abfallkalender.enni.de/abholtermine/klever-platz
DTSTART;VALUE=DATE:20260901
LOCATION:Klever Platz
BEGIN:VALARM
ACTION:DISPLAY
DESCRIPTION:Morgen: Abholung Gelber Sack
TRIGGER:-PT7H
END:VALARM
END:VEVENT
BEGIN:VEVENT
UID:1ad5b8c239fa8da465115b14d9e1da36
DTSTAMP:20260420T101840Z
SUMMARY:Abholung Gelber Sack
DESCRIPTION:Alle Abholtermine auf abfallkalender.enni.de/abholtermine/kleve
 r-platz
URL:https://abfallkalender.enni.de/abholtermine/klever-platz
DTSTART;VALUE=DATE:20260915
LOCATION:Klever Platz
BEGIN:VALARM
ACTION:DISPLAY
DESCRIPTION:Morgen: Abholung Gelber Sack
TRIGGER:-PT7H
END:VALARM
END:VEVENT
BEGIN:VEVENT
UID:1e6d7f9d608d051616d0e7c213a8db19
DTSTAMP:20260420T101840Z
SUMMARY:Abholung Gelber Sack
DESCRIPTION:Alle Abholtermine auf abfallkalender.enni.de/abholtermine/kleve
 r-platz
URL:https://abfallkalender.enni.de/abholtermine/klever-platz
DTSTART;VALUE=DATE:20260929
LOCATION:Klever Platz
BEGIN:VALARM
ACTION:DISPLAY
DESCRIPTION:Morgen: Abholung Gelber Sack
TRIGGER:-PT7H
END:VALARM
END:VEVENT
BEGIN:VEVENT
UID:5d9889285658eeb4fd25cd6ed0e0389c
DTSTAMP:20260420T101840Z
SUMMARY:Abholung Gelber Sack
DESCRIPTION:Alle Abholtermine auf abfallkalender.enni.de/abholtermine/kleve
 r-platz
URL:https://abfallkalender.enni.de/abholtermine/klever-platz
DTSTART;VALUE=DATE:20261013
LOCATION:Klever Platz
BEGIN:VALARM
ACTION:DISPLAY
DESCRIPTION:Morgen: Abholung Gelber Sack
TRIGGER:-PT7H
END:VALARM
END:VEVENT
BEGIN:VEVENT
UID:3cb3944edf6315edbcd171370a510fce
DTSTAMP:20260420T101840Z
SUMMARY:Abholung Gelber Sack
DESCRIPTION:Alle Abholtermine auf abfallkalender.enni.de/abholtermine/kleve
 r-platz
URL:https://abfallkalender.enni.de/abholtermine/klever-platz
DTSTART;VALUE=DATE:20261027
LOCATION:Klever Platz
BEGIN:VALARM
ACTION:DISPLAY
DESCRIPTION:Morgen: Abholung Gelber Sack
TRIGGER:-PT7H
END:VALARM
END:VEVENT
BEGIN:VEVENT
UID:b74fcb9f95465c5c4c4f6949867b70b5
DTSTAMP:20260420T101840Z
SUMMARY:Abholung Gelber Sack
DESCRIPTION:Alle Abholtermine auf abfallkalender.enni.de/abholtermine/kleve
 r-platz
URL:https://abfallkalender.enni.de/abholtermine/klever-platz
DTSTART;VALUE=DATE:20261110
LOCATION:Klever Platz
BEGIN:VALARM
ACTION:DISPLAY
DESCRIPTION:Morgen: Abholung Gelber Sack
TRIGGER:-PT7H
END:VALARM
END:VEVENT
BEGIN:VEVENT
UID:bd81a3e92b9e63ab4b5473895df69bda
DTSTAMP:20260420T101840Z
SUMMARY:Abholung Gelber Sack
DESCRIPTION:Alle Abholtermine auf abfallkalender.enni.de/abholtermine/kleve
 r-platz
URL:https://abfallkalender.enni.de/abholtermine/klever-platz
DTSTART;VALUE=DATE:20261124
LOCATION:Klever Platz
BEGIN:VALARM
ACTION:DISPLAY
DESCRIPTION:Morgen: Abholung Gelber Sack
TRIGGER:-PT7H
END:VALARM
END:VEVENT
BEGIN:VEVENT
UID:590bc6cbd6b287685f069bd360c8ab52
DTSTAMP:20260420T101840Z
SUMMARY:Abholung Gelber Sack
DESCRIPTION:Alle Abholtermine auf abfallkalender.enni.de/abholtermine/kleve
 r-platz
URL:https://abfallkalender.enni.de/abholtermine/klever-platz
DTSTART;VALUE=DATE:20261208
LOCATION:Klever Platz
BEGIN:VALARM
ACTION:DISPLAY
DESCRIPTION:Morgen: Abholung Gelber Sack
TRIGGER:-PT7H
END:VALARM
END:VEVENT
BEGIN:VEVENT
UID:dd2772b4b689d5879acedb65592ec3f1
DTSTAMP:20260420T101840Z
SUMMARY:Abholung Gelber Sack
DESCRIPTION:Alle Abholtermine auf abfallkalender.enni.de/abholtermine/kleve
 r-platz
URL:https://abfallkalender.enni.de/abholtermine/klever-platz
DTSTART;VALUE=DATE:20261221
LOCATION:Klever Platz
BEGIN:VALARM
ACTION:DISPLAY
DESCRIPTION:Morgen: Abholung Gelber Sack
TRIGGER:-PT7H
END:VALARM
END:VEVENT
BEGIN:VEVENT
UID:2039aa967d8927c6a83e096fda732675
DTSTAMP:20260420T101840Z
SUMMARY:Abholung Biotonne
DESCRIPTION:Alle Abholtermine auf abfallkalender.enni.de/abholtermine/kleve
 r-platz
URL:https://abfallkalender.enni.de/abholtermine/klever-platz
DTSTART;VALUE=DATE:20260421
LOCATION:Klever Platz
BEGIN:VALARM
ACTION:DISPLAY
DESCRIPTION:Morgen: Abholung Biotonne
TRIGGER:-PT7H
END:VALARM
END:VEVENT
BEGIN:VEVENT
UID:b81c9cca6ab64a263fdcbc9cac5074b2
DTSTAMP:20260420T101840Z
SUMMARY:Abholung Biotonne
DESCRIPTION:Alle Abholtermine auf abfallkalender.enni.de/abholtermine/kleve
 r-platz
URL:https://abfallkalender.enni.de/abholtermine/klever-platz
DTSTART;VALUE=DATE:20260505
LOCATION:Klever Platz
BEGIN:VALARM
ACTION:DISPLAY
DESCRIPTION:Morgen: Abholung Biotonne
TRIGGER:-PT7H
END:VALARM
END:VEVENT
BEGIN:VEVENT
UID:7c266e953565a00e1b619e60a270e638
DTSTAMP:20260420T101840Z
SUMMARY:Abholung Biotonne
DESCRIPTION:Alle Abholtermine auf abfallkalender.enni.de/abholtermine/kleve
 r-platz
URL:https://abfallkalender.enni.de/abholtermine/klever-platz
DTSTART;VALUE=DATE:20260519
LOCATION:Klever Platz
BEGIN:VALARM
ACTION:DISPLAY
DESCRIPTION:Morgen: Abholung Biotonne
TRIGGER:-PT7H
END:VALARM
END:VEVENT
BEGIN:VEVENT
UID:2273f59f01d9d179aad5eb075ae5419c
DTSTAMP:20260420T101840Z
SUMMARY:Abholung Biotonne
DESCRIPTION:Alle Abholtermine auf abfallkalender.enni.de/abholtermine/kleve
 r-platz
URL:https://abfallkalender.enni.de/abholtermine/klever-platz
DTSTART;VALUE=DATE:20260602
LOCATION:Klever Platz
BEGIN:VALARM
ACTION:DISPLAY
DESCRIPTION:Morgen: Abholung Biotonne
TRIGGER:-PT7H
END:VALARM
END:VEVENT
BEGIN:VEVENT
UID:c2da6094723f5d4e141657615fb040fa
DTSTAMP:20260420T101840Z
SUMMARY:Abholung Biotonne
DESCRIPTION:Alle Abholtermine auf abfallkalender.enni.de/abholtermine/kleve
 r-platz
URL:https://abfallkalender.enni.de/abholtermine/klever-platz
DTSTART;VALUE=DATE:20260616
LOCATION:Klever Platz
BEGIN:VALARM
ACTION:DISPLAY
DESCRIPTION:Morgen: Abholung Biotonne
TRIGGER:-PT7H
END:VALARM
END:VEVENT
BEGIN:VEVENT
UID:b259a5d46ce4dd0511f08c2de14f785d
DTSTAMP:20260420T101840Z
SUMMARY:Abholung Biotonne
DESCRIPTION:Alle Abholtermine auf abfallkalender.enni.de/abholtermine/kleve
 r-platz
URL:https://abfallkalender.enni.de/abholtermine/klever-platz
DTSTART;VALUE=DATE:20260630
LOCATION:Klever Platz
BEGIN:VALARM
ACTION:DISPLAY
DESCRIPTION:Morgen: Abholung Biotonne
TRIGGER:-PT7H
END:VALARM
END:VEVENT
BEGIN:VEVENT
UID:d46919fa7057ac7433ecd9ef530cd305
DTSTAMP:20260420T101840Z
SUMMARY:Abholung Biotonne
DESCRIPTION:Alle Abholtermine auf abfallkalender.enni.de/abholtermine/kleve
 r-platz
URL:https://abfallkalender.enni.de/abholtermine/klever-platz
DTSTART;VALUE=DATE:20260714
LOCATION:Klever Platz
BEGIN:VALARM
ACTION:DISPLAY
DESCRIPTION:Morgen: Abholung Biotonne
TRIGGER:-PT7H
END:VALARM
END:VEVENT
BEGIN:VEVENT
UID:313332791b70c4406236ca8f3d742a43
DTSTAMP:20260420T101840Z
SUMMARY:Abholung Biotonne
DESCRIPTION:Alle Abholtermine auf abfallkalender.enni.de/abholtermine/kleve
 r-platz
URL:https://abfallkalender.enni.de/abholtermine/klever-platz
DTSTART;VALUE=DATE:20260728
LOCATION:Klever Platz
BEGIN:VALARM
ACTION:DISPLAY
DESCRIPTION:Morgen: Abholung Biotonne
TRIGGER:-PT7H
END:VALARM
END:VEVENT
BEGIN:VEVENT
UID:386e9c1349a2104d2acac9883a093f8e
DTSTAMP:20260420T101840Z
SUMMARY:Abholung Biotonne
DESCRIPTION:Alle Abholtermine auf abfallkalender.enni.de/abholtermine/kleve
 r-platz
URL:https://abfallkalender.enni.de/abholtermine/klever-platz
DTSTART;VALUE=DATE:20260811
LOCATION:Klever Platz
BEGIN:VALARM
ACTION:DISPLAY
DESCRIPTION:Morgen: Abholung Biotonne
TRIGGER:-PT7H
END:VALARM
END:VEVENT
BEGIN:VEVENT
UID:69898763007db5cdd9ca68af41762e80
DTSTAMP:20260420T101840Z
SUMMARY:Abholung Biotonne
DESCRIPTION:Alle Abholtermine auf abfallkalender.enni.de/abholtermine/kleve
 r-platz
URL:https://abfallkalender.enni.de/abholtermine/klever-platz
DTSTART;VALUE=DATE:20260825
LOCATION:Klever Platz
BEGIN:VALARM
ACTION:DISPLAY
DESCRIPTION:Morgen: Abholung Biotonne
TRIGGER:-PT7H
END:VALARM
END:VEVENT
BEGIN:VEVENT
UID:92fc834a4aa2b7901f301b7af73f7ee6
DTSTAMP:20260420T101840Z
SUMMARY:Abholung Biotonne
DESCRIPTION:Alle Abholtermine auf abfallkalender.enni.de/abholtermine/kleve
 r-platz
URL:https://abfallkalender.enni.de/abholtermine/klever-platz
DTSTART;VALUE=DATE:20260908
LOCATION:Klever Platz
BEGIN:VALARM
ACTION:DISPLAY
DESCRIPTION:Morgen: Abholung Biotonne
TRIGGER:-PT7H
END:VALARM
END:VEVENT
BEGIN:VEVENT
UID:1237c65253b15e4f2c9250b685c3a0be
DTSTAMP:20260420T101840Z
SUMMARY:Abholung Biotonne
DESCRIPTION:Alle Abholtermine auf abfallkalender.enni.de/abholtermine/kleve
 r-platz
URL:https://abfallkalender.enni.de/abholtermine/klever-platz
DTSTART;VALUE=DATE:20260922
LOCATION:Klever Platz
BEGIN:VALARM
ACTION:DISPLAY
DESCRIPTION:Morgen: Abholung Biotonne
TRIGGER:-PT7H
END:VALARM
END:VEVENT
BEGIN:VEVENT
UID:0b4ebc20b38aceea4a21fa8f45119170
DTSTAMP:20260420T101840Z
SUMMARY:Abholung Biotonne
DESCRIPTION:Alle Abholtermine auf abfallkalender.enni.de/abholtermine/kleve
 r-platz
URL:https://abfallkalender.enni.de/abholtermine/klever-platz
DTSTART;VALUE=DATE:20261006
LOCATION:Klever Platz
BEGIN:VALARM
ACTION:DISPLAY
DESCRIPTION:Morgen: Abholung Biotonne
TRIGGER:-PT7H
END:VALARM
END:VEVENT
BEGIN:VEVENT
UID:b6cccdf71ebc9e61e99a955d2eb14239
DTSTAMP:20260420T101840Z
SUMMARY:Abholung Biotonne
DESCRIPTION:Alle Abholtermine auf abfallkalender.enni.de/abholtermine/kleve
 r-platz
URL:https://abfallkalender.enni.de/abholtermine/klever-platz
DTSTART;VALUE=DATE:20261020
LOCATION:Klever Platz
BEGIN:VALARM
ACTION:DISPLAY
DESCRIPTION:Morgen: Abholung Biotonne
TRIGGER:-PT7H
END:VALARM
END:VEVENT
BEGIN:VEVENT
UID:b06d4a72d665f2bd980c2139d3b74ab4
DTSTAMP:20260420T101840Z
SUMMARY:Abholung Biotonne
DESCRIPTION:Alle Abholtermine auf abfallkalender.enni.de/abholtermine/kleve
 r-platz
URL:https://abfallkalender.enni.de/abholtermine/klever-platz
DTSTART;VALUE=DATE:20261103
LOCATION:Klever Platz
BEGIN:VALARM
ACTION:DISPLAY
DESCRIPTION:Morgen: Abholung Biotonne
TRIGGER:-PT7H
END:VALARM
END:VEVENT
BEGIN:VEVENT
UID:66891142bdf64deebea820fd518e1c4c
DTSTAMP:20260420T101840Z
SUMMARY:Abholung Biotonne
DESCRIPTION:Alle Abholtermine auf abfallkalender.enni.de/abholtermine/kleve
 r-platz
URL:https://abfallkalender.enni.de/abholtermine/klever-platz
DTSTART;VALUE=DATE:20261117
LOCATION:Klever Platz
BEGIN:VALARM
ACTION:DISPLAY
DESCRIPTION:Morgen: Abholung Biotonne
TRIGGER:-PT7H
END:VALARM
END:VEVENT
BEGIN:VEVENT
UID:623c9acc858fab3b8dee3a44838d07ae
DTSTAMP:20260420T101840Z
SUMMARY:Abholung Biotonne
DESCRIPTION:Alle Abholtermine auf abfallkalender.enni.de/abholtermine/kleve
 r-platz
URL:https://abfallkalender.enni.de/abholtermine/klever-platz
DTSTART;VALUE=DATE:20261201
LOCATION:Klever Platz
BEGIN:VALARM
ACTION:DISPLAY
DESCRIPTION:Morgen: Abholung Biotonne
TRIGGER:-PT7H
END:VALARM
END:VEVENT
BEGIN:VEVENT
UID:29e76ea869249f75b4485d4633f107c3
DTSTAMP:20260420T101840Z
SUMMARY:Abholung Biotonne
DESCRIPTION:Alle Abholtermine auf abfallkalender.enni.de/abholtermine/kleve
 r-platz
URL:https://abfallkalender.enni.de/abholtermine/klever-platz
DTSTART;VALUE=DATE:20261215
LOCATION:Klever Platz
BEGIN:VALARM
ACTION:DISPLAY
DESCRIPTION:Morgen: Abholung Biotonne
TRIGGER:-PT7H
END:VALARM
END:VEVENT
BEGIN:VEVENT
UID:331b35bacde84559501e8efee16c5103
DTSTAMP:20260420T101840Z
SUMMARY:Abholung Biotonne
DESCRIPTION:Alle Abholtermine auf abfallkalender.enni.de/abholtermine/kleve
 r-platz
URL:https://abfallkalender.enni.de/abholtermine/klever-platz
DTSTART;VALUE=DATE:20261229
LOCATION:Klever Platz
BEGIN:VALARM
ACTION:DISPLAY
DESCRIPTION:Morgen: Abholung Biotonne
TRIGGER:-PT7H
END:VALARM
END:VEVENT
BEGIN:VEVENT
UID:ab12ca29e34981d31abf174c4ea9f26f
DTSTAMP:20260420T101840Z
SUMMARY:Abholung Grünschnitt
DESCRIPTION:Alle Abholtermine auf abfallkalender.enni.de/abholtermine/kleve
 r-platz
URL:https://abfallkalender.enni.de/abholtermine/klever-platz
DTSTART;VALUE=DATE:20261117
LOCATION:Klever Platz
BEGIN:VALARM
ACTION:DISPLAY
DESCRIPTION:Morgen: Abholung Grünschnitt
TRIGGER:-PT7H
END:VALARM
END:VEVENT
END:VCALENDAR
