BEGIN:VCALENDAR
PRODID:-//eluceo/ical//2.0/EN
VERSION:2.0
CALSCALE:GREGORIAN
BEGIN:VEVENT
UID:9e6578947f0684356a78798da36f8bec
DTSTAMP:20260421T092446Z
SUMMARY:Abholung Restabfall
DESCRIPTION:Alle Abholtermine auf abfallkalender.enni.de/abholtermine/kaeth
 e-kollwitz-strasse
URL:https://abfallkalender.enni.de/abholtermine/kaethe-kollwitz-strasse
DTSTART;VALUE=DATE:20260430
LOCATION:Käthe-Kollwitz-Straße
BEGIN:VALARM
ACTION:DISPLAY
DESCRIPTION:Morgen: Abholung Restabfall
TRIGGER:-PT7H
END:VALARM
END:VEVENT
BEGIN:VEVENT
UID:354cad1f1572c8a6506c2c71a180254b
DTSTAMP:20260421T092446Z
SUMMARY:Abholung Restabfall
DESCRIPTION:Alle Abholtermine auf abfallkalender.enni.de/abholtermine/kaeth
 e-kollwitz-strasse
URL:https://abfallkalender.enni.de/abholtermine/kaethe-kollwitz-strasse
DTSTART;VALUE=DATE:20260515
LOCATION:Käthe-Kollwitz-Straße
BEGIN:VALARM
ACTION:DISPLAY
DESCRIPTION:Morgen: Abholung Restabfall
TRIGGER:-PT7H
END:VALARM
END:VEVENT
BEGIN:VEVENT
UID:defa1f940e991313294fb684db6e1534
DTSTAMP:20260421T092446Z
SUMMARY:Abholung Restabfall
DESCRIPTION:Alle Abholtermine auf abfallkalender.enni.de/abholtermine/kaeth
 e-kollwitz-strasse
URL:https://abfallkalender.enni.de/abholtermine/kaethe-kollwitz-strasse
DTSTART;VALUE=DATE:20260529
LOCATION:Käthe-Kollwitz-Straße
BEGIN:VALARM
ACTION:DISPLAY
DESCRIPTION:Morgen: Abholung Restabfall
TRIGGER:-PT7H
END:VALARM
END:VEVENT
BEGIN:VEVENT
UID:e5b46017f9e1b3a094412b4268bb78c5
DTSTAMP:20260421T092446Z
SUMMARY:Abholung Restabfall
DESCRIPTION:Alle Abholtermine auf abfallkalender.enni.de/abholtermine/kaeth
 e-kollwitz-strasse
URL:https://abfallkalender.enni.de/abholtermine/kaethe-kollwitz-strasse
DTSTART;VALUE=DATE:20260611
LOCATION:Käthe-Kollwitz-Straße
BEGIN:VALARM
ACTION:DISPLAY
DESCRIPTION:Morgen: Abholung Restabfall
TRIGGER:-PT7H
END:VALARM
END:VEVENT
BEGIN:VEVENT
UID:8f956726e36383f1b5d9ce2876e9f60f
DTSTAMP:20260421T092446Z
SUMMARY:Abholung Restabfall
DESCRIPTION:Alle Abholtermine auf abfallkalender.enni.de/abholtermine/kaeth
 e-kollwitz-strasse
URL:https://abfallkalender.enni.de/abholtermine/kaethe-kollwitz-strasse
DTSTART;VALUE=DATE:20260625
LOCATION:Käthe-Kollwitz-Straße
BEGIN:VALARM
ACTION:DISPLAY
DESCRIPTION:Morgen: Abholung Restabfall
TRIGGER:-PT7H
END:VALARM
END:VEVENT
BEGIN:VEVENT
UID:b8a0ac0d918f8bec2848fe0aa5c3afd7
DTSTAMP:20260421T092446Z
SUMMARY:Abholung Restabfall
DESCRIPTION:Alle Abholtermine auf abfallkalender.enni.de/abholtermine/kaeth
 e-kollwitz-strasse
URL:https://abfallkalender.enni.de/abholtermine/kaethe-kollwitz-strasse
DTSTART;VALUE=DATE:20260709
LOCATION:Käthe-Kollwitz-Straße
BEGIN:VALARM
ACTION:DISPLAY
DESCRIPTION:Morgen: Abholung Restabfall
TRIGGER:-PT7H
END:VALARM
END:VEVENT
BEGIN:VEVENT
UID:d5bdc427910d23427edec937b4d824d1
DTSTAMP:20260421T092446Z
SUMMARY:Abholung Restabfall
DESCRIPTION:Alle Abholtermine auf abfallkalender.enni.de/abholtermine/kaeth
 e-kollwitz-strasse
URL:https://abfallkalender.enni.de/abholtermine/kaethe-kollwitz-strasse
DTSTART;VALUE=DATE:20260723
LOCATION:Käthe-Kollwitz-Straße
BEGIN:VALARM
ACTION:DISPLAY
DESCRIPTION:Morgen: Abholung Restabfall
TRIGGER:-PT7H
END:VALARM
END:VEVENT
BEGIN:VEVENT
UID:8d459ead421ca95c685cb41bc8536a32
DTSTAMP:20260421T092446Z
SUMMARY:Abholung Restabfall
DESCRIPTION:Alle Abholtermine auf abfallkalender.enni.de/abholtermine/kaeth
 e-kollwitz-strasse
URL:https://abfallkalender.enni.de/abholtermine/kaethe-kollwitz-strasse
DTSTART;VALUE=DATE:20260806
LOCATION:Käthe-Kollwitz-Straße
BEGIN:VALARM
ACTION:DISPLAY
DESCRIPTION:Morgen: Abholung Restabfall
TRIGGER:-PT7H
END:VALARM
END:VEVENT
BEGIN:VEVENT
UID:550839b740bf668406b1493b87b75e0e
DTSTAMP:20260421T092446Z
SUMMARY:Abholung Restabfall
DESCRIPTION:Alle Abholtermine auf abfallkalender.enni.de/abholtermine/kaeth
 e-kollwitz-strasse
URL:https://abfallkalender.enni.de/abholtermine/kaethe-kollwitz-strasse
DTSTART;VALUE=DATE:20260820
LOCATION:Käthe-Kollwitz-Straße
BEGIN:VALARM
ACTION:DISPLAY
DESCRIPTION:Morgen: Abholung Restabfall
TRIGGER:-PT7H
END:VALARM
END:VEVENT
BEGIN:VEVENT
UID:0e722c1c9a66d09a0da367a147cc280e
DTSTAMP:20260421T092446Z
SUMMARY:Abholung Restabfall
DESCRIPTION:Alle Abholtermine auf abfallkalender.enni.de/abholtermine/kaeth
 e-kollwitz-strasse
URL:https://abfallkalender.enni.de/abholtermine/kaethe-kollwitz-strasse
DTSTART;VALUE=DATE:20260903
LOCATION:Käthe-Kollwitz-Straße
BEGIN:VALARM
ACTION:DISPLAY
DESCRIPTION:Morgen: Abholung Restabfall
TRIGGER:-PT7H
END:VALARM
END:VEVENT
BEGIN:VEVENT
UID:ae033af28e17e500aa7d5fb8d625d3c6
DTSTAMP:20260421T092446Z
SUMMARY:Abholung Restabfall
DESCRIPTION:Alle Abholtermine auf abfallkalender.enni.de/abholtermine/kaeth
 e-kollwitz-strasse
URL:https://abfallkalender.enni.de/abholtermine/kaethe-kollwitz-strasse
DTSTART;VALUE=DATE:20260917
LOCATION:Käthe-Kollwitz-Straße
BEGIN:VALARM
ACTION:DISPLAY
DESCRIPTION:Morgen: Abholung Restabfall
TRIGGER:-PT7H
END:VALARM
END:VEVENT
BEGIN:VEVENT
UID:781ee99052b1be222f9f8fd644ddb0df
DTSTAMP:20260421T092446Z
SUMMARY:Abholung Restabfall
DESCRIPTION:Alle Abholtermine auf abfallkalender.enni.de/abholtermine/kaeth
 e-kollwitz-strasse
URL:https://abfallkalender.enni.de/abholtermine/kaethe-kollwitz-strasse
DTSTART;VALUE=DATE:20261001
LOCATION:Käthe-Kollwitz-Straße
BEGIN:VALARM
ACTION:DISPLAY
DESCRIPTION:Morgen: Abholung Restabfall
TRIGGER:-PT7H
END:VALARM
END:VEVENT
BEGIN:VEVENT
UID:e32e86ab714f95e3ab814cdf4323264b
DTSTAMP:20260421T092446Z
SUMMARY:Abholung Restabfall
DESCRIPTION:Alle Abholtermine auf abfallkalender.enni.de/abholtermine/kaeth
 e-kollwitz-strasse
URL:https://abfallkalender.enni.de/abholtermine/kaethe-kollwitz-strasse
DTSTART;VALUE=DATE:20261015
LOCATION:Käthe-Kollwitz-Straße
BEGIN:VALARM
ACTION:DISPLAY
DESCRIPTION:Morgen: Abholung Restabfall
TRIGGER:-PT7H
END:VALARM
END:VEVENT
BEGIN:VEVENT
UID:6e882b95ca9fe98e5257cd3e5ffd96b8
DTSTAMP:20260421T092446Z
SUMMARY:Abholung Restabfall
DESCRIPTION:Alle Abholtermine auf abfallkalender.enni.de/abholtermine/kaeth
 e-kollwitz-strasse
URL:https://abfallkalender.enni.de/abholtermine/kaethe-kollwitz-strasse
DTSTART;VALUE=DATE:20261029
LOCATION:Käthe-Kollwitz-Straße
BEGIN:VALARM
ACTION:DISPLAY
DESCRIPTION:Morgen: Abholung Restabfall
TRIGGER:-PT7H
END:VALARM
END:VEVENT
BEGIN:VEVENT
UID:596cbf30b009ef2b41aa3cee583f5b59
DTSTAMP:20260421T092446Z
SUMMARY:Abholung Restabfall
DESCRIPTION:Alle Abholtermine auf abfallkalender.enni.de/abholtermine/kaeth
 e-kollwitz-strasse
URL:https://abfallkalender.enni.de/abholtermine/kaethe-kollwitz-strasse
DTSTART;VALUE=DATE:20261112
LOCATION:Käthe-Kollwitz-Straße
BEGIN:VALARM
ACTION:DISPLAY
DESCRIPTION:Morgen: Abholung Restabfall
TRIGGER:-PT7H
END:VALARM
END:VEVENT
BEGIN:VEVENT
UID:bf7242fa55cef995e48d35d68af0f362
DTSTAMP:20260421T092446Z
SUMMARY:Abholung Restabfall
DESCRIPTION:Alle Abholtermine auf abfallkalender.enni.de/abholtermine/kaeth
 e-kollwitz-strasse
URL:https://abfallkalender.enni.de/abholtermine/kaethe-kollwitz-strasse
DTSTART;VALUE=DATE:20261126
LOCATION:Käthe-Kollwitz-Straße
BEGIN:VALARM
ACTION:DISPLAY
DESCRIPTION:Morgen: Abholung Restabfall
TRIGGER:-PT7H
END:VALARM
END:VEVENT
BEGIN:VEVENT
UID:6cdfb7353154a172c84072d165a44ef2
DTSTAMP:20260421T092446Z
SUMMARY:Abholung Restabfall
DESCRIPTION:Alle Abholtermine auf abfallkalender.enni.de/abholtermine/kaeth
 e-kollwitz-strasse
URL:https://abfallkalender.enni.de/abholtermine/kaethe-kollwitz-strasse
DTSTART;VALUE=DATE:20261210
LOCATION:Käthe-Kollwitz-Straße
BEGIN:VALARM
ACTION:DISPLAY
DESCRIPTION:Morgen: Abholung Restabfall
TRIGGER:-PT7H
END:VALARM
END:VEVENT
BEGIN:VEVENT
UID:adb0dae5c2516663d2736720750b4346
DTSTAMP:20260421T092446Z
SUMMARY:Abholung Restabfall
DESCRIPTION:Alle Abholtermine auf abfallkalender.enni.de/abholtermine/kaeth
 e-kollwitz-strasse
URL:https://abfallkalender.enni.de/abholtermine/kaethe-kollwitz-strasse
DTSTART;VALUE=DATE:20261223
LOCATION:Käthe-Kollwitz-Straße
BEGIN:VALARM
ACTION:DISPLAY
DESCRIPTION:Morgen: Abholung Restabfall
TRIGGER:-PT7H
END:VALARM
END:VEVENT
BEGIN:VEVENT
UID:7ef257f838dfd963720debeccb3550d8
DTSTAMP:20260421T092446Z
SUMMARY:Abholung Papier
DESCRIPTION:Alle Abholtermine auf abfallkalender.enni.de/abholtermine/kaeth
 e-kollwitz-strasse
URL:https://abfallkalender.enni.de/abholtermine/kaethe-kollwitz-strasse
DTSTART;VALUE=DATE:20260508
LOCATION:Käthe-Kollwitz-Straße
BEGIN:VALARM
ACTION:DISPLAY
DESCRIPTION:Morgen: Abholung Papier
TRIGGER:-PT7H
END:VALARM
END:VEVENT
BEGIN:VEVENT
UID:c6e99bb20c876582f0d50d8e12faea91
DTSTAMP:20260421T092446Z
SUMMARY:Abholung Papier
DESCRIPTION:Alle Abholtermine auf abfallkalender.enni.de/abholtermine/kaeth
 e-kollwitz-strasse
URL:https://abfallkalender.enni.de/abholtermine/kaethe-kollwitz-strasse
DTSTART;VALUE=DATE:20260608
LOCATION:Käthe-Kollwitz-Straße
BEGIN:VALARM
ACTION:DISPLAY
DESCRIPTION:Morgen: Abholung Papier
TRIGGER:-PT7H
END:VALARM
END:VEVENT
BEGIN:VEVENT
UID:02be869563d987718af20ad0004e9bdd
DTSTAMP:20260421T092446Z
SUMMARY:Abholung Papier
DESCRIPTION:Alle Abholtermine auf abfallkalender.enni.de/abholtermine/kaeth
 e-kollwitz-strasse
URL:https://abfallkalender.enni.de/abholtermine/kaethe-kollwitz-strasse
DTSTART;VALUE=DATE:20260703
LOCATION:Käthe-Kollwitz-Straße
BEGIN:VALARM
ACTION:DISPLAY
DESCRIPTION:Morgen: Abholung Papier
TRIGGER:-PT7H
END:VALARM
END:VEVENT
BEGIN:VEVENT
UID:c66ca7a75cc9c4cd8c266a80ce9efc19
DTSTAMP:20260421T092446Z
SUMMARY:Abholung Papier
DESCRIPTION:Alle Abholtermine auf abfallkalender.enni.de/abholtermine/kaeth
 e-kollwitz-strasse
URL:https://abfallkalender.enni.de/abholtermine/kaethe-kollwitz-strasse
DTSTART;VALUE=DATE:20260731
LOCATION:Käthe-Kollwitz-Straße
BEGIN:VALARM
ACTION:DISPLAY
DESCRIPTION:Morgen: Abholung Papier
TRIGGER:-PT7H
END:VALARM
END:VEVENT
BEGIN:VEVENT
UID:4c5618649a0439719e02a870d94754f2
DTSTAMP:20260421T092446Z
SUMMARY:Abholung Papier
DESCRIPTION:Alle Abholtermine auf abfallkalender.enni.de/abholtermine/kaeth
 e-kollwitz-strasse
URL:https://abfallkalender.enni.de/abholtermine/kaethe-kollwitz-strasse
DTSTART;VALUE=DATE:20260828
LOCATION:Käthe-Kollwitz-Straße
BEGIN:VALARM
ACTION:DISPLAY
DESCRIPTION:Morgen: Abholung Papier
TRIGGER:-PT7H
END:VALARM
END:VEVENT
BEGIN:VEVENT
UID:d29c9c2c07c12720ca027194c1e463a8
DTSTAMP:20260421T092446Z
SUMMARY:Abholung Papier
DESCRIPTION:Alle Abholtermine auf abfallkalender.enni.de/abholtermine/kaeth
 e-kollwitz-strasse
URL:https://abfallkalender.enni.de/abholtermine/kaethe-kollwitz-strasse
DTSTART;VALUE=DATE:20260925
LOCATION:Käthe-Kollwitz-Straße
BEGIN:VALARM
ACTION:DISPLAY
DESCRIPTION:Morgen: Abholung Papier
TRIGGER:-PT7H
END:VALARM
END:VEVENT
BEGIN:VEVENT
UID:8922a2a6774901b5520b0379a07d604b
DTSTAMP:20260421T092446Z
SUMMARY:Abholung Papier
DESCRIPTION:Alle Abholtermine auf abfallkalender.enni.de/abholtermine/kaeth
 e-kollwitz-strasse
URL:https://abfallkalender.enni.de/abholtermine/kaethe-kollwitz-strasse
DTSTART;VALUE=DATE:20261023
LOCATION:Käthe-Kollwitz-Straße
BEGIN:VALARM
ACTION:DISPLAY
DESCRIPTION:Morgen: Abholung Papier
TRIGGER:-PT7H
END:VALARM
END:VEVENT
BEGIN:VEVENT
UID:f8e1ff850c874d1608f88a30054c431b
DTSTAMP:20260421T092446Z
SUMMARY:Abholung Papier
DESCRIPTION:Alle Abholtermine auf abfallkalender.enni.de/abholtermine/kaeth
 e-kollwitz-strasse
URL:https://abfallkalender.enni.de/abholtermine/kaethe-kollwitz-strasse
DTSTART;VALUE=DATE:20261120
LOCATION:Käthe-Kollwitz-Straße
BEGIN:VALARM
ACTION:DISPLAY
DESCRIPTION:Morgen: Abholung Papier
TRIGGER:-PT7H
END:VALARM
END:VEVENT
BEGIN:VEVENT
UID:befb76d5cbecd32db8b709bddd9bfc71
DTSTAMP:20260421T092446Z
SUMMARY:Abholung Papier
DESCRIPTION:Alle Abholtermine auf abfallkalender.enni.de/abholtermine/kaeth
 e-kollwitz-strasse
URL:https://abfallkalender.enni.de/abholtermine/kaethe-kollwitz-strasse
DTSTART;VALUE=DATE:20261218
LOCATION:Käthe-Kollwitz-Straße
BEGIN:VALARM
ACTION:DISPLAY
DESCRIPTION:Morgen: Abholung Papier
TRIGGER:-PT7H
END:VALARM
END:VEVENT
BEGIN:VEVENT
UID:d91440c3fc1b3838c864d3a462b0c27b
DTSTAMP:20260421T092446Z
SUMMARY:Abholung Gelber Sack
DESCRIPTION:Alle Abholtermine auf abfallkalender.enni.de/abholtermine/kaeth
 e-kollwitz-strasse
URL:https://abfallkalender.enni.de/abholtermine/kaethe-kollwitz-strasse
DTSTART;VALUE=DATE:20260502
LOCATION:Käthe-Kollwitz-Straße
BEGIN:VALARM
ACTION:DISPLAY
DESCRIPTION:Morgen: Abholung Gelber Sack
TRIGGER:-PT7H
END:VALARM
END:VEVENT
BEGIN:VEVENT
UID:38c556a68fca716909d3bf77827a4f88
DTSTAMP:20260421T092446Z
SUMMARY:Abholung Gelber Sack
DESCRIPTION:Alle Abholtermine auf abfallkalender.enni.de/abholtermine/kaeth
 e-kollwitz-strasse
URL:https://abfallkalender.enni.de/abholtermine/kaethe-kollwitz-strasse
DTSTART;VALUE=DATE:20260516
LOCATION:Käthe-Kollwitz-Straße
BEGIN:VALARM
ACTION:DISPLAY
DESCRIPTION:Morgen: Abholung Gelber Sack
TRIGGER:-PT7H
END:VALARM
END:VEVENT
BEGIN:VEVENT
UID:9cb5bfcac3c7781936c44baa62dcbbcd
DTSTAMP:20260421T092446Z
SUMMARY:Abholung Gelber Sack
DESCRIPTION:Alle Abholtermine auf abfallkalender.enni.de/abholtermine/kaeth
 e-kollwitz-strasse
URL:https://abfallkalender.enni.de/abholtermine/kaethe-kollwitz-strasse
DTSTART;VALUE=DATE:20260530
LOCATION:Käthe-Kollwitz-Straße
BEGIN:VALARM
ACTION:DISPLAY
DESCRIPTION:Morgen: Abholung Gelber Sack
TRIGGER:-PT7H
END:VALARM
END:VEVENT
BEGIN:VEVENT
UID:26260d38c1c4e71313a3bff0c7517097
DTSTAMP:20260421T092446Z
SUMMARY:Abholung Gelber Sack
DESCRIPTION:Alle Abholtermine auf abfallkalender.enni.de/abholtermine/kaeth
 e-kollwitz-strasse
URL:https://abfallkalender.enni.de/abholtermine/kaethe-kollwitz-strasse
DTSTART;VALUE=DATE:20260612
LOCATION:Käthe-Kollwitz-Straße
BEGIN:VALARM
ACTION:DISPLAY
DESCRIPTION:Morgen: Abholung Gelber Sack
TRIGGER:-PT7H
END:VALARM
END:VEVENT
BEGIN:VEVENT
UID:06fd2bf75eafe61fadd6d37208d495a0
DTSTAMP:20260421T092446Z
SUMMARY:Abholung Gelber Sack
DESCRIPTION:Alle Abholtermine auf abfallkalender.enni.de/abholtermine/kaeth
 e-kollwitz-strasse
URL:https://abfallkalender.enni.de/abholtermine/kaethe-kollwitz-strasse
DTSTART;VALUE=DATE:20260626
LOCATION:Käthe-Kollwitz-Straße
BEGIN:VALARM
ACTION:DISPLAY
DESCRIPTION:Morgen: Abholung Gelber Sack
TRIGGER:-PT7H
END:VALARM
END:VEVENT
BEGIN:VEVENT
UID:afd904a018aeed76fa34aced1f41b883
DTSTAMP:20260421T092446Z
SUMMARY:Abholung Gelber Sack
DESCRIPTION:Alle Abholtermine auf abfallkalender.enni.de/abholtermine/kaeth
 e-kollwitz-strasse
URL:https://abfallkalender.enni.de/abholtermine/kaethe-kollwitz-strasse
DTSTART;VALUE=DATE:20260710
LOCATION:Käthe-Kollwitz-Straße
BEGIN:VALARM
ACTION:DISPLAY
DESCRIPTION:Morgen: Abholung Gelber Sack
TRIGGER:-PT7H
END:VALARM
END:VEVENT
BEGIN:VEVENT
UID:a502844ade288d74e27ddb4ce0ebcea6
DTSTAMP:20260421T092446Z
SUMMARY:Abholung Gelber Sack
DESCRIPTION:Alle Abholtermine auf abfallkalender.enni.de/abholtermine/kaeth
 e-kollwitz-strasse
URL:https://abfallkalender.enni.de/abholtermine/kaethe-kollwitz-strasse
DTSTART;VALUE=DATE:20260724
LOCATION:Käthe-Kollwitz-Straße
BEGIN:VALARM
ACTION:DISPLAY
DESCRIPTION:Morgen: Abholung Gelber Sack
TRIGGER:-PT7H
END:VALARM
END:VEVENT
BEGIN:VEVENT
UID:05e36821a254e3d711aa48589b3b28cc
DTSTAMP:20260421T092446Z
SUMMARY:Abholung Gelber Sack
DESCRIPTION:Alle Abholtermine auf abfallkalender.enni.de/abholtermine/kaeth
 e-kollwitz-strasse
URL:https://abfallkalender.enni.de/abholtermine/kaethe-kollwitz-strasse
DTSTART;VALUE=DATE:20260807
LOCATION:Käthe-Kollwitz-Straße
BEGIN:VALARM
ACTION:DISPLAY
DESCRIPTION:Morgen: Abholung Gelber Sack
TRIGGER:-PT7H
END:VALARM
END:VEVENT
BEGIN:VEVENT
UID:2b8cd4f0259901040adb4d969e678528
DTSTAMP:20260421T092446Z
SUMMARY:Abholung Gelber Sack
DESCRIPTION:Alle Abholtermine auf abfallkalender.enni.de/abholtermine/kaeth
 e-kollwitz-strasse
URL:https://abfallkalender.enni.de/abholtermine/kaethe-kollwitz-strasse
DTSTART;VALUE=DATE:20260821
LOCATION:Käthe-Kollwitz-Straße
BEGIN:VALARM
ACTION:DISPLAY
DESCRIPTION:Morgen: Abholung Gelber Sack
TRIGGER:-PT7H
END:VALARM
END:VEVENT
BEGIN:VEVENT
UID:2e85a69917f2ea4d87264a55e9abeee5
DTSTAMP:20260421T092446Z
SUMMARY:Abholung Gelber Sack
DESCRIPTION:Alle Abholtermine auf abfallkalender.enni.de/abholtermine/kaeth
 e-kollwitz-strasse
URL:https://abfallkalender.enni.de/abholtermine/kaethe-kollwitz-strasse
DTSTART;VALUE=DATE:20260904
LOCATION:Käthe-Kollwitz-Straße
BEGIN:VALARM
ACTION:DISPLAY
DESCRIPTION:Morgen: Abholung Gelber Sack
TRIGGER:-PT7H
END:VALARM
END:VEVENT
BEGIN:VEVENT
UID:cb40b44fa47b7d55fce088e6bb4417b5
DTSTAMP:20260421T092446Z
SUMMARY:Abholung Gelber Sack
DESCRIPTION:Alle Abholtermine auf abfallkalender.enni.de/abholtermine/kaeth
 e-kollwitz-strasse
URL:https://abfallkalender.enni.de/abholtermine/kaethe-kollwitz-strasse
DTSTART;VALUE=DATE:20260918
LOCATION:Käthe-Kollwitz-Straße
BEGIN:VALARM
ACTION:DISPLAY
DESCRIPTION:Morgen: Abholung Gelber Sack
TRIGGER:-PT7H
END:VALARM
END:VEVENT
BEGIN:VEVENT
UID:c9be269387033c4cdd310942535424cd
DTSTAMP:20260421T092446Z
SUMMARY:Abholung Gelber Sack
DESCRIPTION:Alle Abholtermine auf abfallkalender.enni.de/abholtermine/kaeth
 e-kollwitz-strasse
URL:https://abfallkalender.enni.de/abholtermine/kaethe-kollwitz-strasse
DTSTART;VALUE=DATE:20261002
LOCATION:Käthe-Kollwitz-Straße
BEGIN:VALARM
ACTION:DISPLAY
DESCRIPTION:Morgen: Abholung Gelber Sack
TRIGGER:-PT7H
END:VALARM
END:VEVENT
BEGIN:VEVENT
UID:a18e11020cb07a6ca212987eac69b041
DTSTAMP:20260421T092446Z
SUMMARY:Abholung Gelber Sack
DESCRIPTION:Alle Abholtermine auf abfallkalender.enni.de/abholtermine/kaeth
 e-kollwitz-strasse
URL:https://abfallkalender.enni.de/abholtermine/kaethe-kollwitz-strasse
DTSTART;VALUE=DATE:20261016
LOCATION:Käthe-Kollwitz-Straße
BEGIN:VALARM
ACTION:DISPLAY
DESCRIPTION:Morgen: Abholung Gelber Sack
TRIGGER:-PT7H
END:VALARM
END:VEVENT
BEGIN:VEVENT
UID:53735a946bdc2c276eb21e7b9f0fbc42
DTSTAMP:20260421T092446Z
SUMMARY:Abholung Gelber Sack
DESCRIPTION:Alle Abholtermine auf abfallkalender.enni.de/abholtermine/kaeth
 e-kollwitz-strasse
URL:https://abfallkalender.enni.de/abholtermine/kaethe-kollwitz-strasse
DTSTART;VALUE=DATE:20261030
LOCATION:Käthe-Kollwitz-Straße
BEGIN:VALARM
ACTION:DISPLAY
DESCRIPTION:Morgen: Abholung Gelber Sack
TRIGGER:-PT7H
END:VALARM
END:VEVENT
BEGIN:VEVENT
UID:0e80015467c17ed003dfc036cc1c7317
DTSTAMP:20260421T092446Z
SUMMARY:Abholung Gelber Sack
DESCRIPTION:Alle Abholtermine auf abfallkalender.enni.de/abholtermine/kaeth
 e-kollwitz-strasse
URL:https://abfallkalender.enni.de/abholtermine/kaethe-kollwitz-strasse
DTSTART;VALUE=DATE:20261113
LOCATION:Käthe-Kollwitz-Straße
BEGIN:VALARM
ACTION:DISPLAY
DESCRIPTION:Morgen: Abholung Gelber Sack
TRIGGER:-PT7H
END:VALARM
END:VEVENT
BEGIN:VEVENT
UID:4e4da4722aa60d62dcaa5776dab72967
DTSTAMP:20260421T092446Z
SUMMARY:Abholung Gelber Sack
DESCRIPTION:Alle Abholtermine auf abfallkalender.enni.de/abholtermine/kaeth
 e-kollwitz-strasse
URL:https://abfallkalender.enni.de/abholtermine/kaethe-kollwitz-strasse
DTSTART;VALUE=DATE:20261127
LOCATION:Käthe-Kollwitz-Straße
BEGIN:VALARM
ACTION:DISPLAY
DESCRIPTION:Morgen: Abholung Gelber Sack
TRIGGER:-PT7H
END:VALARM
END:VEVENT
BEGIN:VEVENT
UID:0509affed66b8168f78daeec4485778e
DTSTAMP:20260421T092446Z
SUMMARY:Abholung Gelber Sack
DESCRIPTION:Alle Abholtermine auf abfallkalender.enni.de/abholtermine/kaeth
 e-kollwitz-strasse
URL:https://abfallkalender.enni.de/abholtermine/kaethe-kollwitz-strasse
DTSTART;VALUE=DATE:20261211
LOCATION:Käthe-Kollwitz-Straße
BEGIN:VALARM
ACTION:DISPLAY
DESCRIPTION:Morgen: Abholung Gelber Sack
TRIGGER:-PT7H
END:VALARM
END:VEVENT
BEGIN:VEVENT
UID:e74655efca1d529380be4db716043b6b
DTSTAMP:20260421T092446Z
SUMMARY:Abholung Gelber Sack
DESCRIPTION:Alle Abholtermine auf abfallkalender.enni.de/abholtermine/kaeth
 e-kollwitz-strasse
URL:https://abfallkalender.enni.de/abholtermine/kaethe-kollwitz-strasse
DTSTART;VALUE=DATE:20261224
LOCATION:Käthe-Kollwitz-Straße
BEGIN:VALARM
ACTION:DISPLAY
DESCRIPTION:Morgen: Abholung Gelber Sack
TRIGGER:-PT7H
END:VALARM
END:VEVENT
BEGIN:VEVENT
UID:2c8cef1da2d38ce98bb2f6c0bbd03224
DTSTAMP:20260421T092446Z
SUMMARY:Abholung Biotonne
DESCRIPTION:Alle Abholtermine auf abfallkalender.enni.de/abholtermine/kaeth
 e-kollwitz-strasse
URL:https://abfallkalender.enni.de/abholtermine/kaethe-kollwitz-strasse
DTSTART;VALUE=DATE:20260423
LOCATION:Käthe-Kollwitz-Straße
BEGIN:VALARM
ACTION:DISPLAY
DESCRIPTION:Morgen: Abholung Biotonne
TRIGGER:-PT7H
END:VALARM
END:VEVENT
BEGIN:VEVENT
UID:99881a4414231ea38d5c89c14a18b172
DTSTAMP:20260421T092446Z
SUMMARY:Abholung Biotonne
DESCRIPTION:Alle Abholtermine auf abfallkalender.enni.de/abholtermine/kaeth
 e-kollwitz-strasse
URL:https://abfallkalender.enni.de/abholtermine/kaethe-kollwitz-strasse
DTSTART;VALUE=DATE:20260507
LOCATION:Käthe-Kollwitz-Straße
BEGIN:VALARM
ACTION:DISPLAY
DESCRIPTION:Morgen: Abholung Biotonne
TRIGGER:-PT7H
END:VALARM
END:VEVENT
BEGIN:VEVENT
UID:28852cd9bb521b5596262f4fab44a86d
DTSTAMP:20260421T092446Z
SUMMARY:Abholung Biotonne
DESCRIPTION:Alle Abholtermine auf abfallkalender.enni.de/abholtermine/kaeth
 e-kollwitz-strasse
URL:https://abfallkalender.enni.de/abholtermine/kaethe-kollwitz-strasse
DTSTART;VALUE=DATE:20260521
LOCATION:Käthe-Kollwitz-Straße
BEGIN:VALARM
ACTION:DISPLAY
DESCRIPTION:Morgen: Abholung Biotonne
TRIGGER:-PT7H
END:VALARM
END:VEVENT
BEGIN:VEVENT
UID:3258d49bab3540eccc094e17492ec3ea
DTSTAMP:20260421T092446Z
SUMMARY:Abholung Biotonne
DESCRIPTION:Alle Abholtermine auf abfallkalender.enni.de/abholtermine/kaeth
 e-kollwitz-strasse
URL:https://abfallkalender.enni.de/abholtermine/kaethe-kollwitz-strasse
DTSTART;VALUE=DATE:20260605
LOCATION:Käthe-Kollwitz-Straße
BEGIN:VALARM
ACTION:DISPLAY
DESCRIPTION:Morgen: Abholung Biotonne
TRIGGER:-PT7H
END:VALARM
END:VEVENT
BEGIN:VEVENT
UID:221df8bfc03398219680f25fde178ebd
DTSTAMP:20260421T092446Z
SUMMARY:Abholung Biotonne
DESCRIPTION:Alle Abholtermine auf abfallkalender.enni.de/abholtermine/kaeth
 e-kollwitz-strasse
URL:https://abfallkalender.enni.de/abholtermine/kaethe-kollwitz-strasse
DTSTART;VALUE=DATE:20260618
LOCATION:Käthe-Kollwitz-Straße
BEGIN:VALARM
ACTION:DISPLAY
DESCRIPTION:Morgen: Abholung Biotonne
TRIGGER:-PT7H
END:VALARM
END:VEVENT
BEGIN:VEVENT
UID:a85ee8b42f5852451b857d3d7516197d
DTSTAMP:20260421T092446Z
SUMMARY:Abholung Biotonne
DESCRIPTION:Alle Abholtermine auf abfallkalender.enni.de/abholtermine/kaeth
 e-kollwitz-strasse
URL:https://abfallkalender.enni.de/abholtermine/kaethe-kollwitz-strasse
DTSTART;VALUE=DATE:20260702
LOCATION:Käthe-Kollwitz-Straße
BEGIN:VALARM
ACTION:DISPLAY
DESCRIPTION:Morgen: Abholung Biotonne
TRIGGER:-PT7H
END:VALARM
END:VEVENT
BEGIN:VEVENT
UID:4bdee4da3788273053c7c7dba6bdc9d4
DTSTAMP:20260421T092446Z
SUMMARY:Abholung Biotonne
DESCRIPTION:Alle Abholtermine auf abfallkalender.enni.de/abholtermine/kaeth
 e-kollwitz-strasse
URL:https://abfallkalender.enni.de/abholtermine/kaethe-kollwitz-strasse
DTSTART;VALUE=DATE:20260716
LOCATION:Käthe-Kollwitz-Straße
BEGIN:VALARM
ACTION:DISPLAY
DESCRIPTION:Morgen: Abholung Biotonne
TRIGGER:-PT7H
END:VALARM
END:VEVENT
BEGIN:VEVENT
UID:9d88f09d3f0e1f1b452d611d6d7c5a19
DTSTAMP:20260421T092446Z
SUMMARY:Abholung Biotonne
DESCRIPTION:Alle Abholtermine auf abfallkalender.enni.de/abholtermine/kaeth
 e-kollwitz-strasse
URL:https://abfallkalender.enni.de/abholtermine/kaethe-kollwitz-strasse
DTSTART;VALUE=DATE:20260730
LOCATION:Käthe-Kollwitz-Straße
BEGIN:VALARM
ACTION:DISPLAY
DESCRIPTION:Morgen: Abholung Biotonne
TRIGGER:-PT7H
END:VALARM
END:VEVENT
BEGIN:VEVENT
UID:5e6b19ae2c2238b34aed18288895fd54
DTSTAMP:20260421T092446Z
SUMMARY:Abholung Biotonne
DESCRIPTION:Alle Abholtermine auf abfallkalender.enni.de/abholtermine/kaeth
 e-kollwitz-strasse
URL:https://abfallkalender.enni.de/abholtermine/kaethe-kollwitz-strasse
DTSTART;VALUE=DATE:20260813
LOCATION:Käthe-Kollwitz-Straße
BEGIN:VALARM
ACTION:DISPLAY
DESCRIPTION:Morgen: Abholung Biotonne
TRIGGER:-PT7H
END:VALARM
END:VEVENT
BEGIN:VEVENT
UID:d1eb5b4d0764e89afe4a0c62c2830686
DTSTAMP:20260421T092446Z
SUMMARY:Abholung Biotonne
DESCRIPTION:Alle Abholtermine auf abfallkalender.enni.de/abholtermine/kaeth
 e-kollwitz-strasse
URL:https://abfallkalender.enni.de/abholtermine/kaethe-kollwitz-strasse
DTSTART;VALUE=DATE:20260827
LOCATION:Käthe-Kollwitz-Straße
BEGIN:VALARM
ACTION:DISPLAY
DESCRIPTION:Morgen: Abholung Biotonne
TRIGGER:-PT7H
END:VALARM
END:VEVENT
BEGIN:VEVENT
UID:24775423f17c246420cbb8dc45d3a935
DTSTAMP:20260421T092446Z
SUMMARY:Abholung Biotonne
DESCRIPTION:Alle Abholtermine auf abfallkalender.enni.de/abholtermine/kaeth
 e-kollwitz-strasse
URL:https://abfallkalender.enni.de/abholtermine/kaethe-kollwitz-strasse
DTSTART;VALUE=DATE:20260910
LOCATION:Käthe-Kollwitz-Straße
BEGIN:VALARM
ACTION:DISPLAY
DESCRIPTION:Morgen: Abholung Biotonne
TRIGGER:-PT7H
END:VALARM
END:VEVENT
BEGIN:VEVENT
UID:c7c6da217a3dc476c2ada25f229e159a
DTSTAMP:20260421T092446Z
SUMMARY:Abholung Biotonne
DESCRIPTION:Alle Abholtermine auf abfallkalender.enni.de/abholtermine/kaeth
 e-kollwitz-strasse
URL:https://abfallkalender.enni.de/abholtermine/kaethe-kollwitz-strasse
DTSTART;VALUE=DATE:20260924
LOCATION:Käthe-Kollwitz-Straße
BEGIN:VALARM
ACTION:DISPLAY
DESCRIPTION:Morgen: Abholung Biotonne
TRIGGER:-PT7H
END:VALARM
END:VEVENT
BEGIN:VEVENT
UID:630982c9173007afb9fa7429d53e36e1
DTSTAMP:20260421T092446Z
SUMMARY:Abholung Biotonne
DESCRIPTION:Alle Abholtermine auf abfallkalender.enni.de/abholtermine/kaeth
 e-kollwitz-strasse
URL:https://abfallkalender.enni.de/abholtermine/kaethe-kollwitz-strasse
DTSTART;VALUE=DATE:20261008
LOCATION:Käthe-Kollwitz-Straße
BEGIN:VALARM
ACTION:DISPLAY
DESCRIPTION:Morgen: Abholung Biotonne
TRIGGER:-PT7H
END:VALARM
END:VEVENT
BEGIN:VEVENT
UID:3cc8fd9454c4a445a5e37ff1e76dbe19
DTSTAMP:20260421T092446Z
SUMMARY:Abholung Biotonne
DESCRIPTION:Alle Abholtermine auf abfallkalender.enni.de/abholtermine/kaeth
 e-kollwitz-strasse
URL:https://abfallkalender.enni.de/abholtermine/kaethe-kollwitz-strasse
DTSTART;VALUE=DATE:20261022
LOCATION:Käthe-Kollwitz-Straße
BEGIN:VALARM
ACTION:DISPLAY
DESCRIPTION:Morgen: Abholung Biotonne
TRIGGER:-PT7H
END:VALARM
END:VEVENT
BEGIN:VEVENT
UID:3095d4a74ad666655f2b4ef1b82fe51f
DTSTAMP:20260421T092446Z
SUMMARY:Abholung Biotonne
DESCRIPTION:Alle Abholtermine auf abfallkalender.enni.de/abholtermine/kaeth
 e-kollwitz-strasse
URL:https://abfallkalender.enni.de/abholtermine/kaethe-kollwitz-strasse
DTSTART;VALUE=DATE:20261105
LOCATION:Käthe-Kollwitz-Straße
BEGIN:VALARM
ACTION:DISPLAY
DESCRIPTION:Morgen: Abholung Biotonne
TRIGGER:-PT7H
END:VALARM
END:VEVENT
BEGIN:VEVENT
UID:1c06022cf6636fa5eff84f943874a980
DTSTAMP:20260421T092446Z
SUMMARY:Abholung Biotonne
DESCRIPTION:Alle Abholtermine auf abfallkalender.enni.de/abholtermine/kaeth
 e-kollwitz-strasse
URL:https://abfallkalender.enni.de/abholtermine/kaethe-kollwitz-strasse
DTSTART;VALUE=DATE:20261119
LOCATION:Käthe-Kollwitz-Straße
BEGIN:VALARM
ACTION:DISPLAY
DESCRIPTION:Morgen: Abholung Biotonne
TRIGGER:-PT7H
END:VALARM
END:VEVENT
BEGIN:VEVENT
UID:72443788497741668d3bf68983e419db
DTSTAMP:20260421T092446Z
SUMMARY:Abholung Biotonne
DESCRIPTION:Alle Abholtermine auf abfallkalender.enni.de/abholtermine/kaeth
 e-kollwitz-strasse
URL:https://abfallkalender.enni.de/abholtermine/kaethe-kollwitz-strasse
DTSTART;VALUE=DATE:20261203
LOCATION:Käthe-Kollwitz-Straße
BEGIN:VALARM
ACTION:DISPLAY
DESCRIPTION:Morgen: Abholung Biotonne
TRIGGER:-PT7H
END:VALARM
END:VEVENT
BEGIN:VEVENT
UID:4a382f3c8a8633576518558e13ef5ca2
DTSTAMP:20260421T092446Z
SUMMARY:Abholung Biotonne
DESCRIPTION:Alle Abholtermine auf abfallkalender.enni.de/abholtermine/kaeth
 e-kollwitz-strasse
URL:https://abfallkalender.enni.de/abholtermine/kaethe-kollwitz-strasse
DTSTART;VALUE=DATE:20261217
LOCATION:Käthe-Kollwitz-Straße
BEGIN:VALARM
ACTION:DISPLAY
DESCRIPTION:Morgen: Abholung Biotonne
TRIGGER:-PT7H
END:VALARM
END:VEVENT
BEGIN:VEVENT
UID:5153c61ad808fffcb2dd299aa7cdc2b4
DTSTAMP:20260421T092446Z
SUMMARY:Abholung Biotonne
DESCRIPTION:Alle Abholtermine auf abfallkalender.enni.de/abholtermine/kaeth
 e-kollwitz-strasse
URL:https://abfallkalender.enni.de/abholtermine/kaethe-kollwitz-strasse
DTSTART;VALUE=DATE:20261231
LOCATION:Käthe-Kollwitz-Straße
BEGIN:VALARM
ACTION:DISPLAY
DESCRIPTION:Morgen: Abholung Biotonne
TRIGGER:-PT7H
END:VALARM
END:VEVENT
BEGIN:VEVENT
UID:02c77421da25d2a76fce848a38208134
DTSTAMP:20260421T092446Z
SUMMARY:Abholung Grünschnitt
DESCRIPTION:Alle Abholtermine auf abfallkalender.enni.de/abholtermine/kaeth
 e-kollwitz-strasse
URL:https://abfallkalender.enni.de/abholtermine/kaethe-kollwitz-strasse
DTSTART;VALUE=DATE:20261119
LOCATION:Käthe-Kollwitz-Straße
BEGIN:VALARM
ACTION:DISPLAY
DESCRIPTION:Morgen: Abholung Grünschnitt
TRIGGER:-PT7H
END:VALARM
END:VEVENT
END:VCALENDAR
