BEGIN:VCALENDAR
PRODID:-//eluceo/ical//2.0/EN
VERSION:2.0
CALSCALE:GREGORIAN
BEGIN:VEVENT
UID:68a7760b0454fad4e1a47b5204394255
DTSTAMP:20260422T093240Z
SUMMARY:Abholung Restabfall
DESCRIPTION:Alle Abholtermine auf abfallkalender.enni.de/abholtermine/franz
 -haniel-strasse
URL:https://abfallkalender.enni.de/abholtermine/franz-haniel-strasse
DTSTART;VALUE=DATE:20260428
LOCATION:Franz-Haniel-Straße
BEGIN:VALARM
ACTION:DISPLAY
DESCRIPTION:Morgen: Abholung Restabfall
TRIGGER:-PT7H
END:VALARM
END:VEVENT
BEGIN:VEVENT
UID:fd045b93566c54d6bd7110763e7fdf21
DTSTAMP:20260422T093240Z
SUMMARY:Abholung Restabfall
DESCRIPTION:Alle Abholtermine auf abfallkalender.enni.de/abholtermine/franz
 -haniel-strasse
URL:https://abfallkalender.enni.de/abholtermine/franz-haniel-strasse
DTSTART;VALUE=DATE:20260512
LOCATION:Franz-Haniel-Straße
BEGIN:VALARM
ACTION:DISPLAY
DESCRIPTION:Morgen: Abholung Restabfall
TRIGGER:-PT7H
END:VALARM
END:VEVENT
BEGIN:VEVENT
UID:2efcd1de5328fe520cb7f046df298163
DTSTAMP:20260422T093240Z
SUMMARY:Abholung Restabfall
DESCRIPTION:Alle Abholtermine auf abfallkalender.enni.de/abholtermine/franz
 -haniel-strasse
URL:https://abfallkalender.enni.de/abholtermine/franz-haniel-strasse
DTSTART;VALUE=DATE:20260527
LOCATION:Franz-Haniel-Straße
BEGIN:VALARM
ACTION:DISPLAY
DESCRIPTION:Morgen: Abholung Restabfall
TRIGGER:-PT7H
END:VALARM
END:VEVENT
BEGIN:VEVENT
UID:69f26d94459c2c642660d70e2cdd77ce
DTSTAMP:20260422T093240Z
SUMMARY:Abholung Restabfall
DESCRIPTION:Alle Abholtermine auf abfallkalender.enni.de/abholtermine/franz
 -haniel-strasse
URL:https://abfallkalender.enni.de/abholtermine/franz-haniel-strasse
DTSTART;VALUE=DATE:20260609
LOCATION:Franz-Haniel-Straße
BEGIN:VALARM
ACTION:DISPLAY
DESCRIPTION:Morgen: Abholung Restabfall
TRIGGER:-PT7H
END:VALARM
END:VEVENT
BEGIN:VEVENT
UID:d75ffd755076435e3972b71731013676
DTSTAMP:20260422T093240Z
SUMMARY:Abholung Restabfall
DESCRIPTION:Alle Abholtermine auf abfallkalender.enni.de/abholtermine/franz
 -haniel-strasse
URL:https://abfallkalender.enni.de/abholtermine/franz-haniel-strasse
DTSTART;VALUE=DATE:20260623
LOCATION:Franz-Haniel-Straße
BEGIN:VALARM
ACTION:DISPLAY
DESCRIPTION:Morgen: Abholung Restabfall
TRIGGER:-PT7H
END:VALARM
END:VEVENT
BEGIN:VEVENT
UID:98989152029b6b9e66ec1617d0041b04
DTSTAMP:20260422T093240Z
SUMMARY:Abholung Restabfall
DESCRIPTION:Alle Abholtermine auf abfallkalender.enni.de/abholtermine/franz
 -haniel-strasse
URL:https://abfallkalender.enni.de/abholtermine/franz-haniel-strasse
DTSTART;VALUE=DATE:20260707
LOCATION:Franz-Haniel-Straße
BEGIN:VALARM
ACTION:DISPLAY
DESCRIPTION:Morgen: Abholung Restabfall
TRIGGER:-PT7H
END:VALARM
END:VEVENT
BEGIN:VEVENT
UID:2f5cd085b482e1d06d7963b61f982bd8
DTSTAMP:20260422T093240Z
SUMMARY:Abholung Restabfall
DESCRIPTION:Alle Abholtermine auf abfallkalender.enni.de/abholtermine/franz
 -haniel-strasse
URL:https://abfallkalender.enni.de/abholtermine/franz-haniel-strasse
DTSTART;VALUE=DATE:20260721
LOCATION:Franz-Haniel-Straße
BEGIN:VALARM
ACTION:DISPLAY
DESCRIPTION:Morgen: Abholung Restabfall
TRIGGER:-PT7H
END:VALARM
END:VEVENT
BEGIN:VEVENT
UID:dd8c6363ee2dacf707f9216b79c46b7e
DTSTAMP:20260422T093240Z
SUMMARY:Abholung Restabfall
DESCRIPTION:Alle Abholtermine auf abfallkalender.enni.de/abholtermine/franz
 -haniel-strasse
URL:https://abfallkalender.enni.de/abholtermine/franz-haniel-strasse
DTSTART;VALUE=DATE:20260804
LOCATION:Franz-Haniel-Straße
BEGIN:VALARM
ACTION:DISPLAY
DESCRIPTION:Morgen: Abholung Restabfall
TRIGGER:-PT7H
END:VALARM
END:VEVENT
BEGIN:VEVENT
UID:335f2644f7786c80f1103bd0dc98df2a
DTSTAMP:20260422T093240Z
SUMMARY:Abholung Restabfall
DESCRIPTION:Alle Abholtermine auf abfallkalender.enni.de/abholtermine/franz
 -haniel-strasse
URL:https://abfallkalender.enni.de/abholtermine/franz-haniel-strasse
DTSTART;VALUE=DATE:20260818
LOCATION:Franz-Haniel-Straße
BEGIN:VALARM
ACTION:DISPLAY
DESCRIPTION:Morgen: Abholung Restabfall
TRIGGER:-PT7H
END:VALARM
END:VEVENT
BEGIN:VEVENT
UID:ad1e2f0fd043fb2efaefc6a8cd6bfd2d
DTSTAMP:20260422T093240Z
SUMMARY:Abholung Restabfall
DESCRIPTION:Alle Abholtermine auf abfallkalender.enni.de/abholtermine/franz
 -haniel-strasse
URL:https://abfallkalender.enni.de/abholtermine/franz-haniel-strasse
DTSTART;VALUE=DATE:20260901
LOCATION:Franz-Haniel-Straße
BEGIN:VALARM
ACTION:DISPLAY
DESCRIPTION:Morgen: Abholung Restabfall
TRIGGER:-PT7H
END:VALARM
END:VEVENT
BEGIN:VEVENT
UID:e0ce574970cccfa6b9b8a65e3b32ede2
DTSTAMP:20260422T093240Z
SUMMARY:Abholung Restabfall
DESCRIPTION:Alle Abholtermine auf abfallkalender.enni.de/abholtermine/franz
 -haniel-strasse
URL:https://abfallkalender.enni.de/abholtermine/franz-haniel-strasse
DTSTART;VALUE=DATE:20260915
LOCATION:Franz-Haniel-Straße
BEGIN:VALARM
ACTION:DISPLAY
DESCRIPTION:Morgen: Abholung Restabfall
TRIGGER:-PT7H
END:VALARM
END:VEVENT
BEGIN:VEVENT
UID:a71aae46c878e4289d0e864332971077
DTSTAMP:20260422T093240Z
SUMMARY:Abholung Restabfall
DESCRIPTION:Alle Abholtermine auf abfallkalender.enni.de/abholtermine/franz
 -haniel-strasse
URL:https://abfallkalender.enni.de/abholtermine/franz-haniel-strasse
DTSTART;VALUE=DATE:20260929
LOCATION:Franz-Haniel-Straße
BEGIN:VALARM
ACTION:DISPLAY
DESCRIPTION:Morgen: Abholung Restabfall
TRIGGER:-PT7H
END:VALARM
END:VEVENT
BEGIN:VEVENT
UID:24748ba7a8521246ed0c358c387b6dbe
DTSTAMP:20260422T093240Z
SUMMARY:Abholung Restabfall
DESCRIPTION:Alle Abholtermine auf abfallkalender.enni.de/abholtermine/franz
 -haniel-strasse
URL:https://abfallkalender.enni.de/abholtermine/franz-haniel-strasse
DTSTART;VALUE=DATE:20261013
LOCATION:Franz-Haniel-Straße
BEGIN:VALARM
ACTION:DISPLAY
DESCRIPTION:Morgen: Abholung Restabfall
TRIGGER:-PT7H
END:VALARM
END:VEVENT
BEGIN:VEVENT
UID:2f940c693ebd651b39a2089e0434fa61
DTSTAMP:20260422T093240Z
SUMMARY:Abholung Restabfall
DESCRIPTION:Alle Abholtermine auf abfallkalender.enni.de/abholtermine/franz
 -haniel-strasse
URL:https://abfallkalender.enni.de/abholtermine/franz-haniel-strasse
DTSTART;VALUE=DATE:20261027
LOCATION:Franz-Haniel-Straße
BEGIN:VALARM
ACTION:DISPLAY
DESCRIPTION:Morgen: Abholung Restabfall
TRIGGER:-PT7H
END:VALARM
END:VEVENT
BEGIN:VEVENT
UID:7cb67dd657d295e8ae9283d9b0eac926
DTSTAMP:20260422T093240Z
SUMMARY:Abholung Restabfall
DESCRIPTION:Alle Abholtermine auf abfallkalender.enni.de/abholtermine/franz
 -haniel-strasse
URL:https://abfallkalender.enni.de/abholtermine/franz-haniel-strasse
DTSTART;VALUE=DATE:20261110
LOCATION:Franz-Haniel-Straße
BEGIN:VALARM
ACTION:DISPLAY
DESCRIPTION:Morgen: Abholung Restabfall
TRIGGER:-PT7H
END:VALARM
END:VEVENT
BEGIN:VEVENT
UID:6ae7e100fb9822b57588593d0d9ec7c0
DTSTAMP:20260422T093240Z
SUMMARY:Abholung Restabfall
DESCRIPTION:Alle Abholtermine auf abfallkalender.enni.de/abholtermine/franz
 -haniel-strasse
URL:https://abfallkalender.enni.de/abholtermine/franz-haniel-strasse
DTSTART;VALUE=DATE:20261124
LOCATION:Franz-Haniel-Straße
BEGIN:VALARM
ACTION:DISPLAY
DESCRIPTION:Morgen: Abholung Restabfall
TRIGGER:-PT7H
END:VALARM
END:VEVENT
BEGIN:VEVENT
UID:94ea9e17ca1752f897adff069a96c897
DTSTAMP:20260422T093240Z
SUMMARY:Abholung Restabfall
DESCRIPTION:Alle Abholtermine auf abfallkalender.enni.de/abholtermine/franz
 -haniel-strasse
URL:https://abfallkalender.enni.de/abholtermine/franz-haniel-strasse
DTSTART;VALUE=DATE:20261208
LOCATION:Franz-Haniel-Straße
BEGIN:VALARM
ACTION:DISPLAY
DESCRIPTION:Morgen: Abholung Restabfall
TRIGGER:-PT7H
END:VALARM
END:VEVENT
BEGIN:VEVENT
UID:af509c64ce1365c55255c62e7c49a94c
DTSTAMP:20260422T093240Z
SUMMARY:Abholung Restabfall
DESCRIPTION:Alle Abholtermine auf abfallkalender.enni.de/abholtermine/franz
 -haniel-strasse
URL:https://abfallkalender.enni.de/abholtermine/franz-haniel-strasse
DTSTART;VALUE=DATE:20261221
LOCATION:Franz-Haniel-Straße
BEGIN:VALARM
ACTION:DISPLAY
DESCRIPTION:Morgen: Abholung Restabfall
TRIGGER:-PT7H
END:VALARM
END:VEVENT
BEGIN:VEVENT
UID:e5ce20ede6076f9b35ab7ccb7a3e15e9
DTSTAMP:20260422T093240Z
SUMMARY:Abholung Papier
DESCRIPTION:Alle Abholtermine auf abfallkalender.enni.de/abholtermine/franz
 -haniel-strasse
URL:https://abfallkalender.enni.de/abholtermine/franz-haniel-strasse
DTSTART;VALUE=DATE:20260504
LOCATION:Franz-Haniel-Straße
BEGIN:VALARM
ACTION:DISPLAY
DESCRIPTION:Morgen: Abholung Papier
TRIGGER:-PT7H
END:VALARM
END:VEVENT
BEGIN:VEVENT
UID:1eb5ff6e7546975899f9ecb646913de2
DTSTAMP:20260422T093240Z
SUMMARY:Abholung Papier
DESCRIPTION:Alle Abholtermine auf abfallkalender.enni.de/abholtermine/franz
 -haniel-strasse
URL:https://abfallkalender.enni.de/abholtermine/franz-haniel-strasse
DTSTART;VALUE=DATE:20260601
LOCATION:Franz-Haniel-Straße
BEGIN:VALARM
ACTION:DISPLAY
DESCRIPTION:Morgen: Abholung Papier
TRIGGER:-PT7H
END:VALARM
END:VEVENT
BEGIN:VEVENT
UID:16890e822c0ec5242efc2cdf6e5f7fc0
DTSTAMP:20260422T093240Z
SUMMARY:Abholung Papier
DESCRIPTION:Alle Abholtermine auf abfallkalender.enni.de/abholtermine/franz
 -haniel-strasse
URL:https://abfallkalender.enni.de/abholtermine/franz-haniel-strasse
DTSTART;VALUE=DATE:20260629
LOCATION:Franz-Haniel-Straße
BEGIN:VALARM
ACTION:DISPLAY
DESCRIPTION:Morgen: Abholung Papier
TRIGGER:-PT7H
END:VALARM
END:VEVENT
BEGIN:VEVENT
UID:60c73c29c95f6b781e461659315cb859
DTSTAMP:20260422T093240Z
SUMMARY:Abholung Papier
DESCRIPTION:Alle Abholtermine auf abfallkalender.enni.de/abholtermine/franz
 -haniel-strasse
URL:https://abfallkalender.enni.de/abholtermine/franz-haniel-strasse
DTSTART;VALUE=DATE:20260727
LOCATION:Franz-Haniel-Straße
BEGIN:VALARM
ACTION:DISPLAY
DESCRIPTION:Morgen: Abholung Papier
TRIGGER:-PT7H
END:VALARM
END:VEVENT
BEGIN:VEVENT
UID:8983ff46b2cdaf81a0657b4bd219902d
DTSTAMP:20260422T093240Z
SUMMARY:Abholung Papier
DESCRIPTION:Alle Abholtermine auf abfallkalender.enni.de/abholtermine/franz
 -haniel-strasse
URL:https://abfallkalender.enni.de/abholtermine/franz-haniel-strasse
DTSTART;VALUE=DATE:20260824
LOCATION:Franz-Haniel-Straße
BEGIN:VALARM
ACTION:DISPLAY
DESCRIPTION:Morgen: Abholung Papier
TRIGGER:-PT7H
END:VALARM
END:VEVENT
BEGIN:VEVENT
UID:a79887aa09c855c76a1d7fe357b4f68e
DTSTAMP:20260422T093240Z
SUMMARY:Abholung Papier
DESCRIPTION:Alle Abholtermine auf abfallkalender.enni.de/abholtermine/franz
 -haniel-strasse
URL:https://abfallkalender.enni.de/abholtermine/franz-haniel-strasse
DTSTART;VALUE=DATE:20260921
LOCATION:Franz-Haniel-Straße
BEGIN:VALARM
ACTION:DISPLAY
DESCRIPTION:Morgen: Abholung Papier
TRIGGER:-PT7H
END:VALARM
END:VEVENT
BEGIN:VEVENT
UID:4f77ddad59518d9cb0aa1cc86b003cd0
DTSTAMP:20260422T093240Z
SUMMARY:Abholung Papier
DESCRIPTION:Alle Abholtermine auf abfallkalender.enni.de/abholtermine/franz
 -haniel-strasse
URL:https://abfallkalender.enni.de/abholtermine/franz-haniel-strasse
DTSTART;VALUE=DATE:20261019
LOCATION:Franz-Haniel-Straße
BEGIN:VALARM
ACTION:DISPLAY
DESCRIPTION:Morgen: Abholung Papier
TRIGGER:-PT7H
END:VALARM
END:VEVENT
BEGIN:VEVENT
UID:2b4d178c829d20fe024dbcfad311e553
DTSTAMP:20260422T093240Z
SUMMARY:Abholung Papier
DESCRIPTION:Alle Abholtermine auf abfallkalender.enni.de/abholtermine/franz
 -haniel-strasse
URL:https://abfallkalender.enni.de/abholtermine/franz-haniel-strasse
DTSTART;VALUE=DATE:20261116
LOCATION:Franz-Haniel-Straße
BEGIN:VALARM
ACTION:DISPLAY
DESCRIPTION:Morgen: Abholung Papier
TRIGGER:-PT7H
END:VALARM
END:VEVENT
BEGIN:VEVENT
UID:36dba54627bcf17eb61717617f32149c
DTSTAMP:20260422T093240Z
SUMMARY:Abholung Papier
DESCRIPTION:Alle Abholtermine auf abfallkalender.enni.de/abholtermine/franz
 -haniel-strasse
URL:https://abfallkalender.enni.de/abholtermine/franz-haniel-strasse
DTSTART;VALUE=DATE:20261214
LOCATION:Franz-Haniel-Straße
BEGIN:VALARM
ACTION:DISPLAY
DESCRIPTION:Morgen: Abholung Papier
TRIGGER:-PT7H
END:VALARM
END:VEVENT
BEGIN:VEVENT
UID:0a86ea447e0ca2231bbb57ff866d9b24
DTSTAMP:20260422T093240Z
SUMMARY:Abholung Gelber Sack
DESCRIPTION:Alle Abholtermine auf abfallkalender.enni.de/abholtermine/franz
 -haniel-strasse
URL:https://abfallkalender.enni.de/abholtermine/franz-haniel-strasse
DTSTART;VALUE=DATE:20260421
LOCATION:Franz-Haniel-Straße
BEGIN:VALARM
ACTION:DISPLAY
DESCRIPTION:Morgen: Abholung Gelber Sack
TRIGGER:-PT7H
END:VALARM
END:VEVENT
BEGIN:VEVENT
UID:d4e2250eccfc5009e237099c4a8c254d
DTSTAMP:20260422T093240Z
SUMMARY:Abholung Gelber Sack
DESCRIPTION:Alle Abholtermine auf abfallkalender.enni.de/abholtermine/franz
 -haniel-strasse
URL:https://abfallkalender.enni.de/abholtermine/franz-haniel-strasse
DTSTART;VALUE=DATE:20260505
LOCATION:Franz-Haniel-Straße
BEGIN:VALARM
ACTION:DISPLAY
DESCRIPTION:Morgen: Abholung Gelber Sack
TRIGGER:-PT7H
END:VALARM
END:VEVENT
BEGIN:VEVENT
UID:abf21698f956a08a6d9d9f576327afb8
DTSTAMP:20260422T093240Z
SUMMARY:Abholung Gelber Sack
DESCRIPTION:Alle Abholtermine auf abfallkalender.enni.de/abholtermine/franz
 -haniel-strasse
URL:https://abfallkalender.enni.de/abholtermine/franz-haniel-strasse
DTSTART;VALUE=DATE:20260519
LOCATION:Franz-Haniel-Straße
BEGIN:VALARM
ACTION:DISPLAY
DESCRIPTION:Morgen: Abholung Gelber Sack
TRIGGER:-PT7H
END:VALARM
END:VEVENT
BEGIN:VEVENT
UID:6724de462c18d5bfe793133dd665f2ee
DTSTAMP:20260422T093240Z
SUMMARY:Abholung Gelber Sack
DESCRIPTION:Alle Abholtermine auf abfallkalender.enni.de/abholtermine/franz
 -haniel-strasse
URL:https://abfallkalender.enni.de/abholtermine/franz-haniel-strasse
DTSTART;VALUE=DATE:20260602
LOCATION:Franz-Haniel-Straße
BEGIN:VALARM
ACTION:DISPLAY
DESCRIPTION:Morgen: Abholung Gelber Sack
TRIGGER:-PT7H
END:VALARM
END:VEVENT
BEGIN:VEVENT
UID:708fa67733645f4f660670704b7452c1
DTSTAMP:20260422T093240Z
SUMMARY:Abholung Gelber Sack
DESCRIPTION:Alle Abholtermine auf abfallkalender.enni.de/abholtermine/franz
 -haniel-strasse
URL:https://abfallkalender.enni.de/abholtermine/franz-haniel-strasse
DTSTART;VALUE=DATE:20260616
LOCATION:Franz-Haniel-Straße
BEGIN:VALARM
ACTION:DISPLAY
DESCRIPTION:Morgen: Abholung Gelber Sack
TRIGGER:-PT7H
END:VALARM
END:VEVENT
BEGIN:VEVENT
UID:022fdaf33791d04c4ac6d34b8e699024
DTSTAMP:20260422T093240Z
SUMMARY:Abholung Gelber Sack
DESCRIPTION:Alle Abholtermine auf abfallkalender.enni.de/abholtermine/franz
 -haniel-strasse
URL:https://abfallkalender.enni.de/abholtermine/franz-haniel-strasse
DTSTART;VALUE=DATE:20260630
LOCATION:Franz-Haniel-Straße
BEGIN:VALARM
ACTION:DISPLAY
DESCRIPTION:Morgen: Abholung Gelber Sack
TRIGGER:-PT7H
END:VALARM
END:VEVENT
BEGIN:VEVENT
UID:094600bc80e6ab2d3e93a0ad39f56416
DTSTAMP:20260422T093240Z
SUMMARY:Abholung Gelber Sack
DESCRIPTION:Alle Abholtermine auf abfallkalender.enni.de/abholtermine/franz
 -haniel-strasse
URL:https://abfallkalender.enni.de/abholtermine/franz-haniel-strasse
DTSTART;VALUE=DATE:20260714
LOCATION:Franz-Haniel-Straße
BEGIN:VALARM
ACTION:DISPLAY
DESCRIPTION:Morgen: Abholung Gelber Sack
TRIGGER:-PT7H
END:VALARM
END:VEVENT
BEGIN:VEVENT
UID:b276d3783acd80c06479c2898a1a8dc8
DTSTAMP:20260422T093240Z
SUMMARY:Abholung Gelber Sack
DESCRIPTION:Alle Abholtermine auf abfallkalender.enni.de/abholtermine/franz
 -haniel-strasse
URL:https://abfallkalender.enni.de/abholtermine/franz-haniel-strasse
DTSTART;VALUE=DATE:20260728
LOCATION:Franz-Haniel-Straße
BEGIN:VALARM
ACTION:DISPLAY
DESCRIPTION:Morgen: Abholung Gelber Sack
TRIGGER:-PT7H
END:VALARM
END:VEVENT
BEGIN:VEVENT
UID:5ea6fae3fb9b43fc05b80edf01713983
DTSTAMP:20260422T093240Z
SUMMARY:Abholung Gelber Sack
DESCRIPTION:Alle Abholtermine auf abfallkalender.enni.de/abholtermine/franz
 -haniel-strasse
URL:https://abfallkalender.enni.de/abholtermine/franz-haniel-strasse
DTSTART;VALUE=DATE:20260811
LOCATION:Franz-Haniel-Straße
BEGIN:VALARM
ACTION:DISPLAY
DESCRIPTION:Morgen: Abholung Gelber Sack
TRIGGER:-PT7H
END:VALARM
END:VEVENT
BEGIN:VEVENT
UID:f7a839e1dcae2c412d6cbb844c05b5c4
DTSTAMP:20260422T093240Z
SUMMARY:Abholung Gelber Sack
DESCRIPTION:Alle Abholtermine auf abfallkalender.enni.de/abholtermine/franz
 -haniel-strasse
URL:https://abfallkalender.enni.de/abholtermine/franz-haniel-strasse
DTSTART;VALUE=DATE:20260825
LOCATION:Franz-Haniel-Straße
BEGIN:VALARM
ACTION:DISPLAY
DESCRIPTION:Morgen: Abholung Gelber Sack
TRIGGER:-PT7H
END:VALARM
END:VEVENT
BEGIN:VEVENT
UID:9032211fa12180c811e304d17873cd13
DTSTAMP:20260422T093240Z
SUMMARY:Abholung Gelber Sack
DESCRIPTION:Alle Abholtermine auf abfallkalender.enni.de/abholtermine/franz
 -haniel-strasse
URL:https://abfallkalender.enni.de/abholtermine/franz-haniel-strasse
DTSTART;VALUE=DATE:20260908
LOCATION:Franz-Haniel-Straße
BEGIN:VALARM
ACTION:DISPLAY
DESCRIPTION:Morgen: Abholung Gelber Sack
TRIGGER:-PT7H
END:VALARM
END:VEVENT
BEGIN:VEVENT
UID:3efa313a9f2fcbca842b4fc99255bd1c
DTSTAMP:20260422T093240Z
SUMMARY:Abholung Gelber Sack
DESCRIPTION:Alle Abholtermine auf abfallkalender.enni.de/abholtermine/franz
 -haniel-strasse
URL:https://abfallkalender.enni.de/abholtermine/franz-haniel-strasse
DTSTART;VALUE=DATE:20260922
LOCATION:Franz-Haniel-Straße
BEGIN:VALARM
ACTION:DISPLAY
DESCRIPTION:Morgen: Abholung Gelber Sack
TRIGGER:-PT7H
END:VALARM
END:VEVENT
BEGIN:VEVENT
UID:5bd3cd12c708e359ee0eaaf72f892220
DTSTAMP:20260422T093240Z
SUMMARY:Abholung Gelber Sack
DESCRIPTION:Alle Abholtermine auf abfallkalender.enni.de/abholtermine/franz
 -haniel-strasse
URL:https://abfallkalender.enni.de/abholtermine/franz-haniel-strasse
DTSTART;VALUE=DATE:20261006
LOCATION:Franz-Haniel-Straße
BEGIN:VALARM
ACTION:DISPLAY
DESCRIPTION:Morgen: Abholung Gelber Sack
TRIGGER:-PT7H
END:VALARM
END:VEVENT
BEGIN:VEVENT
UID:8548963559f0a97cfb422e521a50286b
DTSTAMP:20260422T093240Z
SUMMARY:Abholung Gelber Sack
DESCRIPTION:Alle Abholtermine auf abfallkalender.enni.de/abholtermine/franz
 -haniel-strasse
URL:https://abfallkalender.enni.de/abholtermine/franz-haniel-strasse
DTSTART;VALUE=DATE:20261020
LOCATION:Franz-Haniel-Straße
BEGIN:VALARM
ACTION:DISPLAY
DESCRIPTION:Morgen: Abholung Gelber Sack
TRIGGER:-PT7H
END:VALARM
END:VEVENT
BEGIN:VEVENT
UID:f9fe9dfeb100ec27703cebddef6c77b1
DTSTAMP:20260422T093240Z
SUMMARY:Abholung Gelber Sack
DESCRIPTION:Alle Abholtermine auf abfallkalender.enni.de/abholtermine/franz
 -haniel-strasse
URL:https://abfallkalender.enni.de/abholtermine/franz-haniel-strasse
DTSTART;VALUE=DATE:20261103
LOCATION:Franz-Haniel-Straße
BEGIN:VALARM
ACTION:DISPLAY
DESCRIPTION:Morgen: Abholung Gelber Sack
TRIGGER:-PT7H
END:VALARM
END:VEVENT
BEGIN:VEVENT
UID:660c47a36be858a4783124bc533f98f6
DTSTAMP:20260422T093240Z
SUMMARY:Abholung Gelber Sack
DESCRIPTION:Alle Abholtermine auf abfallkalender.enni.de/abholtermine/franz
 -haniel-strasse
URL:https://abfallkalender.enni.de/abholtermine/franz-haniel-strasse
DTSTART;VALUE=DATE:20261117
LOCATION:Franz-Haniel-Straße
BEGIN:VALARM
ACTION:DISPLAY
DESCRIPTION:Morgen: Abholung Gelber Sack
TRIGGER:-PT7H
END:VALARM
END:VEVENT
BEGIN:VEVENT
UID:a30cdc378527e90053e34e67ecb467c2
DTSTAMP:20260422T093240Z
SUMMARY:Abholung Gelber Sack
DESCRIPTION:Alle Abholtermine auf abfallkalender.enni.de/abholtermine/franz
 -haniel-strasse
URL:https://abfallkalender.enni.de/abholtermine/franz-haniel-strasse
DTSTART;VALUE=DATE:20261201
LOCATION:Franz-Haniel-Straße
BEGIN:VALARM
ACTION:DISPLAY
DESCRIPTION:Morgen: Abholung Gelber Sack
TRIGGER:-PT7H
END:VALARM
END:VEVENT
BEGIN:VEVENT
UID:0586ec27fc77c2fac4e635e52a184e8c
DTSTAMP:20260422T093240Z
SUMMARY:Abholung Gelber Sack
DESCRIPTION:Alle Abholtermine auf abfallkalender.enni.de/abholtermine/franz
 -haniel-strasse
URL:https://abfallkalender.enni.de/abholtermine/franz-haniel-strasse
DTSTART;VALUE=DATE:20261215
LOCATION:Franz-Haniel-Straße
BEGIN:VALARM
ACTION:DISPLAY
DESCRIPTION:Morgen: Abholung Gelber Sack
TRIGGER:-PT7H
END:VALARM
END:VEVENT
BEGIN:VEVENT
UID:ae82db762a6dca15e271dd55d12bbda5
DTSTAMP:20260422T093240Z
SUMMARY:Abholung Gelber Sack
DESCRIPTION:Alle Abholtermine auf abfallkalender.enni.de/abholtermine/franz
 -haniel-strasse
URL:https://abfallkalender.enni.de/abholtermine/franz-haniel-strasse
DTSTART;VALUE=DATE:20261229
LOCATION:Franz-Haniel-Straße
BEGIN:VALARM
ACTION:DISPLAY
DESCRIPTION:Morgen: Abholung Gelber Sack
TRIGGER:-PT7H
END:VALARM
END:VEVENT
BEGIN:VEVENT
UID:08263eb1551efd57ff8a09900015e794
DTSTAMP:20260422T093240Z
SUMMARY:Abholung Biotonne
DESCRIPTION:Alle Abholtermine auf abfallkalender.enni.de/abholtermine/franz
 -haniel-strasse
URL:https://abfallkalender.enni.de/abholtermine/franz-haniel-strasse
DTSTART;VALUE=DATE:20260424
LOCATION:Franz-Haniel-Straße
BEGIN:VALARM
ACTION:DISPLAY
DESCRIPTION:Morgen: Abholung Biotonne
TRIGGER:-PT7H
END:VALARM
END:VEVENT
BEGIN:VEVENT
UID:bb1eb9d08f64cd76d6b4d34c1dd9b354
DTSTAMP:20260422T093240Z
SUMMARY:Abholung Biotonne
DESCRIPTION:Alle Abholtermine auf abfallkalender.enni.de/abholtermine/franz
 -haniel-strasse
URL:https://abfallkalender.enni.de/abholtermine/franz-haniel-strasse
DTSTART;VALUE=DATE:20260508
LOCATION:Franz-Haniel-Straße
BEGIN:VALARM
ACTION:DISPLAY
DESCRIPTION:Morgen: Abholung Biotonne
TRIGGER:-PT7H
END:VALARM
END:VEVENT
BEGIN:VEVENT
UID:d9efcae5d56001d3848db37f2e99fc2d
DTSTAMP:20260422T093240Z
SUMMARY:Abholung Biotonne
DESCRIPTION:Alle Abholtermine auf abfallkalender.enni.de/abholtermine/franz
 -haniel-strasse
URL:https://abfallkalender.enni.de/abholtermine/franz-haniel-strasse
DTSTART;VALUE=DATE:20260522
LOCATION:Franz-Haniel-Straße
BEGIN:VALARM
ACTION:DISPLAY
DESCRIPTION:Morgen: Abholung Biotonne
TRIGGER:-PT7H
END:VALARM
END:VEVENT
BEGIN:VEVENT
UID:204e85d7bebadec34b7e0a443ad61f90
DTSTAMP:20260422T093240Z
SUMMARY:Abholung Biotonne
DESCRIPTION:Alle Abholtermine auf abfallkalender.enni.de/abholtermine/franz
 -haniel-strasse
URL:https://abfallkalender.enni.de/abholtermine/franz-haniel-strasse
DTSTART;VALUE=DATE:20260606
LOCATION:Franz-Haniel-Straße
BEGIN:VALARM
ACTION:DISPLAY
DESCRIPTION:Morgen: Abholung Biotonne
TRIGGER:-PT7H
END:VALARM
END:VEVENT
BEGIN:VEVENT
UID:158ba6be37cca385eee7ba9bb2512843
DTSTAMP:20260422T093240Z
SUMMARY:Abholung Biotonne
DESCRIPTION:Alle Abholtermine auf abfallkalender.enni.de/abholtermine/franz
 -haniel-strasse
URL:https://abfallkalender.enni.de/abholtermine/franz-haniel-strasse
DTSTART;VALUE=DATE:20260619
LOCATION:Franz-Haniel-Straße
BEGIN:VALARM
ACTION:DISPLAY
DESCRIPTION:Morgen: Abholung Biotonne
TRIGGER:-PT7H
END:VALARM
END:VEVENT
BEGIN:VEVENT
UID:683749fb1d48b80a29995243cacb93e5
DTSTAMP:20260422T093240Z
SUMMARY:Abholung Biotonne
DESCRIPTION:Alle Abholtermine auf abfallkalender.enni.de/abholtermine/franz
 -haniel-strasse
URL:https://abfallkalender.enni.de/abholtermine/franz-haniel-strasse
DTSTART;VALUE=DATE:20260703
LOCATION:Franz-Haniel-Straße
BEGIN:VALARM
ACTION:DISPLAY
DESCRIPTION:Morgen: Abholung Biotonne
TRIGGER:-PT7H
END:VALARM
END:VEVENT
BEGIN:VEVENT
UID:7e10e7cf0f2ad4386e0d6693cfd18643
DTSTAMP:20260422T093240Z
SUMMARY:Abholung Biotonne
DESCRIPTION:Alle Abholtermine auf abfallkalender.enni.de/abholtermine/franz
 -haniel-strasse
URL:https://abfallkalender.enni.de/abholtermine/franz-haniel-strasse
DTSTART;VALUE=DATE:20260717
LOCATION:Franz-Haniel-Straße
BEGIN:VALARM
ACTION:DISPLAY
DESCRIPTION:Morgen: Abholung Biotonne
TRIGGER:-PT7H
END:VALARM
END:VEVENT
BEGIN:VEVENT
UID:8db2671e343eebc8e9652a00f6a24c78
DTSTAMP:20260422T093240Z
SUMMARY:Abholung Biotonne
DESCRIPTION:Alle Abholtermine auf abfallkalender.enni.de/abholtermine/franz
 -haniel-strasse
URL:https://abfallkalender.enni.de/abholtermine/franz-haniel-strasse
DTSTART;VALUE=DATE:20260731
LOCATION:Franz-Haniel-Straße
BEGIN:VALARM
ACTION:DISPLAY
DESCRIPTION:Morgen: Abholung Biotonne
TRIGGER:-PT7H
END:VALARM
END:VEVENT
BEGIN:VEVENT
UID:bac442b23e2ea0737e7073d974094cd9
DTSTAMP:20260422T093240Z
SUMMARY:Abholung Biotonne
DESCRIPTION:Alle Abholtermine auf abfallkalender.enni.de/abholtermine/franz
 -haniel-strasse
URL:https://abfallkalender.enni.de/abholtermine/franz-haniel-strasse
DTSTART;VALUE=DATE:20260814
LOCATION:Franz-Haniel-Straße
BEGIN:VALARM
ACTION:DISPLAY
DESCRIPTION:Morgen: Abholung Biotonne
TRIGGER:-PT7H
END:VALARM
END:VEVENT
BEGIN:VEVENT
UID:60485792e065954dfa9e26d2baaa056f
DTSTAMP:20260422T093240Z
SUMMARY:Abholung Biotonne
DESCRIPTION:Alle Abholtermine auf abfallkalender.enni.de/abholtermine/franz
 -haniel-strasse
URL:https://abfallkalender.enni.de/abholtermine/franz-haniel-strasse
DTSTART;VALUE=DATE:20260828
LOCATION:Franz-Haniel-Straße
BEGIN:VALARM
ACTION:DISPLAY
DESCRIPTION:Morgen: Abholung Biotonne
TRIGGER:-PT7H
END:VALARM
END:VEVENT
BEGIN:VEVENT
UID:cf2bd6839de6969e97c4f152ac72ce60
DTSTAMP:20260422T093240Z
SUMMARY:Abholung Biotonne
DESCRIPTION:Alle Abholtermine auf abfallkalender.enni.de/abholtermine/franz
 -haniel-strasse
URL:https://abfallkalender.enni.de/abholtermine/franz-haniel-strasse
DTSTART;VALUE=DATE:20260911
LOCATION:Franz-Haniel-Straße
BEGIN:VALARM
ACTION:DISPLAY
DESCRIPTION:Morgen: Abholung Biotonne
TRIGGER:-PT7H
END:VALARM
END:VEVENT
BEGIN:VEVENT
UID:62e6d0a41277bf1226169638ca759cec
DTSTAMP:20260422T093240Z
SUMMARY:Abholung Biotonne
DESCRIPTION:Alle Abholtermine auf abfallkalender.enni.de/abholtermine/franz
 -haniel-strasse
URL:https://abfallkalender.enni.de/abholtermine/franz-haniel-strasse
DTSTART;VALUE=DATE:20260925
LOCATION:Franz-Haniel-Straße
BEGIN:VALARM
ACTION:DISPLAY
DESCRIPTION:Morgen: Abholung Biotonne
TRIGGER:-PT7H
END:VALARM
END:VEVENT
BEGIN:VEVENT
UID:e63c56a78a9f82a90dc13a901c3980b9
DTSTAMP:20260422T093240Z
SUMMARY:Abholung Biotonne
DESCRIPTION:Alle Abholtermine auf abfallkalender.enni.de/abholtermine/franz
 -haniel-strasse
URL:https://abfallkalender.enni.de/abholtermine/franz-haniel-strasse
DTSTART;VALUE=DATE:20261009
LOCATION:Franz-Haniel-Straße
BEGIN:VALARM
ACTION:DISPLAY
DESCRIPTION:Morgen: Abholung Biotonne
TRIGGER:-PT7H
END:VALARM
END:VEVENT
BEGIN:VEVENT
UID:b5ee4801fd631a8cdff8521de989a5a3
DTSTAMP:20260422T093240Z
SUMMARY:Abholung Biotonne
DESCRIPTION:Alle Abholtermine auf abfallkalender.enni.de/abholtermine/franz
 -haniel-strasse
URL:https://abfallkalender.enni.de/abholtermine/franz-haniel-strasse
DTSTART;VALUE=DATE:20261023
LOCATION:Franz-Haniel-Straße
BEGIN:VALARM
ACTION:DISPLAY
DESCRIPTION:Morgen: Abholung Biotonne
TRIGGER:-PT7H
END:VALARM
END:VEVENT
BEGIN:VEVENT
UID:a64c69daa821bd59f78306e1b31e52ea
DTSTAMP:20260422T093240Z
SUMMARY:Abholung Biotonne
DESCRIPTION:Alle Abholtermine auf abfallkalender.enni.de/abholtermine/franz
 -haniel-strasse
URL:https://abfallkalender.enni.de/abholtermine/franz-haniel-strasse
DTSTART;VALUE=DATE:20261106
LOCATION:Franz-Haniel-Straße
BEGIN:VALARM
ACTION:DISPLAY
DESCRIPTION:Morgen: Abholung Biotonne
TRIGGER:-PT7H
END:VALARM
END:VEVENT
BEGIN:VEVENT
UID:1f238aaabbf9ccb54952ba8a37237d83
DTSTAMP:20260422T093240Z
SUMMARY:Abholung Biotonne
DESCRIPTION:Alle Abholtermine auf abfallkalender.enni.de/abholtermine/franz
 -haniel-strasse
URL:https://abfallkalender.enni.de/abholtermine/franz-haniel-strasse
DTSTART;VALUE=DATE:20261120
LOCATION:Franz-Haniel-Straße
BEGIN:VALARM
ACTION:DISPLAY
DESCRIPTION:Morgen: Abholung Biotonne
TRIGGER:-PT7H
END:VALARM
END:VEVENT
BEGIN:VEVENT
UID:ae60af5c8ed561a4326fdd35d6a340ff
DTSTAMP:20260422T093240Z
SUMMARY:Abholung Biotonne
DESCRIPTION:Alle Abholtermine auf abfallkalender.enni.de/abholtermine/franz
 -haniel-strasse
URL:https://abfallkalender.enni.de/abholtermine/franz-haniel-strasse
DTSTART;VALUE=DATE:20261204
LOCATION:Franz-Haniel-Straße
BEGIN:VALARM
ACTION:DISPLAY
DESCRIPTION:Morgen: Abholung Biotonne
TRIGGER:-PT7H
END:VALARM
END:VEVENT
BEGIN:VEVENT
UID:4adbefce61f33212e41a5831e5d58edf
DTSTAMP:20260422T093240Z
SUMMARY:Abholung Biotonne
DESCRIPTION:Alle Abholtermine auf abfallkalender.enni.de/abholtermine/franz
 -haniel-strasse
URL:https://abfallkalender.enni.de/abholtermine/franz-haniel-strasse
DTSTART;VALUE=DATE:20261218
LOCATION:Franz-Haniel-Straße
BEGIN:VALARM
ACTION:DISPLAY
DESCRIPTION:Morgen: Abholung Biotonne
TRIGGER:-PT7H
END:VALARM
END:VEVENT
BEGIN:VEVENT
UID:c063513151d588f65f80c81612e60d41
DTSTAMP:20260422T093240Z
SUMMARY:Abholung Grünschnitt
DESCRIPTION:Alle Abholtermine auf abfallkalender.enni.de/abholtermine/franz
 -haniel-strasse
URL:https://abfallkalender.enni.de/abholtermine/franz-haniel-strasse
DTSTART;VALUE=DATE:20261120
LOCATION:Franz-Haniel-Straße
BEGIN:VALARM
ACTION:DISPLAY
DESCRIPTION:Morgen: Abholung Grünschnitt
TRIGGER:-PT7H
END:VALARM
END:VEVENT
END:VCALENDAR
