BEGIN:VCALENDAR
PRODID:-//eluceo/ical//2.0/EN
VERSION:2.0
CALSCALE:GREGORIAN
BEGIN:VEVENT
UID:5fe1317892294c6e9075a73dad0469b5
DTSTAMP:20260422T142409Z
SUMMARY:Abholung Restabfall
DESCRIPTION:Alle Abholtermine auf abfallkalender.enni.de/abholtermine/dr-be
 rns-strasse
URL:https://abfallkalender.enni.de/abholtermine/dr-berns-strasse
DTSTART;VALUE=DATE:20260429
LOCATION:Dr.-Berns-Straße
BEGIN:VALARM
ACTION:DISPLAY
DESCRIPTION:Morgen: Abholung Restabfall
TRIGGER:-PT7H
END:VALARM
END:VEVENT
BEGIN:VEVENT
UID:42730532fa058bd0d220114178a64309
DTSTAMP:20260422T142409Z
SUMMARY:Abholung Restabfall
DESCRIPTION:Alle Abholtermine auf abfallkalender.enni.de/abholtermine/dr-be
 rns-strasse
URL:https://abfallkalender.enni.de/abholtermine/dr-berns-strasse
DTSTART;VALUE=DATE:20260513
LOCATION:Dr.-Berns-Straße
BEGIN:VALARM
ACTION:DISPLAY
DESCRIPTION:Morgen: Abholung Restabfall
TRIGGER:-PT7H
END:VALARM
END:VEVENT
BEGIN:VEVENT
UID:4dfb3ef11c062895bcdab204ef1bcefb
DTSTAMP:20260422T142409Z
SUMMARY:Abholung Restabfall
DESCRIPTION:Alle Abholtermine auf abfallkalender.enni.de/abholtermine/dr-be
 rns-strasse
URL:https://abfallkalender.enni.de/abholtermine/dr-berns-strasse
DTSTART;VALUE=DATE:20260528
LOCATION:Dr.-Berns-Straße
BEGIN:VALARM
ACTION:DISPLAY
DESCRIPTION:Morgen: Abholung Restabfall
TRIGGER:-PT7H
END:VALARM
END:VEVENT
BEGIN:VEVENT
UID:472dc61c48b296fa9e89990d0b5159b0
DTSTAMP:20260422T142409Z
SUMMARY:Abholung Restabfall
DESCRIPTION:Alle Abholtermine auf abfallkalender.enni.de/abholtermine/dr-be
 rns-strasse
URL:https://abfallkalender.enni.de/abholtermine/dr-berns-strasse
DTSTART;VALUE=DATE:20260610
LOCATION:Dr.-Berns-Straße
BEGIN:VALARM
ACTION:DISPLAY
DESCRIPTION:Morgen: Abholung Restabfall
TRIGGER:-PT7H
END:VALARM
END:VEVENT
BEGIN:VEVENT
UID:56b7312385d0174771cbdbbdeeddbedf
DTSTAMP:20260422T142409Z
SUMMARY:Abholung Restabfall
DESCRIPTION:Alle Abholtermine auf abfallkalender.enni.de/abholtermine/dr-be
 rns-strasse
URL:https://abfallkalender.enni.de/abholtermine/dr-berns-strasse
DTSTART;VALUE=DATE:20260624
LOCATION:Dr.-Berns-Straße
BEGIN:VALARM
ACTION:DISPLAY
DESCRIPTION:Morgen: Abholung Restabfall
TRIGGER:-PT7H
END:VALARM
END:VEVENT
BEGIN:VEVENT
UID:225719f78b91565c1f01c24858335955
DTSTAMP:20260422T142409Z
SUMMARY:Abholung Restabfall
DESCRIPTION:Alle Abholtermine auf abfallkalender.enni.de/abholtermine/dr-be
 rns-strasse
URL:https://abfallkalender.enni.de/abholtermine/dr-berns-strasse
DTSTART;VALUE=DATE:20260708
LOCATION:Dr.-Berns-Straße
BEGIN:VALARM
ACTION:DISPLAY
DESCRIPTION:Morgen: Abholung Restabfall
TRIGGER:-PT7H
END:VALARM
END:VEVENT
BEGIN:VEVENT
UID:a02565f4f5f46996e2ff951c32b29fbf
DTSTAMP:20260422T142409Z
SUMMARY:Abholung Restabfall
DESCRIPTION:Alle Abholtermine auf abfallkalender.enni.de/abholtermine/dr-be
 rns-strasse
URL:https://abfallkalender.enni.de/abholtermine/dr-berns-strasse
DTSTART;VALUE=DATE:20260722
LOCATION:Dr.-Berns-Straße
BEGIN:VALARM
ACTION:DISPLAY
DESCRIPTION:Morgen: Abholung Restabfall
TRIGGER:-PT7H
END:VALARM
END:VEVENT
BEGIN:VEVENT
UID:605932fa10d4790a6d7d1d5831ff3d4a
DTSTAMP:20260422T142409Z
SUMMARY:Abholung Restabfall
DESCRIPTION:Alle Abholtermine auf abfallkalender.enni.de/abholtermine/dr-be
 rns-strasse
URL:https://abfallkalender.enni.de/abholtermine/dr-berns-strasse
DTSTART;VALUE=DATE:20260805
LOCATION:Dr.-Berns-Straße
BEGIN:VALARM
ACTION:DISPLAY
DESCRIPTION:Morgen: Abholung Restabfall
TRIGGER:-PT7H
END:VALARM
END:VEVENT
BEGIN:VEVENT
UID:879d8ef85f880010011b4d5e977da644
DTSTAMP:20260422T142409Z
SUMMARY:Abholung Restabfall
DESCRIPTION:Alle Abholtermine auf abfallkalender.enni.de/abholtermine/dr-be
 rns-strasse
URL:https://abfallkalender.enni.de/abholtermine/dr-berns-strasse
DTSTART;VALUE=DATE:20260819
LOCATION:Dr.-Berns-Straße
BEGIN:VALARM
ACTION:DISPLAY
DESCRIPTION:Morgen: Abholung Restabfall
TRIGGER:-PT7H
END:VALARM
END:VEVENT
BEGIN:VEVENT
UID:d702081098ea3d7e936ce64c6009625e
DTSTAMP:20260422T142409Z
SUMMARY:Abholung Restabfall
DESCRIPTION:Alle Abholtermine auf abfallkalender.enni.de/abholtermine/dr-be
 rns-strasse
URL:https://abfallkalender.enni.de/abholtermine/dr-berns-strasse
DTSTART;VALUE=DATE:20260902
LOCATION:Dr.-Berns-Straße
BEGIN:VALARM
ACTION:DISPLAY
DESCRIPTION:Morgen: Abholung Restabfall
TRIGGER:-PT7H
END:VALARM
END:VEVENT
BEGIN:VEVENT
UID:3d662044a975acab247ad63c49619d60
DTSTAMP:20260422T142409Z
SUMMARY:Abholung Restabfall
DESCRIPTION:Alle Abholtermine auf abfallkalender.enni.de/abholtermine/dr-be
 rns-strasse
URL:https://abfallkalender.enni.de/abholtermine/dr-berns-strasse
DTSTART;VALUE=DATE:20260916
LOCATION:Dr.-Berns-Straße
BEGIN:VALARM
ACTION:DISPLAY
DESCRIPTION:Morgen: Abholung Restabfall
TRIGGER:-PT7H
END:VALARM
END:VEVENT
BEGIN:VEVENT
UID:b044d2433c28e9c2e359b57718cce9b4
DTSTAMP:20260422T142409Z
SUMMARY:Abholung Restabfall
DESCRIPTION:Alle Abholtermine auf abfallkalender.enni.de/abholtermine/dr-be
 rns-strasse
URL:https://abfallkalender.enni.de/abholtermine/dr-berns-strasse
DTSTART;VALUE=DATE:20260930
LOCATION:Dr.-Berns-Straße
BEGIN:VALARM
ACTION:DISPLAY
DESCRIPTION:Morgen: Abholung Restabfall
TRIGGER:-PT7H
END:VALARM
END:VEVENT
BEGIN:VEVENT
UID:0affea67d43f600a9e98786aee45368a
DTSTAMP:20260422T142409Z
SUMMARY:Abholung Restabfall
DESCRIPTION:Alle Abholtermine auf abfallkalender.enni.de/abholtermine/dr-be
 rns-strasse
URL:https://abfallkalender.enni.de/abholtermine/dr-berns-strasse
DTSTART;VALUE=DATE:20261014
LOCATION:Dr.-Berns-Straße
BEGIN:VALARM
ACTION:DISPLAY
DESCRIPTION:Morgen: Abholung Restabfall
TRIGGER:-PT7H
END:VALARM
END:VEVENT
BEGIN:VEVENT
UID:fbed9951e45bed95cc2c4451c561ca33
DTSTAMP:20260422T142409Z
SUMMARY:Abholung Restabfall
DESCRIPTION:Alle Abholtermine auf abfallkalender.enni.de/abholtermine/dr-be
 rns-strasse
URL:https://abfallkalender.enni.de/abholtermine/dr-berns-strasse
DTSTART;VALUE=DATE:20261028
LOCATION:Dr.-Berns-Straße
BEGIN:VALARM
ACTION:DISPLAY
DESCRIPTION:Morgen: Abholung Restabfall
TRIGGER:-PT7H
END:VALARM
END:VEVENT
BEGIN:VEVENT
UID:2fdb2de21e2101da214c5bd824e80639
DTSTAMP:20260422T142409Z
SUMMARY:Abholung Restabfall
DESCRIPTION:Alle Abholtermine auf abfallkalender.enni.de/abholtermine/dr-be
 rns-strasse
URL:https://abfallkalender.enni.de/abholtermine/dr-berns-strasse
DTSTART;VALUE=DATE:20261111
LOCATION:Dr.-Berns-Straße
BEGIN:VALARM
ACTION:DISPLAY
DESCRIPTION:Morgen: Abholung Restabfall
TRIGGER:-PT7H
END:VALARM
END:VEVENT
BEGIN:VEVENT
UID:9d51d0e47abac9e0b86e7d7a802cd419
DTSTAMP:20260422T142409Z
SUMMARY:Abholung Restabfall
DESCRIPTION:Alle Abholtermine auf abfallkalender.enni.de/abholtermine/dr-be
 rns-strasse
URL:https://abfallkalender.enni.de/abholtermine/dr-berns-strasse
DTSTART;VALUE=DATE:20261125
LOCATION:Dr.-Berns-Straße
BEGIN:VALARM
ACTION:DISPLAY
DESCRIPTION:Morgen: Abholung Restabfall
TRIGGER:-PT7H
END:VALARM
END:VEVENT
BEGIN:VEVENT
UID:d4a2a93bf60bf1a6b874aff1de5553b5
DTSTAMP:20260422T142409Z
SUMMARY:Abholung Restabfall
DESCRIPTION:Alle Abholtermine auf abfallkalender.enni.de/abholtermine/dr-be
 rns-strasse
URL:https://abfallkalender.enni.de/abholtermine/dr-berns-strasse
DTSTART;VALUE=DATE:20261209
LOCATION:Dr.-Berns-Straße
BEGIN:VALARM
ACTION:DISPLAY
DESCRIPTION:Morgen: Abholung Restabfall
TRIGGER:-PT7H
END:VALARM
END:VEVENT
BEGIN:VEVENT
UID:f380f801c46cc57d442c3638b856a194
DTSTAMP:20260422T142409Z
SUMMARY:Abholung Restabfall
DESCRIPTION:Alle Abholtermine auf abfallkalender.enni.de/abholtermine/dr-be
 rns-strasse
URL:https://abfallkalender.enni.de/abholtermine/dr-berns-strasse
DTSTART;VALUE=DATE:20261222
LOCATION:Dr.-Berns-Straße
BEGIN:VALARM
ACTION:DISPLAY
DESCRIPTION:Morgen: Abholung Restabfall
TRIGGER:-PT7H
END:VALARM
END:VEVENT
BEGIN:VEVENT
UID:5015ccbd8f2b05558678f70cbbc5bf2e
DTSTAMP:20260422T142409Z
SUMMARY:Abholung Papier
DESCRIPTION:Alle Abholtermine auf abfallkalender.enni.de/abholtermine/dr-be
 rns-strasse
URL:https://abfallkalender.enni.de/abholtermine/dr-berns-strasse
DTSTART;VALUE=DATE:20260423
LOCATION:Dr.-Berns-Straße
BEGIN:VALARM
ACTION:DISPLAY
DESCRIPTION:Morgen: Abholung Papier
TRIGGER:-PT7H
END:VALARM
END:VEVENT
BEGIN:VEVENT
UID:e52abbeda3470207b1c3140b7b17bc87
DTSTAMP:20260422T142409Z
SUMMARY:Abholung Papier
DESCRIPTION:Alle Abholtermine auf abfallkalender.enni.de/abholtermine/dr-be
 rns-strasse
URL:https://abfallkalender.enni.de/abholtermine/dr-berns-strasse
DTSTART;VALUE=DATE:20260521
LOCATION:Dr.-Berns-Straße
BEGIN:VALARM
ACTION:DISPLAY
DESCRIPTION:Morgen: Abholung Papier
TRIGGER:-PT7H
END:VALARM
END:VEVENT
BEGIN:VEVENT
UID:a2848461274a40cfb23bec13ed685da4
DTSTAMP:20260422T142409Z
SUMMARY:Abholung Papier
DESCRIPTION:Alle Abholtermine auf abfallkalender.enni.de/abholtermine/dr-be
 rns-strasse
URL:https://abfallkalender.enni.de/abholtermine/dr-berns-strasse
DTSTART;VALUE=DATE:20260618
LOCATION:Dr.-Berns-Straße
BEGIN:VALARM
ACTION:DISPLAY
DESCRIPTION:Morgen: Abholung Papier
TRIGGER:-PT7H
END:VALARM
END:VEVENT
BEGIN:VEVENT
UID:3e1878a35d0c41585982f84802bc835e
DTSTAMP:20260422T142409Z
SUMMARY:Abholung Papier
DESCRIPTION:Alle Abholtermine auf abfallkalender.enni.de/abholtermine/dr-be
 rns-strasse
URL:https://abfallkalender.enni.de/abholtermine/dr-berns-strasse
DTSTART;VALUE=DATE:20260716
LOCATION:Dr.-Berns-Straße
BEGIN:VALARM
ACTION:DISPLAY
DESCRIPTION:Morgen: Abholung Papier
TRIGGER:-PT7H
END:VALARM
END:VEVENT
BEGIN:VEVENT
UID:d7924134c15dbacd86dc5ddecae1f647
DTSTAMP:20260422T142409Z
SUMMARY:Abholung Papier
DESCRIPTION:Alle Abholtermine auf abfallkalender.enni.de/abholtermine/dr-be
 rns-strasse
URL:https://abfallkalender.enni.de/abholtermine/dr-berns-strasse
DTSTART;VALUE=DATE:20260813
LOCATION:Dr.-Berns-Straße
BEGIN:VALARM
ACTION:DISPLAY
DESCRIPTION:Morgen: Abholung Papier
TRIGGER:-PT7H
END:VALARM
END:VEVENT
BEGIN:VEVENT
UID:977a546d501ac24c14a6796bc52bd283
DTSTAMP:20260422T142409Z
SUMMARY:Abholung Papier
DESCRIPTION:Alle Abholtermine auf abfallkalender.enni.de/abholtermine/dr-be
 rns-strasse
URL:https://abfallkalender.enni.de/abholtermine/dr-berns-strasse
DTSTART;VALUE=DATE:20260910
LOCATION:Dr.-Berns-Straße
BEGIN:VALARM
ACTION:DISPLAY
DESCRIPTION:Morgen: Abholung Papier
TRIGGER:-PT7H
END:VALARM
END:VEVENT
BEGIN:VEVENT
UID:3dbdd8cd10bb806401cf3452e7f07cf7
DTSTAMP:20260422T142409Z
SUMMARY:Abholung Papier
DESCRIPTION:Alle Abholtermine auf abfallkalender.enni.de/abholtermine/dr-be
 rns-strasse
URL:https://abfallkalender.enni.de/abholtermine/dr-berns-strasse
DTSTART;VALUE=DATE:20261008
LOCATION:Dr.-Berns-Straße
BEGIN:VALARM
ACTION:DISPLAY
DESCRIPTION:Morgen: Abholung Papier
TRIGGER:-PT7H
END:VALARM
END:VEVENT
BEGIN:VEVENT
UID:94b9265c613da389e3aaca3cf337ca93
DTSTAMP:20260422T142409Z
SUMMARY:Abholung Papier
DESCRIPTION:Alle Abholtermine auf abfallkalender.enni.de/abholtermine/dr-be
 rns-strasse
URL:https://abfallkalender.enni.de/abholtermine/dr-berns-strasse
DTSTART;VALUE=DATE:20261105
LOCATION:Dr.-Berns-Straße
BEGIN:VALARM
ACTION:DISPLAY
DESCRIPTION:Morgen: Abholung Papier
TRIGGER:-PT7H
END:VALARM
END:VEVENT
BEGIN:VEVENT
UID:80b303abca55980a6ebf97fe295cd3c9
DTSTAMP:20260422T142409Z
SUMMARY:Abholung Papier
DESCRIPTION:Alle Abholtermine auf abfallkalender.enni.de/abholtermine/dr-be
 rns-strasse
URL:https://abfallkalender.enni.de/abholtermine/dr-berns-strasse
DTSTART;VALUE=DATE:20261203
LOCATION:Dr.-Berns-Straße
BEGIN:VALARM
ACTION:DISPLAY
DESCRIPTION:Morgen: Abholung Papier
TRIGGER:-PT7H
END:VALARM
END:VEVENT
BEGIN:VEVENT
UID:6cabeb11999d9668f76921bbddccf243
DTSTAMP:20260422T142409Z
SUMMARY:Abholung Papier
DESCRIPTION:Alle Abholtermine auf abfallkalender.enni.de/abholtermine/dr-be
 rns-strasse
URL:https://abfallkalender.enni.de/abholtermine/dr-berns-strasse
DTSTART;VALUE=DATE:20261231
LOCATION:Dr.-Berns-Straße
BEGIN:VALARM
ACTION:DISPLAY
DESCRIPTION:Morgen: Abholung Papier
TRIGGER:-PT7H
END:VALARM
END:VEVENT
BEGIN:VEVENT
UID:878fd7d360867a96179803fc21532b1a
DTSTAMP:20260422T142409Z
SUMMARY:Abholung Gelber Sack
DESCRIPTION:Alle Abholtermine auf abfallkalender.enni.de/abholtermine/dr-be
 rns-strasse
URL:https://abfallkalender.enni.de/abholtermine/dr-berns-strasse
DTSTART;VALUE=DATE:20260502
LOCATION:Dr.-Berns-Straße
BEGIN:VALARM
ACTION:DISPLAY
DESCRIPTION:Morgen: Abholung Gelber Sack
TRIGGER:-PT7H
END:VALARM
END:VEVENT
BEGIN:VEVENT
UID:f7888d33617da2830939229e2b23c736
DTSTAMP:20260422T142409Z
SUMMARY:Abholung Gelber Sack
DESCRIPTION:Alle Abholtermine auf abfallkalender.enni.de/abholtermine/dr-be
 rns-strasse
URL:https://abfallkalender.enni.de/abholtermine/dr-berns-strasse
DTSTART;VALUE=DATE:20260516
LOCATION:Dr.-Berns-Straße
BEGIN:VALARM
ACTION:DISPLAY
DESCRIPTION:Morgen: Abholung Gelber Sack
TRIGGER:-PT7H
END:VALARM
END:VEVENT
BEGIN:VEVENT
UID:5c96409dce201491448752f701103775
DTSTAMP:20260422T142409Z
SUMMARY:Abholung Gelber Sack
DESCRIPTION:Alle Abholtermine auf abfallkalender.enni.de/abholtermine/dr-be
 rns-strasse
URL:https://abfallkalender.enni.de/abholtermine/dr-berns-strasse
DTSTART;VALUE=DATE:20260530
LOCATION:Dr.-Berns-Straße
BEGIN:VALARM
ACTION:DISPLAY
DESCRIPTION:Morgen: Abholung Gelber Sack
TRIGGER:-PT7H
END:VALARM
END:VEVENT
BEGIN:VEVENT
UID:998123a771c6e50dd443bb6982a07400
DTSTAMP:20260422T142409Z
SUMMARY:Abholung Gelber Sack
DESCRIPTION:Alle Abholtermine auf abfallkalender.enni.de/abholtermine/dr-be
 rns-strasse
URL:https://abfallkalender.enni.de/abholtermine/dr-berns-strasse
DTSTART;VALUE=DATE:20260612
LOCATION:Dr.-Berns-Straße
BEGIN:VALARM
ACTION:DISPLAY
DESCRIPTION:Morgen: Abholung Gelber Sack
TRIGGER:-PT7H
END:VALARM
END:VEVENT
BEGIN:VEVENT
UID:f1a7939211b3f7ab23855bd905c15bc6
DTSTAMP:20260422T142409Z
SUMMARY:Abholung Gelber Sack
DESCRIPTION:Alle Abholtermine auf abfallkalender.enni.de/abholtermine/dr-be
 rns-strasse
URL:https://abfallkalender.enni.de/abholtermine/dr-berns-strasse
DTSTART;VALUE=DATE:20260626
LOCATION:Dr.-Berns-Straße
BEGIN:VALARM
ACTION:DISPLAY
DESCRIPTION:Morgen: Abholung Gelber Sack
TRIGGER:-PT7H
END:VALARM
END:VEVENT
BEGIN:VEVENT
UID:d6be6172b27b13624a0c387ac5958328
DTSTAMP:20260422T142409Z
SUMMARY:Abholung Gelber Sack
DESCRIPTION:Alle Abholtermine auf abfallkalender.enni.de/abholtermine/dr-be
 rns-strasse
URL:https://abfallkalender.enni.de/abholtermine/dr-berns-strasse
DTSTART;VALUE=DATE:20260710
LOCATION:Dr.-Berns-Straße
BEGIN:VALARM
ACTION:DISPLAY
DESCRIPTION:Morgen: Abholung Gelber Sack
TRIGGER:-PT7H
END:VALARM
END:VEVENT
BEGIN:VEVENT
UID:603b202f21817a837326e71113c5a048
DTSTAMP:20260422T142409Z
SUMMARY:Abholung Gelber Sack
DESCRIPTION:Alle Abholtermine auf abfallkalender.enni.de/abholtermine/dr-be
 rns-strasse
URL:https://abfallkalender.enni.de/abholtermine/dr-berns-strasse
DTSTART;VALUE=DATE:20260724
LOCATION:Dr.-Berns-Straße
BEGIN:VALARM
ACTION:DISPLAY
DESCRIPTION:Morgen: Abholung Gelber Sack
TRIGGER:-PT7H
END:VALARM
END:VEVENT
BEGIN:VEVENT
UID:bd492ff6afd466cc1852df9c5c477913
DTSTAMP:20260422T142409Z
SUMMARY:Abholung Gelber Sack
DESCRIPTION:Alle Abholtermine auf abfallkalender.enni.de/abholtermine/dr-be
 rns-strasse
URL:https://abfallkalender.enni.de/abholtermine/dr-berns-strasse
DTSTART;VALUE=DATE:20260807
LOCATION:Dr.-Berns-Straße
BEGIN:VALARM
ACTION:DISPLAY
DESCRIPTION:Morgen: Abholung Gelber Sack
TRIGGER:-PT7H
END:VALARM
END:VEVENT
BEGIN:VEVENT
UID:cb610fba810310f2887ea649de5cbb31
DTSTAMP:20260422T142409Z
SUMMARY:Abholung Gelber Sack
DESCRIPTION:Alle Abholtermine auf abfallkalender.enni.de/abholtermine/dr-be
 rns-strasse
URL:https://abfallkalender.enni.de/abholtermine/dr-berns-strasse
DTSTART;VALUE=DATE:20260821
LOCATION:Dr.-Berns-Straße
BEGIN:VALARM
ACTION:DISPLAY
DESCRIPTION:Morgen: Abholung Gelber Sack
TRIGGER:-PT7H
END:VALARM
END:VEVENT
BEGIN:VEVENT
UID:6dab911e78cdc103b7c461b8fae7884d
DTSTAMP:20260422T142409Z
SUMMARY:Abholung Gelber Sack
DESCRIPTION:Alle Abholtermine auf abfallkalender.enni.de/abholtermine/dr-be
 rns-strasse
URL:https://abfallkalender.enni.de/abholtermine/dr-berns-strasse
DTSTART;VALUE=DATE:20260904
LOCATION:Dr.-Berns-Straße
BEGIN:VALARM
ACTION:DISPLAY
DESCRIPTION:Morgen: Abholung Gelber Sack
TRIGGER:-PT7H
END:VALARM
END:VEVENT
BEGIN:VEVENT
UID:101ed5a244d8e18bfa9d17c7f1ac1b47
DTSTAMP:20260422T142409Z
SUMMARY:Abholung Gelber Sack
DESCRIPTION:Alle Abholtermine auf abfallkalender.enni.de/abholtermine/dr-be
 rns-strasse
URL:https://abfallkalender.enni.de/abholtermine/dr-berns-strasse
DTSTART;VALUE=DATE:20260918
LOCATION:Dr.-Berns-Straße
BEGIN:VALARM
ACTION:DISPLAY
DESCRIPTION:Morgen: Abholung Gelber Sack
TRIGGER:-PT7H
END:VALARM
END:VEVENT
BEGIN:VEVENT
UID:3a7c78369cfc1ac560efdf72683e10df
DTSTAMP:20260422T142409Z
SUMMARY:Abholung Gelber Sack
DESCRIPTION:Alle Abholtermine auf abfallkalender.enni.de/abholtermine/dr-be
 rns-strasse
URL:https://abfallkalender.enni.de/abholtermine/dr-berns-strasse
DTSTART;VALUE=DATE:20261002
LOCATION:Dr.-Berns-Straße
BEGIN:VALARM
ACTION:DISPLAY
DESCRIPTION:Morgen: Abholung Gelber Sack
TRIGGER:-PT7H
END:VALARM
END:VEVENT
BEGIN:VEVENT
UID:5f02799332d434ea14184cd21f1f39f1
DTSTAMP:20260422T142409Z
SUMMARY:Abholung Gelber Sack
DESCRIPTION:Alle Abholtermine auf abfallkalender.enni.de/abholtermine/dr-be
 rns-strasse
URL:https://abfallkalender.enni.de/abholtermine/dr-berns-strasse
DTSTART;VALUE=DATE:20261016
LOCATION:Dr.-Berns-Straße
BEGIN:VALARM
ACTION:DISPLAY
DESCRIPTION:Morgen: Abholung Gelber Sack
TRIGGER:-PT7H
END:VALARM
END:VEVENT
BEGIN:VEVENT
UID:886d0248a2ba479730ac70eb3f2b095c
DTSTAMP:20260422T142409Z
SUMMARY:Abholung Gelber Sack
DESCRIPTION:Alle Abholtermine auf abfallkalender.enni.de/abholtermine/dr-be
 rns-strasse
URL:https://abfallkalender.enni.de/abholtermine/dr-berns-strasse
DTSTART;VALUE=DATE:20261030
LOCATION:Dr.-Berns-Straße
BEGIN:VALARM
ACTION:DISPLAY
DESCRIPTION:Morgen: Abholung Gelber Sack
TRIGGER:-PT7H
END:VALARM
END:VEVENT
BEGIN:VEVENT
UID:bac9f4054ae67098f9774eaccba94e48
DTSTAMP:20260422T142409Z
SUMMARY:Abholung Gelber Sack
DESCRIPTION:Alle Abholtermine auf abfallkalender.enni.de/abholtermine/dr-be
 rns-strasse
URL:https://abfallkalender.enni.de/abholtermine/dr-berns-strasse
DTSTART;VALUE=DATE:20261113
LOCATION:Dr.-Berns-Straße
BEGIN:VALARM
ACTION:DISPLAY
DESCRIPTION:Morgen: Abholung Gelber Sack
TRIGGER:-PT7H
END:VALARM
END:VEVENT
BEGIN:VEVENT
UID:839b2c25775e63564f89f3add73a9cc6
DTSTAMP:20260422T142409Z
SUMMARY:Abholung Gelber Sack
DESCRIPTION:Alle Abholtermine auf abfallkalender.enni.de/abholtermine/dr-be
 rns-strasse
URL:https://abfallkalender.enni.de/abholtermine/dr-berns-strasse
DTSTART;VALUE=DATE:20261127
LOCATION:Dr.-Berns-Straße
BEGIN:VALARM
ACTION:DISPLAY
DESCRIPTION:Morgen: Abholung Gelber Sack
TRIGGER:-PT7H
END:VALARM
END:VEVENT
BEGIN:VEVENT
UID:4aeb39a80cfa54883d37e2dae9e8df31
DTSTAMP:20260422T142409Z
SUMMARY:Abholung Gelber Sack
DESCRIPTION:Alle Abholtermine auf abfallkalender.enni.de/abholtermine/dr-be
 rns-strasse
URL:https://abfallkalender.enni.de/abholtermine/dr-berns-strasse
DTSTART;VALUE=DATE:20261211
LOCATION:Dr.-Berns-Straße
BEGIN:VALARM
ACTION:DISPLAY
DESCRIPTION:Morgen: Abholung Gelber Sack
TRIGGER:-PT7H
END:VALARM
END:VEVENT
BEGIN:VEVENT
UID:a8774bdbcc35f82c7a026093937dbcbd
DTSTAMP:20260422T142409Z
SUMMARY:Abholung Gelber Sack
DESCRIPTION:Alle Abholtermine auf abfallkalender.enni.de/abholtermine/dr-be
 rns-strasse
URL:https://abfallkalender.enni.de/abholtermine/dr-berns-strasse
DTSTART;VALUE=DATE:20261224
LOCATION:Dr.-Berns-Straße
BEGIN:VALARM
ACTION:DISPLAY
DESCRIPTION:Morgen: Abholung Gelber Sack
TRIGGER:-PT7H
END:VALARM
END:VEVENT
BEGIN:VEVENT
UID:85cb7ce3b3a3e61c52e21dc211fafc77
DTSTAMP:20260422T142409Z
SUMMARY:Abholung Biotonne
DESCRIPTION:Alle Abholtermine auf abfallkalender.enni.de/abholtermine/dr-be
 rns-strasse
URL:https://abfallkalender.enni.de/abholtermine/dr-berns-strasse
DTSTART;VALUE=DATE:20260430
LOCATION:Dr.-Berns-Straße
BEGIN:VALARM
ACTION:DISPLAY
DESCRIPTION:Morgen: Abholung Biotonne
TRIGGER:-PT7H
END:VALARM
END:VEVENT
BEGIN:VEVENT
UID:197e5ebb16be95e6c1b3a8f0e8952b24
DTSTAMP:20260422T142409Z
SUMMARY:Abholung Biotonne
DESCRIPTION:Alle Abholtermine auf abfallkalender.enni.de/abholtermine/dr-be
 rns-strasse
URL:https://abfallkalender.enni.de/abholtermine/dr-berns-strasse
DTSTART;VALUE=DATE:20260515
LOCATION:Dr.-Berns-Straße
BEGIN:VALARM
ACTION:DISPLAY
DESCRIPTION:Morgen: Abholung Biotonne
TRIGGER:-PT7H
END:VALARM
END:VEVENT
BEGIN:VEVENT
UID:1c96a540b7ece0f6729b90e44f8994da
DTSTAMP:20260422T142409Z
SUMMARY:Abholung Biotonne
DESCRIPTION:Alle Abholtermine auf abfallkalender.enni.de/abholtermine/dr-be
 rns-strasse
URL:https://abfallkalender.enni.de/abholtermine/dr-berns-strasse
DTSTART;VALUE=DATE:20260529
LOCATION:Dr.-Berns-Straße
BEGIN:VALARM
ACTION:DISPLAY
DESCRIPTION:Morgen: Abholung Biotonne
TRIGGER:-PT7H
END:VALARM
END:VEVENT
BEGIN:VEVENT
UID:d2238df8c53d6bf6bb34ddd2b7b5f734
DTSTAMP:20260422T142409Z
SUMMARY:Abholung Biotonne
DESCRIPTION:Alle Abholtermine auf abfallkalender.enni.de/abholtermine/dr-be
 rns-strasse
URL:https://abfallkalender.enni.de/abholtermine/dr-berns-strasse
DTSTART;VALUE=DATE:20260611
LOCATION:Dr.-Berns-Straße
BEGIN:VALARM
ACTION:DISPLAY
DESCRIPTION:Morgen: Abholung Biotonne
TRIGGER:-PT7H
END:VALARM
END:VEVENT
BEGIN:VEVENT
UID:e0277416597b23b1e3dbe407fc1758fb
DTSTAMP:20260422T142409Z
SUMMARY:Abholung Biotonne
DESCRIPTION:Alle Abholtermine auf abfallkalender.enni.de/abholtermine/dr-be
 rns-strasse
URL:https://abfallkalender.enni.de/abholtermine/dr-berns-strasse
DTSTART;VALUE=DATE:20260625
LOCATION:Dr.-Berns-Straße
BEGIN:VALARM
ACTION:DISPLAY
DESCRIPTION:Morgen: Abholung Biotonne
TRIGGER:-PT7H
END:VALARM
END:VEVENT
BEGIN:VEVENT
UID:5be29e8d9615f6020a0a392f87ef375c
DTSTAMP:20260422T142409Z
SUMMARY:Abholung Biotonne
DESCRIPTION:Alle Abholtermine auf abfallkalender.enni.de/abholtermine/dr-be
 rns-strasse
URL:https://abfallkalender.enni.de/abholtermine/dr-berns-strasse
DTSTART;VALUE=DATE:20260709
LOCATION:Dr.-Berns-Straße
BEGIN:VALARM
ACTION:DISPLAY
DESCRIPTION:Morgen: Abholung Biotonne
TRIGGER:-PT7H
END:VALARM
END:VEVENT
BEGIN:VEVENT
UID:f55b3cada8fbeb3f61ac10e3d322bf52
DTSTAMP:20260422T142409Z
SUMMARY:Abholung Biotonne
DESCRIPTION:Alle Abholtermine auf abfallkalender.enni.de/abholtermine/dr-be
 rns-strasse
URL:https://abfallkalender.enni.de/abholtermine/dr-berns-strasse
DTSTART;VALUE=DATE:20260723
LOCATION:Dr.-Berns-Straße
BEGIN:VALARM
ACTION:DISPLAY
DESCRIPTION:Morgen: Abholung Biotonne
TRIGGER:-PT7H
END:VALARM
END:VEVENT
BEGIN:VEVENT
UID:63bc8053f84465e22642ec2aa3a4c63f
DTSTAMP:20260422T142409Z
SUMMARY:Abholung Biotonne
DESCRIPTION:Alle Abholtermine auf abfallkalender.enni.de/abholtermine/dr-be
 rns-strasse
URL:https://abfallkalender.enni.de/abholtermine/dr-berns-strasse
DTSTART;VALUE=DATE:20260806
LOCATION:Dr.-Berns-Straße
BEGIN:VALARM
ACTION:DISPLAY
DESCRIPTION:Morgen: Abholung Biotonne
TRIGGER:-PT7H
END:VALARM
END:VEVENT
BEGIN:VEVENT
UID:1e967ef17b8d19b051e42e2130ed417a
DTSTAMP:20260422T142409Z
SUMMARY:Abholung Biotonne
DESCRIPTION:Alle Abholtermine auf abfallkalender.enni.de/abholtermine/dr-be
 rns-strasse
URL:https://abfallkalender.enni.de/abholtermine/dr-berns-strasse
DTSTART;VALUE=DATE:20260820
LOCATION:Dr.-Berns-Straße
BEGIN:VALARM
ACTION:DISPLAY
DESCRIPTION:Morgen: Abholung Biotonne
TRIGGER:-PT7H
END:VALARM
END:VEVENT
BEGIN:VEVENT
UID:35aeb54cd1ff2607df28c6c57438c933
DTSTAMP:20260422T142409Z
SUMMARY:Abholung Biotonne
DESCRIPTION:Alle Abholtermine auf abfallkalender.enni.de/abholtermine/dr-be
 rns-strasse
URL:https://abfallkalender.enni.de/abholtermine/dr-berns-strasse
DTSTART;VALUE=DATE:20260903
LOCATION:Dr.-Berns-Straße
BEGIN:VALARM
ACTION:DISPLAY
DESCRIPTION:Morgen: Abholung Biotonne
TRIGGER:-PT7H
END:VALARM
END:VEVENT
BEGIN:VEVENT
UID:ae51afa6e75a9d269a311bb29f66b23b
DTSTAMP:20260422T142409Z
SUMMARY:Abholung Biotonne
DESCRIPTION:Alle Abholtermine auf abfallkalender.enni.de/abholtermine/dr-be
 rns-strasse
URL:https://abfallkalender.enni.de/abholtermine/dr-berns-strasse
DTSTART;VALUE=DATE:20260917
LOCATION:Dr.-Berns-Straße
BEGIN:VALARM
ACTION:DISPLAY
DESCRIPTION:Morgen: Abholung Biotonne
TRIGGER:-PT7H
END:VALARM
END:VEVENT
BEGIN:VEVENT
UID:cbb3b6d18e4f52a93c64632d50e1c61c
DTSTAMP:20260422T142409Z
SUMMARY:Abholung Biotonne
DESCRIPTION:Alle Abholtermine auf abfallkalender.enni.de/abholtermine/dr-be
 rns-strasse
URL:https://abfallkalender.enni.de/abholtermine/dr-berns-strasse
DTSTART;VALUE=DATE:20261001
LOCATION:Dr.-Berns-Straße
BEGIN:VALARM
ACTION:DISPLAY
DESCRIPTION:Morgen: Abholung Biotonne
TRIGGER:-PT7H
END:VALARM
END:VEVENT
BEGIN:VEVENT
UID:971512cce4c4ef4da9f39ff48bc4a185
DTSTAMP:20260422T142409Z
SUMMARY:Abholung Biotonne
DESCRIPTION:Alle Abholtermine auf abfallkalender.enni.de/abholtermine/dr-be
 rns-strasse
URL:https://abfallkalender.enni.de/abholtermine/dr-berns-strasse
DTSTART;VALUE=DATE:20261015
LOCATION:Dr.-Berns-Straße
BEGIN:VALARM
ACTION:DISPLAY
DESCRIPTION:Morgen: Abholung Biotonne
TRIGGER:-PT7H
END:VALARM
END:VEVENT
BEGIN:VEVENT
UID:d7099aa3e41484e5127619078bbadd37
DTSTAMP:20260422T142409Z
SUMMARY:Abholung Biotonne
DESCRIPTION:Alle Abholtermine auf abfallkalender.enni.de/abholtermine/dr-be
 rns-strasse
URL:https://abfallkalender.enni.de/abholtermine/dr-berns-strasse
DTSTART;VALUE=DATE:20261029
LOCATION:Dr.-Berns-Straße
BEGIN:VALARM
ACTION:DISPLAY
DESCRIPTION:Morgen: Abholung Biotonne
TRIGGER:-PT7H
END:VALARM
END:VEVENT
BEGIN:VEVENT
UID:b6ee5f444c8bd02c59172fdef892f58d
DTSTAMP:20260422T142409Z
SUMMARY:Abholung Biotonne
DESCRIPTION:Alle Abholtermine auf abfallkalender.enni.de/abholtermine/dr-be
 rns-strasse
URL:https://abfallkalender.enni.de/abholtermine/dr-berns-strasse
DTSTART;VALUE=DATE:20261112
LOCATION:Dr.-Berns-Straße
BEGIN:VALARM
ACTION:DISPLAY
DESCRIPTION:Morgen: Abholung Biotonne
TRIGGER:-PT7H
END:VALARM
END:VEVENT
BEGIN:VEVENT
UID:24ef9bf5e59cbb301d078ab0ac5bca4e
DTSTAMP:20260422T142409Z
SUMMARY:Abholung Biotonne
DESCRIPTION:Alle Abholtermine auf abfallkalender.enni.de/abholtermine/dr-be
 rns-strasse
URL:https://abfallkalender.enni.de/abholtermine/dr-berns-strasse
DTSTART;VALUE=DATE:20261126
LOCATION:Dr.-Berns-Straße
BEGIN:VALARM
ACTION:DISPLAY
DESCRIPTION:Morgen: Abholung Biotonne
TRIGGER:-PT7H
END:VALARM
END:VEVENT
BEGIN:VEVENT
UID:4e57b8f1c780815035b4fd6d303e0802
DTSTAMP:20260422T142409Z
SUMMARY:Abholung Biotonne
DESCRIPTION:Alle Abholtermine auf abfallkalender.enni.de/abholtermine/dr-be
 rns-strasse
URL:https://abfallkalender.enni.de/abholtermine/dr-berns-strasse
DTSTART;VALUE=DATE:20261210
LOCATION:Dr.-Berns-Straße
BEGIN:VALARM
ACTION:DISPLAY
DESCRIPTION:Morgen: Abholung Biotonne
TRIGGER:-PT7H
END:VALARM
END:VEVENT
BEGIN:VEVENT
UID:5c885b43d70cfc1df1a88c9c0489e23d
DTSTAMP:20260422T142409Z
SUMMARY:Abholung Biotonne
DESCRIPTION:Alle Abholtermine auf abfallkalender.enni.de/abholtermine/dr-be
 rns-strasse
URL:https://abfallkalender.enni.de/abholtermine/dr-berns-strasse
DTSTART;VALUE=DATE:20261223
LOCATION:Dr.-Berns-Straße
BEGIN:VALARM
ACTION:DISPLAY
DESCRIPTION:Morgen: Abholung Biotonne
TRIGGER:-PT7H
END:VALARM
END:VEVENT
BEGIN:VEVENT
UID:f9806cfb0e2bb81ac205e52d60b3f6d1
DTSTAMP:20260422T142409Z
SUMMARY:Abholung Grünschnitt
DESCRIPTION:Alle Abholtermine auf abfallkalender.enni.de/abholtermine/dr-be
 rns-strasse
URL:https://abfallkalender.enni.de/abholtermine/dr-berns-strasse
DTSTART;VALUE=DATE:20261112
LOCATION:Dr.-Berns-Straße
BEGIN:VALARM
ACTION:DISPLAY
DESCRIPTION:Morgen: Abholung Grünschnitt
TRIGGER:-PT7H
END:VALARM
END:VEVENT
END:VCALENDAR
