BEGIN:VCALENDAR
PRODID:-//eluceo/ical//2.0/EN
VERSION:2.0
CALSCALE:GREGORIAN
BEGIN:VEVENT
UID:4a9eb71002372fd5a38e4745bcb5486a
DTSTAMP:20260421T093524Z
SUMMARY:Abholung Restabfall
DESCRIPTION:Alle Abholtermine auf abfallkalender.enni.de/abholtermine/am-ut
 forter-graben
URL:https://abfallkalender.enni.de/abholtermine/am-utforter-graben
DTSTART;VALUE=DATE:20260422
LOCATION:Am Utforter Graben
BEGIN:VALARM
ACTION:DISPLAY
DESCRIPTION:Morgen: Abholung Restabfall
TRIGGER:-PT7H
END:VALARM
END:VEVENT
BEGIN:VEVENT
UID:0fc86c7a9c781baac1961622364655a0
DTSTAMP:20260421T093524Z
SUMMARY:Abholung Restabfall
DESCRIPTION:Alle Abholtermine auf abfallkalender.enni.de/abholtermine/am-ut
 forter-graben
URL:https://abfallkalender.enni.de/abholtermine/am-utforter-graben
DTSTART;VALUE=DATE:20260506
LOCATION:Am Utforter Graben
BEGIN:VALARM
ACTION:DISPLAY
DESCRIPTION:Morgen: Abholung Restabfall
TRIGGER:-PT7H
END:VALARM
END:VEVENT
BEGIN:VEVENT
UID:b6f1da273d321e3624e8fedd04560d34
DTSTAMP:20260421T093524Z
SUMMARY:Abholung Restabfall
DESCRIPTION:Alle Abholtermine auf abfallkalender.enni.de/abholtermine/am-ut
 forter-graben
URL:https://abfallkalender.enni.de/abholtermine/am-utforter-graben
DTSTART;VALUE=DATE:20260520
LOCATION:Am Utforter Graben
BEGIN:VALARM
ACTION:DISPLAY
DESCRIPTION:Morgen: Abholung Restabfall
TRIGGER:-PT7H
END:VALARM
END:VEVENT
BEGIN:VEVENT
UID:2f84bbeffbb8562e97693b8fb017ceae
DTSTAMP:20260421T093524Z
SUMMARY:Abholung Restabfall
DESCRIPTION:Alle Abholtermine auf abfallkalender.enni.de/abholtermine/am-ut
 forter-graben
URL:https://abfallkalender.enni.de/abholtermine/am-utforter-graben
DTSTART;VALUE=DATE:20260603
LOCATION:Am Utforter Graben
BEGIN:VALARM
ACTION:DISPLAY
DESCRIPTION:Morgen: Abholung Restabfall
TRIGGER:-PT7H
END:VALARM
END:VEVENT
BEGIN:VEVENT
UID:8578724aa861575e25efa5506dbf6f96
DTSTAMP:20260421T093524Z
SUMMARY:Abholung Restabfall
DESCRIPTION:Alle Abholtermine auf abfallkalender.enni.de/abholtermine/am-ut
 forter-graben
URL:https://abfallkalender.enni.de/abholtermine/am-utforter-graben
DTSTART;VALUE=DATE:20260617
LOCATION:Am Utforter Graben
BEGIN:VALARM
ACTION:DISPLAY
DESCRIPTION:Morgen: Abholung Restabfall
TRIGGER:-PT7H
END:VALARM
END:VEVENT
BEGIN:VEVENT
UID:dcbb6750c30752bb5ceeff183f1eeb3a
DTSTAMP:20260421T093524Z
SUMMARY:Abholung Restabfall
DESCRIPTION:Alle Abholtermine auf abfallkalender.enni.de/abholtermine/am-ut
 forter-graben
URL:https://abfallkalender.enni.de/abholtermine/am-utforter-graben
DTSTART;VALUE=DATE:20260701
LOCATION:Am Utforter Graben
BEGIN:VALARM
ACTION:DISPLAY
DESCRIPTION:Morgen: Abholung Restabfall
TRIGGER:-PT7H
END:VALARM
END:VEVENT
BEGIN:VEVENT
UID:4c52843b26a276510b3e5c505a15d6bd
DTSTAMP:20260421T093524Z
SUMMARY:Abholung Restabfall
DESCRIPTION:Alle Abholtermine auf abfallkalender.enni.de/abholtermine/am-ut
 forter-graben
URL:https://abfallkalender.enni.de/abholtermine/am-utforter-graben
DTSTART;VALUE=DATE:20260715
LOCATION:Am Utforter Graben
BEGIN:VALARM
ACTION:DISPLAY
DESCRIPTION:Morgen: Abholung Restabfall
TRIGGER:-PT7H
END:VALARM
END:VEVENT
BEGIN:VEVENT
UID:801c8d309f9ad9595bff444d95c04a4f
DTSTAMP:20260421T093524Z
SUMMARY:Abholung Restabfall
DESCRIPTION:Alle Abholtermine auf abfallkalender.enni.de/abholtermine/am-ut
 forter-graben
URL:https://abfallkalender.enni.de/abholtermine/am-utforter-graben
DTSTART;VALUE=DATE:20260729
LOCATION:Am Utforter Graben
BEGIN:VALARM
ACTION:DISPLAY
DESCRIPTION:Morgen: Abholung Restabfall
TRIGGER:-PT7H
END:VALARM
END:VEVENT
BEGIN:VEVENT
UID:e22317fe696f6b9c16acb7fd4c8b4136
DTSTAMP:20260421T093524Z
SUMMARY:Abholung Restabfall
DESCRIPTION:Alle Abholtermine auf abfallkalender.enni.de/abholtermine/am-ut
 forter-graben
URL:https://abfallkalender.enni.de/abholtermine/am-utforter-graben
DTSTART;VALUE=DATE:20260812
LOCATION:Am Utforter Graben
BEGIN:VALARM
ACTION:DISPLAY
DESCRIPTION:Morgen: Abholung Restabfall
TRIGGER:-PT7H
END:VALARM
END:VEVENT
BEGIN:VEVENT
UID:57b8921abc95148593cd5d6dd0e83965
DTSTAMP:20260421T093524Z
SUMMARY:Abholung Restabfall
DESCRIPTION:Alle Abholtermine auf abfallkalender.enni.de/abholtermine/am-ut
 forter-graben
URL:https://abfallkalender.enni.de/abholtermine/am-utforter-graben
DTSTART;VALUE=DATE:20260826
LOCATION:Am Utforter Graben
BEGIN:VALARM
ACTION:DISPLAY
DESCRIPTION:Morgen: Abholung Restabfall
TRIGGER:-PT7H
END:VALARM
END:VEVENT
BEGIN:VEVENT
UID:0513e80a8b4a06d259001caf4534c6eb
DTSTAMP:20260421T093524Z
SUMMARY:Abholung Restabfall
DESCRIPTION:Alle Abholtermine auf abfallkalender.enni.de/abholtermine/am-ut
 forter-graben
URL:https://abfallkalender.enni.de/abholtermine/am-utforter-graben
DTSTART;VALUE=DATE:20260909
LOCATION:Am Utforter Graben
BEGIN:VALARM
ACTION:DISPLAY
DESCRIPTION:Morgen: Abholung Restabfall
TRIGGER:-PT7H
END:VALARM
END:VEVENT
BEGIN:VEVENT
UID:7bade933df5954fdc8aceaf019c2a1c5
DTSTAMP:20260421T093524Z
SUMMARY:Abholung Restabfall
DESCRIPTION:Alle Abholtermine auf abfallkalender.enni.de/abholtermine/am-ut
 forter-graben
URL:https://abfallkalender.enni.de/abholtermine/am-utforter-graben
DTSTART;VALUE=DATE:20260923
LOCATION:Am Utforter Graben
BEGIN:VALARM
ACTION:DISPLAY
DESCRIPTION:Morgen: Abholung Restabfall
TRIGGER:-PT7H
END:VALARM
END:VEVENT
BEGIN:VEVENT
UID:c05fb752b2b324d1df7a70c1afe23969
DTSTAMP:20260421T093524Z
SUMMARY:Abholung Restabfall
DESCRIPTION:Alle Abholtermine auf abfallkalender.enni.de/abholtermine/am-ut
 forter-graben
URL:https://abfallkalender.enni.de/abholtermine/am-utforter-graben
DTSTART;VALUE=DATE:20261007
LOCATION:Am Utforter Graben
BEGIN:VALARM
ACTION:DISPLAY
DESCRIPTION:Morgen: Abholung Restabfall
TRIGGER:-PT7H
END:VALARM
END:VEVENT
BEGIN:VEVENT
UID:32583c214ad039410382281367f58279
DTSTAMP:20260421T093524Z
SUMMARY:Abholung Restabfall
DESCRIPTION:Alle Abholtermine auf abfallkalender.enni.de/abholtermine/am-ut
 forter-graben
URL:https://abfallkalender.enni.de/abholtermine/am-utforter-graben
DTSTART;VALUE=DATE:20261021
LOCATION:Am Utforter Graben
BEGIN:VALARM
ACTION:DISPLAY
DESCRIPTION:Morgen: Abholung Restabfall
TRIGGER:-PT7H
END:VALARM
END:VEVENT
BEGIN:VEVENT
UID:7c68f1baa48bb6bf84fcdc4c1e43fd2e
DTSTAMP:20260421T093524Z
SUMMARY:Abholung Restabfall
DESCRIPTION:Alle Abholtermine auf abfallkalender.enni.de/abholtermine/am-ut
 forter-graben
URL:https://abfallkalender.enni.de/abholtermine/am-utforter-graben
DTSTART;VALUE=DATE:20261104
LOCATION:Am Utforter Graben
BEGIN:VALARM
ACTION:DISPLAY
DESCRIPTION:Morgen: Abholung Restabfall
TRIGGER:-PT7H
END:VALARM
END:VEVENT
BEGIN:VEVENT
UID:d6402a9f0d3610fe7154b206c18cff88
DTSTAMP:20260421T093524Z
SUMMARY:Abholung Restabfall
DESCRIPTION:Alle Abholtermine auf abfallkalender.enni.de/abholtermine/am-ut
 forter-graben
URL:https://abfallkalender.enni.de/abholtermine/am-utforter-graben
DTSTART;VALUE=DATE:20261118
LOCATION:Am Utforter Graben
BEGIN:VALARM
ACTION:DISPLAY
DESCRIPTION:Morgen: Abholung Restabfall
TRIGGER:-PT7H
END:VALARM
END:VEVENT
BEGIN:VEVENT
UID:155317787cfbebe28f123dc3a7087522
DTSTAMP:20260421T093524Z
SUMMARY:Abholung Restabfall
DESCRIPTION:Alle Abholtermine auf abfallkalender.enni.de/abholtermine/am-ut
 forter-graben
URL:https://abfallkalender.enni.de/abholtermine/am-utforter-graben
DTSTART;VALUE=DATE:20261202
LOCATION:Am Utforter Graben
BEGIN:VALARM
ACTION:DISPLAY
DESCRIPTION:Morgen: Abholung Restabfall
TRIGGER:-PT7H
END:VALARM
END:VEVENT
BEGIN:VEVENT
UID:51741ebe2d4126714d775841fc77e376
DTSTAMP:20260421T093524Z
SUMMARY:Abholung Restabfall
DESCRIPTION:Alle Abholtermine auf abfallkalender.enni.de/abholtermine/am-ut
 forter-graben
URL:https://abfallkalender.enni.de/abholtermine/am-utforter-graben
DTSTART;VALUE=DATE:20261216
LOCATION:Am Utforter Graben
BEGIN:VALARM
ACTION:DISPLAY
DESCRIPTION:Morgen: Abholung Restabfall
TRIGGER:-PT7H
END:VALARM
END:VEVENT
BEGIN:VEVENT
UID:f52f6e9452e2426f1f937a70112d34e7
DTSTAMP:20260421T093524Z
SUMMARY:Abholung Restabfall
DESCRIPTION:Alle Abholtermine auf abfallkalender.enni.de/abholtermine/am-ut
 forter-graben
URL:https://abfallkalender.enni.de/abholtermine/am-utforter-graben
DTSTART;VALUE=DATE:20261230
LOCATION:Am Utforter Graben
BEGIN:VALARM
ACTION:DISPLAY
DESCRIPTION:Morgen: Abholung Restabfall
TRIGGER:-PT7H
END:VALARM
END:VEVENT
BEGIN:VEVENT
UID:18620b9f2efd3fa8f5b77eb4554abaaa
DTSTAMP:20260421T093524Z
SUMMARY:Abholung Papier
DESCRIPTION:Alle Abholtermine auf abfallkalender.enni.de/abholtermine/am-ut
 forter-graben
URL:https://abfallkalender.enni.de/abholtermine/am-utforter-graben
DTSTART;VALUE=DATE:20260504
LOCATION:Am Utforter Graben
BEGIN:VALARM
ACTION:DISPLAY
DESCRIPTION:Morgen: Abholung Papier
TRIGGER:-PT7H
END:VALARM
END:VEVENT
BEGIN:VEVENT
UID:29119bca9211bb155470234ac05de9ee
DTSTAMP:20260421T093524Z
SUMMARY:Abholung Papier
DESCRIPTION:Alle Abholtermine auf abfallkalender.enni.de/abholtermine/am-ut
 forter-graben
URL:https://abfallkalender.enni.de/abholtermine/am-utforter-graben
DTSTART;VALUE=DATE:20260601
LOCATION:Am Utforter Graben
BEGIN:VALARM
ACTION:DISPLAY
DESCRIPTION:Morgen: Abholung Papier
TRIGGER:-PT7H
END:VALARM
END:VEVENT
BEGIN:VEVENT
UID:4876d839eefe9121d1b9721b5e700c8f
DTSTAMP:20260421T093524Z
SUMMARY:Abholung Papier
DESCRIPTION:Alle Abholtermine auf abfallkalender.enni.de/abholtermine/am-ut
 forter-graben
URL:https://abfallkalender.enni.de/abholtermine/am-utforter-graben
DTSTART;VALUE=DATE:20260629
LOCATION:Am Utforter Graben
BEGIN:VALARM
ACTION:DISPLAY
DESCRIPTION:Morgen: Abholung Papier
TRIGGER:-PT7H
END:VALARM
END:VEVENT
BEGIN:VEVENT
UID:335de406c82c0ee1afe82840a02842c3
DTSTAMP:20260421T093524Z
SUMMARY:Abholung Papier
DESCRIPTION:Alle Abholtermine auf abfallkalender.enni.de/abholtermine/am-ut
 forter-graben
URL:https://abfallkalender.enni.de/abholtermine/am-utforter-graben
DTSTART;VALUE=DATE:20260727
LOCATION:Am Utforter Graben
BEGIN:VALARM
ACTION:DISPLAY
DESCRIPTION:Morgen: Abholung Papier
TRIGGER:-PT7H
END:VALARM
END:VEVENT
BEGIN:VEVENT
UID:0e0fab9cbc4184d7d9d9cd1ab72d80e2
DTSTAMP:20260421T093524Z
SUMMARY:Abholung Papier
DESCRIPTION:Alle Abholtermine auf abfallkalender.enni.de/abholtermine/am-ut
 forter-graben
URL:https://abfallkalender.enni.de/abholtermine/am-utforter-graben
DTSTART;VALUE=DATE:20260824
LOCATION:Am Utforter Graben
BEGIN:VALARM
ACTION:DISPLAY
DESCRIPTION:Morgen: Abholung Papier
TRIGGER:-PT7H
END:VALARM
END:VEVENT
BEGIN:VEVENT
UID:003c560edf9fe0da56befcb4ce8340fb
DTSTAMP:20260421T093524Z
SUMMARY:Abholung Papier
DESCRIPTION:Alle Abholtermine auf abfallkalender.enni.de/abholtermine/am-ut
 forter-graben
URL:https://abfallkalender.enni.de/abholtermine/am-utforter-graben
DTSTART;VALUE=DATE:20260921
LOCATION:Am Utforter Graben
BEGIN:VALARM
ACTION:DISPLAY
DESCRIPTION:Morgen: Abholung Papier
TRIGGER:-PT7H
END:VALARM
END:VEVENT
BEGIN:VEVENT
UID:dc749dfca9ab144f2484d54ccd4e53bb
DTSTAMP:20260421T093524Z
SUMMARY:Abholung Papier
DESCRIPTION:Alle Abholtermine auf abfallkalender.enni.de/abholtermine/am-ut
 forter-graben
URL:https://abfallkalender.enni.de/abholtermine/am-utforter-graben
DTSTART;VALUE=DATE:20261019
LOCATION:Am Utforter Graben
BEGIN:VALARM
ACTION:DISPLAY
DESCRIPTION:Morgen: Abholung Papier
TRIGGER:-PT7H
END:VALARM
END:VEVENT
BEGIN:VEVENT
UID:b5a64f49bcc446a3b6fd70e2c4252c35
DTSTAMP:20260421T093524Z
SUMMARY:Abholung Papier
DESCRIPTION:Alle Abholtermine auf abfallkalender.enni.de/abholtermine/am-ut
 forter-graben
URL:https://abfallkalender.enni.de/abholtermine/am-utforter-graben
DTSTART;VALUE=DATE:20261116
LOCATION:Am Utforter Graben
BEGIN:VALARM
ACTION:DISPLAY
DESCRIPTION:Morgen: Abholung Papier
TRIGGER:-PT7H
END:VALARM
END:VEVENT
BEGIN:VEVENT
UID:0bda89a5a638a6f2efcae5eb37e8ef93
DTSTAMP:20260421T093524Z
SUMMARY:Abholung Papier
DESCRIPTION:Alle Abholtermine auf abfallkalender.enni.de/abholtermine/am-ut
 forter-graben
URL:https://abfallkalender.enni.de/abholtermine/am-utforter-graben
DTSTART;VALUE=DATE:20261214
LOCATION:Am Utforter Graben
BEGIN:VALARM
ACTION:DISPLAY
DESCRIPTION:Morgen: Abholung Papier
TRIGGER:-PT7H
END:VALARM
END:VEVENT
BEGIN:VEVENT
UID:7ad4811ea94324c9cdac3faa897b84c5
DTSTAMP:20260421T093524Z
SUMMARY:Abholung Gelber Sack
DESCRIPTION:Alle Abholtermine auf abfallkalender.enni.de/abholtermine/am-ut
 forter-graben
URL:https://abfallkalender.enni.de/abholtermine/am-utforter-graben
DTSTART;VALUE=DATE:20260427
LOCATION:Am Utforter Graben
BEGIN:VALARM
ACTION:DISPLAY
DESCRIPTION:Morgen: Abholung Gelber Sack
TRIGGER:-PT7H
END:VALARM
END:VEVENT
BEGIN:VEVENT
UID:377e5d0f5d1ff608c1ed9144d27ea0f1
DTSTAMP:20260421T093524Z
SUMMARY:Abholung Gelber Sack
DESCRIPTION:Alle Abholtermine auf abfallkalender.enni.de/abholtermine/am-ut
 forter-graben
URL:https://abfallkalender.enni.de/abholtermine/am-utforter-graben
DTSTART;VALUE=DATE:20260511
LOCATION:Am Utforter Graben
BEGIN:VALARM
ACTION:DISPLAY
DESCRIPTION:Morgen: Abholung Gelber Sack
TRIGGER:-PT7H
END:VALARM
END:VEVENT
BEGIN:VEVENT
UID:35f621c5f5ed29e3e2c4e514d16d87d3
DTSTAMP:20260421T093524Z
SUMMARY:Abholung Gelber Sack
DESCRIPTION:Alle Abholtermine auf abfallkalender.enni.de/abholtermine/am-ut
 forter-graben
URL:https://abfallkalender.enni.de/abholtermine/am-utforter-graben
DTSTART;VALUE=DATE:20260526
LOCATION:Am Utforter Graben
BEGIN:VALARM
ACTION:DISPLAY
DESCRIPTION:Morgen: Abholung Gelber Sack
TRIGGER:-PT7H
END:VALARM
END:VEVENT
BEGIN:VEVENT
UID:10ca19edfe02839cf2c9ccaf093f472a
DTSTAMP:20260421T093524Z
SUMMARY:Abholung Gelber Sack
DESCRIPTION:Alle Abholtermine auf abfallkalender.enni.de/abholtermine/am-ut
 forter-graben
URL:https://abfallkalender.enni.de/abholtermine/am-utforter-graben
DTSTART;VALUE=DATE:20260608
LOCATION:Am Utforter Graben
BEGIN:VALARM
ACTION:DISPLAY
DESCRIPTION:Morgen: Abholung Gelber Sack
TRIGGER:-PT7H
END:VALARM
END:VEVENT
BEGIN:VEVENT
UID:7894a1830fd5ec539df95c1761337018
DTSTAMP:20260421T093524Z
SUMMARY:Abholung Gelber Sack
DESCRIPTION:Alle Abholtermine auf abfallkalender.enni.de/abholtermine/am-ut
 forter-graben
URL:https://abfallkalender.enni.de/abholtermine/am-utforter-graben
DTSTART;VALUE=DATE:20260622
LOCATION:Am Utforter Graben
BEGIN:VALARM
ACTION:DISPLAY
DESCRIPTION:Morgen: Abholung Gelber Sack
TRIGGER:-PT7H
END:VALARM
END:VEVENT
BEGIN:VEVENT
UID:15efd4d955d7ddd682507fc3210d70ea
DTSTAMP:20260421T093524Z
SUMMARY:Abholung Gelber Sack
DESCRIPTION:Alle Abholtermine auf abfallkalender.enni.de/abholtermine/am-ut
 forter-graben
URL:https://abfallkalender.enni.de/abholtermine/am-utforter-graben
DTSTART;VALUE=DATE:20260706
LOCATION:Am Utforter Graben
BEGIN:VALARM
ACTION:DISPLAY
DESCRIPTION:Morgen: Abholung Gelber Sack
TRIGGER:-PT7H
END:VALARM
END:VEVENT
BEGIN:VEVENT
UID:ff39995cc3e9d3106c1aa96963889b51
DTSTAMP:20260421T093524Z
SUMMARY:Abholung Gelber Sack
DESCRIPTION:Alle Abholtermine auf abfallkalender.enni.de/abholtermine/am-ut
 forter-graben
URL:https://abfallkalender.enni.de/abholtermine/am-utforter-graben
DTSTART;VALUE=DATE:20260720
LOCATION:Am Utforter Graben
BEGIN:VALARM
ACTION:DISPLAY
DESCRIPTION:Morgen: Abholung Gelber Sack
TRIGGER:-PT7H
END:VALARM
END:VEVENT
BEGIN:VEVENT
UID:4ad0b1163bf1d9ce0ae7081e55de49db
DTSTAMP:20260421T093524Z
SUMMARY:Abholung Gelber Sack
DESCRIPTION:Alle Abholtermine auf abfallkalender.enni.de/abholtermine/am-ut
 forter-graben
URL:https://abfallkalender.enni.de/abholtermine/am-utforter-graben
DTSTART;VALUE=DATE:20260803
LOCATION:Am Utforter Graben
BEGIN:VALARM
ACTION:DISPLAY
DESCRIPTION:Morgen: Abholung Gelber Sack
TRIGGER:-PT7H
END:VALARM
END:VEVENT
BEGIN:VEVENT
UID:5815f72be4e80601735854deda3c0e20
DTSTAMP:20260421T093524Z
SUMMARY:Abholung Gelber Sack
DESCRIPTION:Alle Abholtermine auf abfallkalender.enni.de/abholtermine/am-ut
 forter-graben
URL:https://abfallkalender.enni.de/abholtermine/am-utforter-graben
DTSTART;VALUE=DATE:20260817
LOCATION:Am Utforter Graben
BEGIN:VALARM
ACTION:DISPLAY
DESCRIPTION:Morgen: Abholung Gelber Sack
TRIGGER:-PT7H
END:VALARM
END:VEVENT
BEGIN:VEVENT
UID:dddb2cb768b2616dd8abd19f686c1c9d
DTSTAMP:20260421T093524Z
SUMMARY:Abholung Gelber Sack
DESCRIPTION:Alle Abholtermine auf abfallkalender.enni.de/abholtermine/am-ut
 forter-graben
URL:https://abfallkalender.enni.de/abholtermine/am-utforter-graben
DTSTART;VALUE=DATE:20260831
LOCATION:Am Utforter Graben
BEGIN:VALARM
ACTION:DISPLAY
DESCRIPTION:Morgen: Abholung Gelber Sack
TRIGGER:-PT7H
END:VALARM
END:VEVENT
BEGIN:VEVENT
UID:75c7ad461f864959d3d874dcd9d6acff
DTSTAMP:20260421T093524Z
SUMMARY:Abholung Gelber Sack
DESCRIPTION:Alle Abholtermine auf abfallkalender.enni.de/abholtermine/am-ut
 forter-graben
URL:https://abfallkalender.enni.de/abholtermine/am-utforter-graben
DTSTART;VALUE=DATE:20260914
LOCATION:Am Utforter Graben
BEGIN:VALARM
ACTION:DISPLAY
DESCRIPTION:Morgen: Abholung Gelber Sack
TRIGGER:-PT7H
END:VALARM
END:VEVENT
BEGIN:VEVENT
UID:dfba64b9b155eaa601255809ac298b52
DTSTAMP:20260421T093524Z
SUMMARY:Abholung Gelber Sack
DESCRIPTION:Alle Abholtermine auf abfallkalender.enni.de/abholtermine/am-ut
 forter-graben
URL:https://abfallkalender.enni.de/abholtermine/am-utforter-graben
DTSTART;VALUE=DATE:20260928
LOCATION:Am Utforter Graben
BEGIN:VALARM
ACTION:DISPLAY
DESCRIPTION:Morgen: Abholung Gelber Sack
TRIGGER:-PT7H
END:VALARM
END:VEVENT
BEGIN:VEVENT
UID:6d9a9454975e8816a7624b249ef2c5d0
DTSTAMP:20260421T093524Z
SUMMARY:Abholung Gelber Sack
DESCRIPTION:Alle Abholtermine auf abfallkalender.enni.de/abholtermine/am-ut
 forter-graben
URL:https://abfallkalender.enni.de/abholtermine/am-utforter-graben
DTSTART;VALUE=DATE:20261012
LOCATION:Am Utforter Graben
BEGIN:VALARM
ACTION:DISPLAY
DESCRIPTION:Morgen: Abholung Gelber Sack
TRIGGER:-PT7H
END:VALARM
END:VEVENT
BEGIN:VEVENT
UID:9dae8edeed80a062258da127db13ca76
DTSTAMP:20260421T093524Z
SUMMARY:Abholung Gelber Sack
DESCRIPTION:Alle Abholtermine auf abfallkalender.enni.de/abholtermine/am-ut
 forter-graben
URL:https://abfallkalender.enni.de/abholtermine/am-utforter-graben
DTSTART;VALUE=DATE:20261026
LOCATION:Am Utforter Graben
BEGIN:VALARM
ACTION:DISPLAY
DESCRIPTION:Morgen: Abholung Gelber Sack
TRIGGER:-PT7H
END:VALARM
END:VEVENT
BEGIN:VEVENT
UID:359107da845f2c9703f662f36e46bf33
DTSTAMP:20260421T093524Z
SUMMARY:Abholung Gelber Sack
DESCRIPTION:Alle Abholtermine auf abfallkalender.enni.de/abholtermine/am-ut
 forter-graben
URL:https://abfallkalender.enni.de/abholtermine/am-utforter-graben
DTSTART;VALUE=DATE:20261109
LOCATION:Am Utforter Graben
BEGIN:VALARM
ACTION:DISPLAY
DESCRIPTION:Morgen: Abholung Gelber Sack
TRIGGER:-PT7H
END:VALARM
END:VEVENT
BEGIN:VEVENT
UID:0819031b44154f9735e3be58e1173df0
DTSTAMP:20260421T093524Z
SUMMARY:Abholung Gelber Sack
DESCRIPTION:Alle Abholtermine auf abfallkalender.enni.de/abholtermine/am-ut
 forter-graben
URL:https://abfallkalender.enni.de/abholtermine/am-utforter-graben
DTSTART;VALUE=DATE:20261123
LOCATION:Am Utforter Graben
BEGIN:VALARM
ACTION:DISPLAY
DESCRIPTION:Morgen: Abholung Gelber Sack
TRIGGER:-PT7H
END:VALARM
END:VEVENT
BEGIN:VEVENT
UID:bc90cd9f24045e2d1d19a2364821502d
DTSTAMP:20260421T093524Z
SUMMARY:Abholung Gelber Sack
DESCRIPTION:Alle Abholtermine auf abfallkalender.enni.de/abholtermine/am-ut
 forter-graben
URL:https://abfallkalender.enni.de/abholtermine/am-utforter-graben
DTSTART;VALUE=DATE:20261207
LOCATION:Am Utforter Graben
BEGIN:VALARM
ACTION:DISPLAY
DESCRIPTION:Morgen: Abholung Gelber Sack
TRIGGER:-PT7H
END:VALARM
END:VEVENT
BEGIN:VEVENT
UID:2b7ad5f2b13f6083e2cfbb0e11d6fcf1
DTSTAMP:20260421T093524Z
SUMMARY:Abholung Gelber Sack
DESCRIPTION:Alle Abholtermine auf abfallkalender.enni.de/abholtermine/am-ut
 forter-graben
URL:https://abfallkalender.enni.de/abholtermine/am-utforter-graben
DTSTART;VALUE=DATE:20261219
LOCATION:Am Utforter Graben
BEGIN:VALARM
ACTION:DISPLAY
DESCRIPTION:Morgen: Abholung Gelber Sack
TRIGGER:-PT7H
END:VALARM
END:VEVENT
BEGIN:VEVENT
UID:47f3be2ed333d240c3637fcef60480b2
DTSTAMP:20260421T093524Z
SUMMARY:Abholung Biotonne
DESCRIPTION:Alle Abholtermine auf abfallkalender.enni.de/abholtermine/am-ut
 forter-graben
URL:https://abfallkalender.enni.de/abholtermine/am-utforter-graben
DTSTART;VALUE=DATE:20260430
LOCATION:Am Utforter Graben
BEGIN:VALARM
ACTION:DISPLAY
DESCRIPTION:Morgen: Abholung Biotonne
TRIGGER:-PT7H
END:VALARM
END:VEVENT
BEGIN:VEVENT
UID:7273fa80c9dcddd4044eeed7477893b8
DTSTAMP:20260421T093524Z
SUMMARY:Abholung Biotonne
DESCRIPTION:Alle Abholtermine auf abfallkalender.enni.de/abholtermine/am-ut
 forter-graben
URL:https://abfallkalender.enni.de/abholtermine/am-utforter-graben
DTSTART;VALUE=DATE:20260515
LOCATION:Am Utforter Graben
BEGIN:VALARM
ACTION:DISPLAY
DESCRIPTION:Morgen: Abholung Biotonne
TRIGGER:-PT7H
END:VALARM
END:VEVENT
BEGIN:VEVENT
UID:b72ce17df47cd39445fb00e8bfbd89a3
DTSTAMP:20260421T093524Z
SUMMARY:Abholung Biotonne
DESCRIPTION:Alle Abholtermine auf abfallkalender.enni.de/abholtermine/am-ut
 forter-graben
URL:https://abfallkalender.enni.de/abholtermine/am-utforter-graben
DTSTART;VALUE=DATE:20260529
LOCATION:Am Utforter Graben
BEGIN:VALARM
ACTION:DISPLAY
DESCRIPTION:Morgen: Abholung Biotonne
TRIGGER:-PT7H
END:VALARM
END:VEVENT
BEGIN:VEVENT
UID:fa14fdfdba8031f41960dc0cd2c7b763
DTSTAMP:20260421T093524Z
SUMMARY:Abholung Biotonne
DESCRIPTION:Alle Abholtermine auf abfallkalender.enni.de/abholtermine/am-ut
 forter-graben
URL:https://abfallkalender.enni.de/abholtermine/am-utforter-graben
DTSTART;VALUE=DATE:20260611
LOCATION:Am Utforter Graben
BEGIN:VALARM
ACTION:DISPLAY
DESCRIPTION:Morgen: Abholung Biotonne
TRIGGER:-PT7H
END:VALARM
END:VEVENT
BEGIN:VEVENT
UID:9ea5b8f3bae8f12c6dc8bdca40dff85e
DTSTAMP:20260421T093524Z
SUMMARY:Abholung Biotonne
DESCRIPTION:Alle Abholtermine auf abfallkalender.enni.de/abholtermine/am-ut
 forter-graben
URL:https://abfallkalender.enni.de/abholtermine/am-utforter-graben
DTSTART;VALUE=DATE:20260625
LOCATION:Am Utforter Graben
BEGIN:VALARM
ACTION:DISPLAY
DESCRIPTION:Morgen: Abholung Biotonne
TRIGGER:-PT7H
END:VALARM
END:VEVENT
BEGIN:VEVENT
UID:c4046e9dcf356981a89cf4829e89e05b
DTSTAMP:20260421T093524Z
SUMMARY:Abholung Biotonne
DESCRIPTION:Alle Abholtermine auf abfallkalender.enni.de/abholtermine/am-ut
 forter-graben
URL:https://abfallkalender.enni.de/abholtermine/am-utforter-graben
DTSTART;VALUE=DATE:20260709
LOCATION:Am Utforter Graben
BEGIN:VALARM
ACTION:DISPLAY
DESCRIPTION:Morgen: Abholung Biotonne
TRIGGER:-PT7H
END:VALARM
END:VEVENT
BEGIN:VEVENT
UID:e1a144c79e5430183f7867e6e6029aa2
DTSTAMP:20260421T093524Z
SUMMARY:Abholung Biotonne
DESCRIPTION:Alle Abholtermine auf abfallkalender.enni.de/abholtermine/am-ut
 forter-graben
URL:https://abfallkalender.enni.de/abholtermine/am-utforter-graben
DTSTART;VALUE=DATE:20260723
LOCATION:Am Utforter Graben
BEGIN:VALARM
ACTION:DISPLAY
DESCRIPTION:Morgen: Abholung Biotonne
TRIGGER:-PT7H
END:VALARM
END:VEVENT
BEGIN:VEVENT
UID:2ea1c2591cdc890604081f61300aa536
DTSTAMP:20260421T093524Z
SUMMARY:Abholung Biotonne
DESCRIPTION:Alle Abholtermine auf abfallkalender.enni.de/abholtermine/am-ut
 forter-graben
URL:https://abfallkalender.enni.de/abholtermine/am-utforter-graben
DTSTART;VALUE=DATE:20260806
LOCATION:Am Utforter Graben
BEGIN:VALARM
ACTION:DISPLAY
DESCRIPTION:Morgen: Abholung Biotonne
TRIGGER:-PT7H
END:VALARM
END:VEVENT
BEGIN:VEVENT
UID:0900fff34782af03f7dcc53de4e5d96f
DTSTAMP:20260421T093524Z
SUMMARY:Abholung Biotonne
DESCRIPTION:Alle Abholtermine auf abfallkalender.enni.de/abholtermine/am-ut
 forter-graben
URL:https://abfallkalender.enni.de/abholtermine/am-utforter-graben
DTSTART;VALUE=DATE:20260820
LOCATION:Am Utforter Graben
BEGIN:VALARM
ACTION:DISPLAY
DESCRIPTION:Morgen: Abholung Biotonne
TRIGGER:-PT7H
END:VALARM
END:VEVENT
BEGIN:VEVENT
UID:e360205aa8910cf680eb4e62c753fb42
DTSTAMP:20260421T093524Z
SUMMARY:Abholung Biotonne
DESCRIPTION:Alle Abholtermine auf abfallkalender.enni.de/abholtermine/am-ut
 forter-graben
URL:https://abfallkalender.enni.de/abholtermine/am-utforter-graben
DTSTART;VALUE=DATE:20260903
LOCATION:Am Utforter Graben
BEGIN:VALARM
ACTION:DISPLAY
DESCRIPTION:Morgen: Abholung Biotonne
TRIGGER:-PT7H
END:VALARM
END:VEVENT
BEGIN:VEVENT
UID:b0fe9c0a7eeee7b92e27f1d2d34b49d4
DTSTAMP:20260421T093524Z
SUMMARY:Abholung Biotonne
DESCRIPTION:Alle Abholtermine auf abfallkalender.enni.de/abholtermine/am-ut
 forter-graben
URL:https://abfallkalender.enni.de/abholtermine/am-utforter-graben
DTSTART;VALUE=DATE:20260917
LOCATION:Am Utforter Graben
BEGIN:VALARM
ACTION:DISPLAY
DESCRIPTION:Morgen: Abholung Biotonne
TRIGGER:-PT7H
END:VALARM
END:VEVENT
BEGIN:VEVENT
UID:44f5d942074b6d2bb9502a67d67a6ae7
DTSTAMP:20260421T093524Z
SUMMARY:Abholung Biotonne
DESCRIPTION:Alle Abholtermine auf abfallkalender.enni.de/abholtermine/am-ut
 forter-graben
URL:https://abfallkalender.enni.de/abholtermine/am-utforter-graben
DTSTART;VALUE=DATE:20261001
LOCATION:Am Utforter Graben
BEGIN:VALARM
ACTION:DISPLAY
DESCRIPTION:Morgen: Abholung Biotonne
TRIGGER:-PT7H
END:VALARM
END:VEVENT
BEGIN:VEVENT
UID:174479ac8f793f5e0367a22cbf75a6a8
DTSTAMP:20260421T093524Z
SUMMARY:Abholung Biotonne
DESCRIPTION:Alle Abholtermine auf abfallkalender.enni.de/abholtermine/am-ut
 forter-graben
URL:https://abfallkalender.enni.de/abholtermine/am-utforter-graben
DTSTART;VALUE=DATE:20261015
LOCATION:Am Utforter Graben
BEGIN:VALARM
ACTION:DISPLAY
DESCRIPTION:Morgen: Abholung Biotonne
TRIGGER:-PT7H
END:VALARM
END:VEVENT
BEGIN:VEVENT
UID:51ee9c1d917571245802eb41a29af64c
DTSTAMP:20260421T093524Z
SUMMARY:Abholung Biotonne
DESCRIPTION:Alle Abholtermine auf abfallkalender.enni.de/abholtermine/am-ut
 forter-graben
URL:https://abfallkalender.enni.de/abholtermine/am-utforter-graben
DTSTART;VALUE=DATE:20261029
LOCATION:Am Utforter Graben
BEGIN:VALARM
ACTION:DISPLAY
DESCRIPTION:Morgen: Abholung Biotonne
TRIGGER:-PT7H
END:VALARM
END:VEVENT
BEGIN:VEVENT
UID:18f53b81ab0d38fddee162c2f67765ac
DTSTAMP:20260421T093524Z
SUMMARY:Abholung Biotonne
DESCRIPTION:Alle Abholtermine auf abfallkalender.enni.de/abholtermine/am-ut
 forter-graben
URL:https://abfallkalender.enni.de/abholtermine/am-utforter-graben
DTSTART;VALUE=DATE:20261112
LOCATION:Am Utforter Graben
BEGIN:VALARM
ACTION:DISPLAY
DESCRIPTION:Morgen: Abholung Biotonne
TRIGGER:-PT7H
END:VALARM
END:VEVENT
BEGIN:VEVENT
UID:38a46bc4902016f904c441f1265aff1d
DTSTAMP:20260421T093524Z
SUMMARY:Abholung Biotonne
DESCRIPTION:Alle Abholtermine auf abfallkalender.enni.de/abholtermine/am-ut
 forter-graben
URL:https://abfallkalender.enni.de/abholtermine/am-utforter-graben
DTSTART;VALUE=DATE:20261126
LOCATION:Am Utforter Graben
BEGIN:VALARM
ACTION:DISPLAY
DESCRIPTION:Morgen: Abholung Biotonne
TRIGGER:-PT7H
END:VALARM
END:VEVENT
BEGIN:VEVENT
UID:3f4c77b2c69519876802a4c71c8c03cc
DTSTAMP:20260421T093524Z
SUMMARY:Abholung Biotonne
DESCRIPTION:Alle Abholtermine auf abfallkalender.enni.de/abholtermine/am-ut
 forter-graben
URL:https://abfallkalender.enni.de/abholtermine/am-utforter-graben
DTSTART;VALUE=DATE:20261210
LOCATION:Am Utforter Graben
BEGIN:VALARM
ACTION:DISPLAY
DESCRIPTION:Morgen: Abholung Biotonne
TRIGGER:-PT7H
END:VALARM
END:VEVENT
BEGIN:VEVENT
UID:1390fcb901094c464ed298af66fbd6d5
DTSTAMP:20260421T093524Z
SUMMARY:Abholung Biotonne
DESCRIPTION:Alle Abholtermine auf abfallkalender.enni.de/abholtermine/am-ut
 forter-graben
URL:https://abfallkalender.enni.de/abholtermine/am-utforter-graben
DTSTART;VALUE=DATE:20261223
LOCATION:Am Utforter Graben
BEGIN:VALARM
ACTION:DISPLAY
DESCRIPTION:Morgen: Abholung Biotonne
TRIGGER:-PT7H
END:VALARM
END:VEVENT
BEGIN:VEVENT
UID:141a324f38c12556c6f0d792902a905c
DTSTAMP:20260421T093524Z
SUMMARY:Abholung Grünschnitt
DESCRIPTION:Alle Abholtermine auf abfallkalender.enni.de/abholtermine/am-ut
 forter-graben
URL:https://abfallkalender.enni.de/abholtermine/am-utforter-graben
DTSTART;VALUE=DATE:20261112
LOCATION:Am Utforter Graben
BEGIN:VALARM
ACTION:DISPLAY
DESCRIPTION:Morgen: Abholung Grünschnitt
TRIGGER:-PT7H
END:VALARM
END:VEVENT
END:VCALENDAR
