BEGIN:VCALENDAR
PRODID:-//eluceo/ical//2.0/EN
VERSION:2.0
CALSCALE:GREGORIAN
BEGIN:VEVENT
UID:bc1e1a3696e2faaa4c10f6dddf744d76
DTSTAMP:20260420T100015Z
SUMMARY:Abholung Restabfall
DESCRIPTION:Alle Abholtermine auf abfallkalender.enni.de/abholtermine/adolf
 -krummacher-strasse
URL:https://abfallkalender.enni.de/abholtermine/adolf-krummacher-strasse
DTSTART;VALUE=DATE:20260502
LOCATION:Adolf-Krummacher-Straße
BEGIN:VALARM
ACTION:DISPLAY
DESCRIPTION:Morgen: Abholung Restabfall
TRIGGER:-PT7H
END:VALARM
END:VEVENT
BEGIN:VEVENT
UID:216d1cb97245daf3f0e2bc094f7df8be
DTSTAMP:20260420T100015Z
SUMMARY:Abholung Restabfall
DESCRIPTION:Alle Abholtermine auf abfallkalender.enni.de/abholtermine/adolf
 -krummacher-strasse
URL:https://abfallkalender.enni.de/abholtermine/adolf-krummacher-strasse
DTSTART;VALUE=DATE:20260516
LOCATION:Adolf-Krummacher-Straße
BEGIN:VALARM
ACTION:DISPLAY
DESCRIPTION:Morgen: Abholung Restabfall
TRIGGER:-PT7H
END:VALARM
END:VEVENT
BEGIN:VEVENT
UID:ab77b48ff64b498ff9d329fb65d51cac
DTSTAMP:20260420T100015Z
SUMMARY:Abholung Restabfall
DESCRIPTION:Alle Abholtermine auf abfallkalender.enni.de/abholtermine/adolf
 -krummacher-strasse
URL:https://abfallkalender.enni.de/abholtermine/adolf-krummacher-strasse
DTSTART;VALUE=DATE:20260530
LOCATION:Adolf-Krummacher-Straße
BEGIN:VALARM
ACTION:DISPLAY
DESCRIPTION:Morgen: Abholung Restabfall
TRIGGER:-PT7H
END:VALARM
END:VEVENT
BEGIN:VEVENT
UID:880ea1dd403103d1d93642d7a0ee4e18
DTSTAMP:20260420T100015Z
SUMMARY:Abholung Restabfall
DESCRIPTION:Alle Abholtermine auf abfallkalender.enni.de/abholtermine/adolf
 -krummacher-strasse
URL:https://abfallkalender.enni.de/abholtermine/adolf-krummacher-strasse
DTSTART;VALUE=DATE:20260612
LOCATION:Adolf-Krummacher-Straße
BEGIN:VALARM
ACTION:DISPLAY
DESCRIPTION:Morgen: Abholung Restabfall
TRIGGER:-PT7H
END:VALARM
END:VEVENT
BEGIN:VEVENT
UID:12003ac41da6840f9d2683a0609658a6
DTSTAMP:20260420T100015Z
SUMMARY:Abholung Restabfall
DESCRIPTION:Alle Abholtermine auf abfallkalender.enni.de/abholtermine/adolf
 -krummacher-strasse
URL:https://abfallkalender.enni.de/abholtermine/adolf-krummacher-strasse
DTSTART;VALUE=DATE:20260626
LOCATION:Adolf-Krummacher-Straße
BEGIN:VALARM
ACTION:DISPLAY
DESCRIPTION:Morgen: Abholung Restabfall
TRIGGER:-PT7H
END:VALARM
END:VEVENT
BEGIN:VEVENT
UID:644f5d8436d38d5cc62910161b46c7dc
DTSTAMP:20260420T100015Z
SUMMARY:Abholung Restabfall
DESCRIPTION:Alle Abholtermine auf abfallkalender.enni.de/abholtermine/adolf
 -krummacher-strasse
URL:https://abfallkalender.enni.de/abholtermine/adolf-krummacher-strasse
DTSTART;VALUE=DATE:20260710
LOCATION:Adolf-Krummacher-Straße
BEGIN:VALARM
ACTION:DISPLAY
DESCRIPTION:Morgen: Abholung Restabfall
TRIGGER:-PT7H
END:VALARM
END:VEVENT
BEGIN:VEVENT
UID:d7e4772af06c3b4e47a29623cd73069d
DTSTAMP:20260420T100015Z
SUMMARY:Abholung Restabfall
DESCRIPTION:Alle Abholtermine auf abfallkalender.enni.de/abholtermine/adolf
 -krummacher-strasse
URL:https://abfallkalender.enni.de/abholtermine/adolf-krummacher-strasse
DTSTART;VALUE=DATE:20260724
LOCATION:Adolf-Krummacher-Straße
BEGIN:VALARM
ACTION:DISPLAY
DESCRIPTION:Morgen: Abholung Restabfall
TRIGGER:-PT7H
END:VALARM
END:VEVENT
BEGIN:VEVENT
UID:a30d565576cf255eef031cfe47d633d4
DTSTAMP:20260420T100015Z
SUMMARY:Abholung Restabfall
DESCRIPTION:Alle Abholtermine auf abfallkalender.enni.de/abholtermine/adolf
 -krummacher-strasse
URL:https://abfallkalender.enni.de/abholtermine/adolf-krummacher-strasse
DTSTART;VALUE=DATE:20260807
LOCATION:Adolf-Krummacher-Straße
BEGIN:VALARM
ACTION:DISPLAY
DESCRIPTION:Morgen: Abholung Restabfall
TRIGGER:-PT7H
END:VALARM
END:VEVENT
BEGIN:VEVENT
UID:40139bb67ff2c906cf17670b554519ca
DTSTAMP:20260420T100015Z
SUMMARY:Abholung Restabfall
DESCRIPTION:Alle Abholtermine auf abfallkalender.enni.de/abholtermine/adolf
 -krummacher-strasse
URL:https://abfallkalender.enni.de/abholtermine/adolf-krummacher-strasse
DTSTART;VALUE=DATE:20260821
LOCATION:Adolf-Krummacher-Straße
BEGIN:VALARM
ACTION:DISPLAY
DESCRIPTION:Morgen: Abholung Restabfall
TRIGGER:-PT7H
END:VALARM
END:VEVENT
BEGIN:VEVENT
UID:21990092b68280abe4b40c555d54e81a
DTSTAMP:20260420T100015Z
SUMMARY:Abholung Restabfall
DESCRIPTION:Alle Abholtermine auf abfallkalender.enni.de/abholtermine/adolf
 -krummacher-strasse
URL:https://abfallkalender.enni.de/abholtermine/adolf-krummacher-strasse
DTSTART;VALUE=DATE:20260904
LOCATION:Adolf-Krummacher-Straße
BEGIN:VALARM
ACTION:DISPLAY
DESCRIPTION:Morgen: Abholung Restabfall
TRIGGER:-PT7H
END:VALARM
END:VEVENT
BEGIN:VEVENT
UID:5835a6f2d2ac386dd2c03173e4707cdf
DTSTAMP:20260420T100015Z
SUMMARY:Abholung Restabfall
DESCRIPTION:Alle Abholtermine auf abfallkalender.enni.de/abholtermine/adolf
 -krummacher-strasse
URL:https://abfallkalender.enni.de/abholtermine/adolf-krummacher-strasse
DTSTART;VALUE=DATE:20260918
LOCATION:Adolf-Krummacher-Straße
BEGIN:VALARM
ACTION:DISPLAY
DESCRIPTION:Morgen: Abholung Restabfall
TRIGGER:-PT7H
END:VALARM
END:VEVENT
BEGIN:VEVENT
UID:604b645b065b285b7b8f88ae4d10025e
DTSTAMP:20260420T100015Z
SUMMARY:Abholung Restabfall
DESCRIPTION:Alle Abholtermine auf abfallkalender.enni.de/abholtermine/adolf
 -krummacher-strasse
URL:https://abfallkalender.enni.de/abholtermine/adolf-krummacher-strasse
DTSTART;VALUE=DATE:20261002
LOCATION:Adolf-Krummacher-Straße
BEGIN:VALARM
ACTION:DISPLAY
DESCRIPTION:Morgen: Abholung Restabfall
TRIGGER:-PT7H
END:VALARM
END:VEVENT
BEGIN:VEVENT
UID:be6503769aa45c05d5d918fd70a08a5f
DTSTAMP:20260420T100015Z
SUMMARY:Abholung Restabfall
DESCRIPTION:Alle Abholtermine auf abfallkalender.enni.de/abholtermine/adolf
 -krummacher-strasse
URL:https://abfallkalender.enni.de/abholtermine/adolf-krummacher-strasse
DTSTART;VALUE=DATE:20261016
LOCATION:Adolf-Krummacher-Straße
BEGIN:VALARM
ACTION:DISPLAY
DESCRIPTION:Morgen: Abholung Restabfall
TRIGGER:-PT7H
END:VALARM
END:VEVENT
BEGIN:VEVENT
UID:c32dffd59fde1b97c260e6b993549f44
DTSTAMP:20260420T100015Z
SUMMARY:Abholung Restabfall
DESCRIPTION:Alle Abholtermine auf abfallkalender.enni.de/abholtermine/adolf
 -krummacher-strasse
URL:https://abfallkalender.enni.de/abholtermine/adolf-krummacher-strasse
DTSTART;VALUE=DATE:20261030
LOCATION:Adolf-Krummacher-Straße
BEGIN:VALARM
ACTION:DISPLAY
DESCRIPTION:Morgen: Abholung Restabfall
TRIGGER:-PT7H
END:VALARM
END:VEVENT
BEGIN:VEVENT
UID:ae49bde5ec444763a3be15c05973419f
DTSTAMP:20260420T100015Z
SUMMARY:Abholung Restabfall
DESCRIPTION:Alle Abholtermine auf abfallkalender.enni.de/abholtermine/adolf
 -krummacher-strasse
URL:https://abfallkalender.enni.de/abholtermine/adolf-krummacher-strasse
DTSTART;VALUE=DATE:20261113
LOCATION:Adolf-Krummacher-Straße
BEGIN:VALARM
ACTION:DISPLAY
DESCRIPTION:Morgen: Abholung Restabfall
TRIGGER:-PT7H
END:VALARM
END:VEVENT
BEGIN:VEVENT
UID:6a8b1ce2f9461478f44ee68dea68193f
DTSTAMP:20260420T100015Z
SUMMARY:Abholung Restabfall
DESCRIPTION:Alle Abholtermine auf abfallkalender.enni.de/abholtermine/adolf
 -krummacher-strasse
URL:https://abfallkalender.enni.de/abholtermine/adolf-krummacher-strasse
DTSTART;VALUE=DATE:20261127
LOCATION:Adolf-Krummacher-Straße
BEGIN:VALARM
ACTION:DISPLAY
DESCRIPTION:Morgen: Abholung Restabfall
TRIGGER:-PT7H
END:VALARM
END:VEVENT
BEGIN:VEVENT
UID:4d60da5d1d51d051bc38fad2fe923a8a
DTSTAMP:20260420T100015Z
SUMMARY:Abholung Restabfall
DESCRIPTION:Alle Abholtermine auf abfallkalender.enni.de/abholtermine/adolf
 -krummacher-strasse
URL:https://abfallkalender.enni.de/abholtermine/adolf-krummacher-strasse
DTSTART;VALUE=DATE:20261211
LOCATION:Adolf-Krummacher-Straße
BEGIN:VALARM
ACTION:DISPLAY
DESCRIPTION:Morgen: Abholung Restabfall
TRIGGER:-PT7H
END:VALARM
END:VEVENT
BEGIN:VEVENT
UID:e3ddff3de15748e8ba93a719222dcc62
DTSTAMP:20260420T100015Z
SUMMARY:Abholung Restabfall
DESCRIPTION:Alle Abholtermine auf abfallkalender.enni.de/abholtermine/adolf
 -krummacher-strasse
URL:https://abfallkalender.enni.de/abholtermine/adolf-krummacher-strasse
DTSTART;VALUE=DATE:20261224
LOCATION:Adolf-Krummacher-Straße
BEGIN:VALARM
ACTION:DISPLAY
DESCRIPTION:Morgen: Abholung Restabfall
TRIGGER:-PT7H
END:VALARM
END:VEVENT
BEGIN:VEVENT
UID:b522ab5a62c4cffa7b07efad26758302
DTSTAMP:20260420T100015Z
SUMMARY:Abholung Papier
DESCRIPTION:Alle Abholtermine auf abfallkalender.enni.de/abholtermine/adolf
 -krummacher-strasse
URL:https://abfallkalender.enni.de/abholtermine/adolf-krummacher-strasse
DTSTART;VALUE=DATE:20260421
LOCATION:Adolf-Krummacher-Straße
BEGIN:VALARM
ACTION:DISPLAY
DESCRIPTION:Morgen: Abholung Papier
TRIGGER:-PT7H
END:VALARM
END:VEVENT
BEGIN:VEVENT
UID:506c0ebe3d0a50aec9d562e930e54dc0
DTSTAMP:20260420T100015Z
SUMMARY:Abholung Papier
DESCRIPTION:Alle Abholtermine auf abfallkalender.enni.de/abholtermine/adolf
 -krummacher-strasse
URL:https://abfallkalender.enni.de/abholtermine/adolf-krummacher-strasse
DTSTART;VALUE=DATE:20260519
LOCATION:Adolf-Krummacher-Straße
BEGIN:VALARM
ACTION:DISPLAY
DESCRIPTION:Morgen: Abholung Papier
TRIGGER:-PT7H
END:VALARM
END:VEVENT
BEGIN:VEVENT
UID:2c16fc9edf4d7a436492bce90e3be965
DTSTAMP:20260420T100015Z
SUMMARY:Abholung Papier
DESCRIPTION:Alle Abholtermine auf abfallkalender.enni.de/abholtermine/adolf
 -krummacher-strasse
URL:https://abfallkalender.enni.de/abholtermine/adolf-krummacher-strasse
DTSTART;VALUE=DATE:20260616
LOCATION:Adolf-Krummacher-Straße
BEGIN:VALARM
ACTION:DISPLAY
DESCRIPTION:Morgen: Abholung Papier
TRIGGER:-PT7H
END:VALARM
END:VEVENT
BEGIN:VEVENT
UID:2f6504cbbe9b52c15521965416a66ff8
DTSTAMP:20260420T100015Z
SUMMARY:Abholung Papier
DESCRIPTION:Alle Abholtermine auf abfallkalender.enni.de/abholtermine/adolf
 -krummacher-strasse
URL:https://abfallkalender.enni.de/abholtermine/adolf-krummacher-strasse
DTSTART;VALUE=DATE:20260714
LOCATION:Adolf-Krummacher-Straße
BEGIN:VALARM
ACTION:DISPLAY
DESCRIPTION:Morgen: Abholung Papier
TRIGGER:-PT7H
END:VALARM
END:VEVENT
BEGIN:VEVENT
UID:c82920ecccd551c7d83e0b791559b0a2
DTSTAMP:20260420T100015Z
SUMMARY:Abholung Papier
DESCRIPTION:Alle Abholtermine auf abfallkalender.enni.de/abholtermine/adolf
 -krummacher-strasse
URL:https://abfallkalender.enni.de/abholtermine/adolf-krummacher-strasse
DTSTART;VALUE=DATE:20260811
LOCATION:Adolf-Krummacher-Straße
BEGIN:VALARM
ACTION:DISPLAY
DESCRIPTION:Morgen: Abholung Papier
TRIGGER:-PT7H
END:VALARM
END:VEVENT
BEGIN:VEVENT
UID:4c780c5a1b1ef249e9b261909eb6ebad
DTSTAMP:20260420T100015Z
SUMMARY:Abholung Papier
DESCRIPTION:Alle Abholtermine auf abfallkalender.enni.de/abholtermine/adolf
 -krummacher-strasse
URL:https://abfallkalender.enni.de/abholtermine/adolf-krummacher-strasse
DTSTART;VALUE=DATE:20260908
LOCATION:Adolf-Krummacher-Straße
BEGIN:VALARM
ACTION:DISPLAY
DESCRIPTION:Morgen: Abholung Papier
TRIGGER:-PT7H
END:VALARM
END:VEVENT
BEGIN:VEVENT
UID:13dc4658f4e0e95392117167325b13bd
DTSTAMP:20260420T100015Z
SUMMARY:Abholung Papier
DESCRIPTION:Alle Abholtermine auf abfallkalender.enni.de/abholtermine/adolf
 -krummacher-strasse
URL:https://abfallkalender.enni.de/abholtermine/adolf-krummacher-strasse
DTSTART;VALUE=DATE:20261006
LOCATION:Adolf-Krummacher-Straße
BEGIN:VALARM
ACTION:DISPLAY
DESCRIPTION:Morgen: Abholung Papier
TRIGGER:-PT7H
END:VALARM
END:VEVENT
BEGIN:VEVENT
UID:732140b0e10eb860bed328f538c48404
DTSTAMP:20260420T100015Z
SUMMARY:Abholung Papier
DESCRIPTION:Alle Abholtermine auf abfallkalender.enni.de/abholtermine/adolf
 -krummacher-strasse
URL:https://abfallkalender.enni.de/abholtermine/adolf-krummacher-strasse
DTSTART;VALUE=DATE:20261103
LOCATION:Adolf-Krummacher-Straße
BEGIN:VALARM
ACTION:DISPLAY
DESCRIPTION:Morgen: Abholung Papier
TRIGGER:-PT7H
END:VALARM
END:VEVENT
BEGIN:VEVENT
UID:1649bbadcfddecd9076d851cd5e098cc
DTSTAMP:20260420T100015Z
SUMMARY:Abholung Papier
DESCRIPTION:Alle Abholtermine auf abfallkalender.enni.de/abholtermine/adolf
 -krummacher-strasse
URL:https://abfallkalender.enni.de/abholtermine/adolf-krummacher-strasse
DTSTART;VALUE=DATE:20261201
LOCATION:Adolf-Krummacher-Straße
BEGIN:VALARM
ACTION:DISPLAY
DESCRIPTION:Morgen: Abholung Papier
TRIGGER:-PT7H
END:VALARM
END:VEVENT
BEGIN:VEVENT
UID:be0ac5b13c52d525e025287b881e6815
DTSTAMP:20260420T100015Z
SUMMARY:Abholung Papier
DESCRIPTION:Alle Abholtermine auf abfallkalender.enni.de/abholtermine/adolf
 -krummacher-strasse
URL:https://abfallkalender.enni.de/abholtermine/adolf-krummacher-strasse
DTSTART;VALUE=DATE:20261229
LOCATION:Adolf-Krummacher-Straße
BEGIN:VALARM
ACTION:DISPLAY
DESCRIPTION:Morgen: Abholung Papier
TRIGGER:-PT7H
END:VALARM
END:VEVENT
BEGIN:VEVENT
UID:192a3dbc6765331df13a979025f0c364
DTSTAMP:20260420T100015Z
SUMMARY:Abholung Gelber Sack
DESCRIPTION:Alle Abholtermine auf abfallkalender.enni.de/abholtermine/adolf
 -krummacher-strasse
URL:https://abfallkalender.enni.de/abholtermine/adolf-krummacher-strasse
DTSTART;VALUE=DATE:20260424
LOCATION:Adolf-Krummacher-Straße
BEGIN:VALARM
ACTION:DISPLAY
DESCRIPTION:Morgen: Abholung Gelber Sack
TRIGGER:-PT7H
END:VALARM
END:VEVENT
BEGIN:VEVENT
UID:ed4c021dabc9dc78027cfdc055882362
DTSTAMP:20260420T100015Z
SUMMARY:Abholung Gelber Sack
DESCRIPTION:Alle Abholtermine auf abfallkalender.enni.de/abholtermine/adolf
 -krummacher-strasse
URL:https://abfallkalender.enni.de/abholtermine/adolf-krummacher-strasse
DTSTART;VALUE=DATE:20260508
LOCATION:Adolf-Krummacher-Straße
BEGIN:VALARM
ACTION:DISPLAY
DESCRIPTION:Morgen: Abholung Gelber Sack
TRIGGER:-PT7H
END:VALARM
END:VEVENT
BEGIN:VEVENT
UID:a8d81021eee5b389c6b0d8a7840ac08a
DTSTAMP:20260420T100015Z
SUMMARY:Abholung Gelber Sack
DESCRIPTION:Alle Abholtermine auf abfallkalender.enni.de/abholtermine/adolf
 -krummacher-strasse
URL:https://abfallkalender.enni.de/abholtermine/adolf-krummacher-strasse
DTSTART;VALUE=DATE:20260522
LOCATION:Adolf-Krummacher-Straße
BEGIN:VALARM
ACTION:DISPLAY
DESCRIPTION:Morgen: Abholung Gelber Sack
TRIGGER:-PT7H
END:VALARM
END:VEVENT
BEGIN:VEVENT
UID:fb1324f10162a94c1dcc921f32b6e762
DTSTAMP:20260420T100015Z
SUMMARY:Abholung Gelber Sack
DESCRIPTION:Alle Abholtermine auf abfallkalender.enni.de/abholtermine/adolf
 -krummacher-strasse
URL:https://abfallkalender.enni.de/abholtermine/adolf-krummacher-strasse
DTSTART;VALUE=DATE:20260606
LOCATION:Adolf-Krummacher-Straße
BEGIN:VALARM
ACTION:DISPLAY
DESCRIPTION:Morgen: Abholung Gelber Sack
TRIGGER:-PT7H
END:VALARM
END:VEVENT
BEGIN:VEVENT
UID:11310c2cc1301192426a1615c62ced26
DTSTAMP:20260420T100015Z
SUMMARY:Abholung Gelber Sack
DESCRIPTION:Alle Abholtermine auf abfallkalender.enni.de/abholtermine/adolf
 -krummacher-strasse
URL:https://abfallkalender.enni.de/abholtermine/adolf-krummacher-strasse
DTSTART;VALUE=DATE:20260619
LOCATION:Adolf-Krummacher-Straße
BEGIN:VALARM
ACTION:DISPLAY
DESCRIPTION:Morgen: Abholung Gelber Sack
TRIGGER:-PT7H
END:VALARM
END:VEVENT
BEGIN:VEVENT
UID:26b0c6eb7376e79eeb3181133d8f31ba
DTSTAMP:20260420T100015Z
SUMMARY:Abholung Gelber Sack
DESCRIPTION:Alle Abholtermine auf abfallkalender.enni.de/abholtermine/adolf
 -krummacher-strasse
URL:https://abfallkalender.enni.de/abholtermine/adolf-krummacher-strasse
DTSTART;VALUE=DATE:20260703
LOCATION:Adolf-Krummacher-Straße
BEGIN:VALARM
ACTION:DISPLAY
DESCRIPTION:Morgen: Abholung Gelber Sack
TRIGGER:-PT7H
END:VALARM
END:VEVENT
BEGIN:VEVENT
UID:3700203c9e36e733d69e7811a669694d
DTSTAMP:20260420T100015Z
SUMMARY:Abholung Gelber Sack
DESCRIPTION:Alle Abholtermine auf abfallkalender.enni.de/abholtermine/adolf
 -krummacher-strasse
URL:https://abfallkalender.enni.de/abholtermine/adolf-krummacher-strasse
DTSTART;VALUE=DATE:20260717
LOCATION:Adolf-Krummacher-Straße
BEGIN:VALARM
ACTION:DISPLAY
DESCRIPTION:Morgen: Abholung Gelber Sack
TRIGGER:-PT7H
END:VALARM
END:VEVENT
BEGIN:VEVENT
UID:f4e1df36cfc1fb40d45f77a990dc7fb2
DTSTAMP:20260420T100015Z
SUMMARY:Abholung Gelber Sack
DESCRIPTION:Alle Abholtermine auf abfallkalender.enni.de/abholtermine/adolf
 -krummacher-strasse
URL:https://abfallkalender.enni.de/abholtermine/adolf-krummacher-strasse
DTSTART;VALUE=DATE:20260731
LOCATION:Adolf-Krummacher-Straße
BEGIN:VALARM
ACTION:DISPLAY
DESCRIPTION:Morgen: Abholung Gelber Sack
TRIGGER:-PT7H
END:VALARM
END:VEVENT
BEGIN:VEVENT
UID:c04f1452e8f00d9b5eca87ab755fa339
DTSTAMP:20260420T100015Z
SUMMARY:Abholung Gelber Sack
DESCRIPTION:Alle Abholtermine auf abfallkalender.enni.de/abholtermine/adolf
 -krummacher-strasse
URL:https://abfallkalender.enni.de/abholtermine/adolf-krummacher-strasse
DTSTART;VALUE=DATE:20260814
LOCATION:Adolf-Krummacher-Straße
BEGIN:VALARM
ACTION:DISPLAY
DESCRIPTION:Morgen: Abholung Gelber Sack
TRIGGER:-PT7H
END:VALARM
END:VEVENT
BEGIN:VEVENT
UID:8ee69c1050b7045910b4bbf2b0699674
DTSTAMP:20260420T100015Z
SUMMARY:Abholung Gelber Sack
DESCRIPTION:Alle Abholtermine auf abfallkalender.enni.de/abholtermine/adolf
 -krummacher-strasse
URL:https://abfallkalender.enni.de/abholtermine/adolf-krummacher-strasse
DTSTART;VALUE=DATE:20260828
LOCATION:Adolf-Krummacher-Straße
BEGIN:VALARM
ACTION:DISPLAY
DESCRIPTION:Morgen: Abholung Gelber Sack
TRIGGER:-PT7H
END:VALARM
END:VEVENT
BEGIN:VEVENT
UID:d518f2ca2ce6bae94b42cf2f2ae9cb96
DTSTAMP:20260420T100015Z
SUMMARY:Abholung Gelber Sack
DESCRIPTION:Alle Abholtermine auf abfallkalender.enni.de/abholtermine/adolf
 -krummacher-strasse
URL:https://abfallkalender.enni.de/abholtermine/adolf-krummacher-strasse
DTSTART;VALUE=DATE:20260911
LOCATION:Adolf-Krummacher-Straße
BEGIN:VALARM
ACTION:DISPLAY
DESCRIPTION:Morgen: Abholung Gelber Sack
TRIGGER:-PT7H
END:VALARM
END:VEVENT
BEGIN:VEVENT
UID:6c88a2422182badc95583afc23cda447
DTSTAMP:20260420T100015Z
SUMMARY:Abholung Gelber Sack
DESCRIPTION:Alle Abholtermine auf abfallkalender.enni.de/abholtermine/adolf
 -krummacher-strasse
URL:https://abfallkalender.enni.de/abholtermine/adolf-krummacher-strasse
DTSTART;VALUE=DATE:20260925
LOCATION:Adolf-Krummacher-Straße
BEGIN:VALARM
ACTION:DISPLAY
DESCRIPTION:Morgen: Abholung Gelber Sack
TRIGGER:-PT7H
END:VALARM
END:VEVENT
BEGIN:VEVENT
UID:97e317229db7ba2fc5aaab0713ac3e00
DTSTAMP:20260420T100015Z
SUMMARY:Abholung Gelber Sack
DESCRIPTION:Alle Abholtermine auf abfallkalender.enni.de/abholtermine/adolf
 -krummacher-strasse
URL:https://abfallkalender.enni.de/abholtermine/adolf-krummacher-strasse
DTSTART;VALUE=DATE:20261009
LOCATION:Adolf-Krummacher-Straße
BEGIN:VALARM
ACTION:DISPLAY
DESCRIPTION:Morgen: Abholung Gelber Sack
TRIGGER:-PT7H
END:VALARM
END:VEVENT
BEGIN:VEVENT
UID:0bcb8f701ce38ed2206223649bcedfa7
DTSTAMP:20260420T100015Z
SUMMARY:Abholung Gelber Sack
DESCRIPTION:Alle Abholtermine auf abfallkalender.enni.de/abholtermine/adolf
 -krummacher-strasse
URL:https://abfallkalender.enni.de/abholtermine/adolf-krummacher-strasse
DTSTART;VALUE=DATE:20261023
LOCATION:Adolf-Krummacher-Straße
BEGIN:VALARM
ACTION:DISPLAY
DESCRIPTION:Morgen: Abholung Gelber Sack
TRIGGER:-PT7H
END:VALARM
END:VEVENT
BEGIN:VEVENT
UID:f7b08f271878e5a6d032df2731df5f68
DTSTAMP:20260420T100015Z
SUMMARY:Abholung Gelber Sack
DESCRIPTION:Alle Abholtermine auf abfallkalender.enni.de/abholtermine/adolf
 -krummacher-strasse
URL:https://abfallkalender.enni.de/abholtermine/adolf-krummacher-strasse
DTSTART;VALUE=DATE:20261106
LOCATION:Adolf-Krummacher-Straße
BEGIN:VALARM
ACTION:DISPLAY
DESCRIPTION:Morgen: Abholung Gelber Sack
TRIGGER:-PT7H
END:VALARM
END:VEVENT
BEGIN:VEVENT
UID:fd59643ec469e2db01ad0aeb7aa12034
DTSTAMP:20260420T100015Z
SUMMARY:Abholung Gelber Sack
DESCRIPTION:Alle Abholtermine auf abfallkalender.enni.de/abholtermine/adolf
 -krummacher-strasse
URL:https://abfallkalender.enni.de/abholtermine/adolf-krummacher-strasse
DTSTART;VALUE=DATE:20261120
LOCATION:Adolf-Krummacher-Straße
BEGIN:VALARM
ACTION:DISPLAY
DESCRIPTION:Morgen: Abholung Gelber Sack
TRIGGER:-PT7H
END:VALARM
END:VEVENT
BEGIN:VEVENT
UID:3893a03e07d8c2ab5db0f881284f2833
DTSTAMP:20260420T100015Z
SUMMARY:Abholung Gelber Sack
DESCRIPTION:Alle Abholtermine auf abfallkalender.enni.de/abholtermine/adolf
 -krummacher-strasse
URL:https://abfallkalender.enni.de/abholtermine/adolf-krummacher-strasse
DTSTART;VALUE=DATE:20261204
LOCATION:Adolf-Krummacher-Straße
BEGIN:VALARM
ACTION:DISPLAY
DESCRIPTION:Morgen: Abholung Gelber Sack
TRIGGER:-PT7H
END:VALARM
END:VEVENT
BEGIN:VEVENT
UID:152bf3ae11d7478baeb65b296336471a
DTSTAMP:20260420T100015Z
SUMMARY:Abholung Gelber Sack
DESCRIPTION:Alle Abholtermine auf abfallkalender.enni.de/abholtermine/adolf
 -krummacher-strasse
URL:https://abfallkalender.enni.de/abholtermine/adolf-krummacher-strasse
DTSTART;VALUE=DATE:20261218
LOCATION:Adolf-Krummacher-Straße
BEGIN:VALARM
ACTION:DISPLAY
DESCRIPTION:Morgen: Abholung Gelber Sack
TRIGGER:-PT7H
END:VALARM
END:VEVENT
BEGIN:VEVENT
UID:4a9d0921650dab4bc9cc3c7916201fab
DTSTAMP:20260420T100015Z
SUMMARY:Abholung Biotonne
DESCRIPTION:Alle Abholtermine auf abfallkalender.enni.de/abholtermine/adolf
 -krummacher-strasse
URL:https://abfallkalender.enni.de/abholtermine/adolf-krummacher-strasse
DTSTART;VALUE=DATE:20260420
LOCATION:Adolf-Krummacher-Straße
BEGIN:VALARM
ACTION:DISPLAY
DESCRIPTION:Morgen: Abholung Biotonne
TRIGGER:-PT7H
END:VALARM
END:VEVENT
BEGIN:VEVENT
UID:cbd73245bea3f4ba75944ba40dfb61a5
DTSTAMP:20260420T100015Z
SUMMARY:Abholung Biotonne
DESCRIPTION:Alle Abholtermine auf abfallkalender.enni.de/abholtermine/adolf
 -krummacher-strasse
URL:https://abfallkalender.enni.de/abholtermine/adolf-krummacher-strasse
DTSTART;VALUE=DATE:20260504
LOCATION:Adolf-Krummacher-Straße
BEGIN:VALARM
ACTION:DISPLAY
DESCRIPTION:Morgen: Abholung Biotonne
TRIGGER:-PT7H
END:VALARM
END:VEVENT
BEGIN:VEVENT
UID:fb548896604af171693df25e45bcfec4
DTSTAMP:20260420T100015Z
SUMMARY:Abholung Biotonne
DESCRIPTION:Alle Abholtermine auf abfallkalender.enni.de/abholtermine/adolf
 -krummacher-strasse
URL:https://abfallkalender.enni.de/abholtermine/adolf-krummacher-strasse
DTSTART;VALUE=DATE:20260518
LOCATION:Adolf-Krummacher-Straße
BEGIN:VALARM
ACTION:DISPLAY
DESCRIPTION:Morgen: Abholung Biotonne
TRIGGER:-PT7H
END:VALARM
END:VEVENT
BEGIN:VEVENT
UID:02357c381f139e1f5824511992c4577c
DTSTAMP:20260420T100015Z
SUMMARY:Abholung Biotonne
DESCRIPTION:Alle Abholtermine auf abfallkalender.enni.de/abholtermine/adolf
 -krummacher-strasse
URL:https://abfallkalender.enni.de/abholtermine/adolf-krummacher-strasse
DTSTART;VALUE=DATE:20260601
LOCATION:Adolf-Krummacher-Straße
BEGIN:VALARM
ACTION:DISPLAY
DESCRIPTION:Morgen: Abholung Biotonne
TRIGGER:-PT7H
END:VALARM
END:VEVENT
BEGIN:VEVENT
UID:7dc032e88f20f3241e4aeb657c280f35
DTSTAMP:20260420T100015Z
SUMMARY:Abholung Biotonne
DESCRIPTION:Alle Abholtermine auf abfallkalender.enni.de/abholtermine/adolf
 -krummacher-strasse
URL:https://abfallkalender.enni.de/abholtermine/adolf-krummacher-strasse
DTSTART;VALUE=DATE:20260615
LOCATION:Adolf-Krummacher-Straße
BEGIN:VALARM
ACTION:DISPLAY
DESCRIPTION:Morgen: Abholung Biotonne
TRIGGER:-PT7H
END:VALARM
END:VEVENT
BEGIN:VEVENT
UID:85c3296a210ff9fe177ca9f756b37060
DTSTAMP:20260420T100015Z
SUMMARY:Abholung Biotonne
DESCRIPTION:Alle Abholtermine auf abfallkalender.enni.de/abholtermine/adolf
 -krummacher-strasse
URL:https://abfallkalender.enni.de/abholtermine/adolf-krummacher-strasse
DTSTART;VALUE=DATE:20260629
LOCATION:Adolf-Krummacher-Straße
BEGIN:VALARM
ACTION:DISPLAY
DESCRIPTION:Morgen: Abholung Biotonne
TRIGGER:-PT7H
END:VALARM
END:VEVENT
BEGIN:VEVENT
UID:4388e6c580c9cec73464298c519394b5
DTSTAMP:20260420T100015Z
SUMMARY:Abholung Biotonne
DESCRIPTION:Alle Abholtermine auf abfallkalender.enni.de/abholtermine/adolf
 -krummacher-strasse
URL:https://abfallkalender.enni.de/abholtermine/adolf-krummacher-strasse
DTSTART;VALUE=DATE:20260713
LOCATION:Adolf-Krummacher-Straße
BEGIN:VALARM
ACTION:DISPLAY
DESCRIPTION:Morgen: Abholung Biotonne
TRIGGER:-PT7H
END:VALARM
END:VEVENT
BEGIN:VEVENT
UID:831b9210b6ec348d9dbca1d5e1a6b275
DTSTAMP:20260420T100015Z
SUMMARY:Abholung Biotonne
DESCRIPTION:Alle Abholtermine auf abfallkalender.enni.de/abholtermine/adolf
 -krummacher-strasse
URL:https://abfallkalender.enni.de/abholtermine/adolf-krummacher-strasse
DTSTART;VALUE=DATE:20260727
LOCATION:Adolf-Krummacher-Straße
BEGIN:VALARM
ACTION:DISPLAY
DESCRIPTION:Morgen: Abholung Biotonne
TRIGGER:-PT7H
END:VALARM
END:VEVENT
BEGIN:VEVENT
UID:3307b61f8f7a7fe734cdd080c551a370
DTSTAMP:20260420T100015Z
SUMMARY:Abholung Biotonne
DESCRIPTION:Alle Abholtermine auf abfallkalender.enni.de/abholtermine/adolf
 -krummacher-strasse
URL:https://abfallkalender.enni.de/abholtermine/adolf-krummacher-strasse
DTSTART;VALUE=DATE:20260810
LOCATION:Adolf-Krummacher-Straße
BEGIN:VALARM
ACTION:DISPLAY
DESCRIPTION:Morgen: Abholung Biotonne
TRIGGER:-PT7H
END:VALARM
END:VEVENT
BEGIN:VEVENT
UID:ddcf7364f9266397e953be6e1da39545
DTSTAMP:20260420T100015Z
SUMMARY:Abholung Biotonne
DESCRIPTION:Alle Abholtermine auf abfallkalender.enni.de/abholtermine/adolf
 -krummacher-strasse
URL:https://abfallkalender.enni.de/abholtermine/adolf-krummacher-strasse
DTSTART;VALUE=DATE:20260824
LOCATION:Adolf-Krummacher-Straße
BEGIN:VALARM
ACTION:DISPLAY
DESCRIPTION:Morgen: Abholung Biotonne
TRIGGER:-PT7H
END:VALARM
END:VEVENT
BEGIN:VEVENT
UID:a53caddb2c080d585a787d9f16765ad1
DTSTAMP:20260420T100015Z
SUMMARY:Abholung Biotonne
DESCRIPTION:Alle Abholtermine auf abfallkalender.enni.de/abholtermine/adolf
 -krummacher-strasse
URL:https://abfallkalender.enni.de/abholtermine/adolf-krummacher-strasse
DTSTART;VALUE=DATE:20260907
LOCATION:Adolf-Krummacher-Straße
BEGIN:VALARM
ACTION:DISPLAY
DESCRIPTION:Morgen: Abholung Biotonne
TRIGGER:-PT7H
END:VALARM
END:VEVENT
BEGIN:VEVENT
UID:49284b709bb3ab9ba6eee8c88bd0da2f
DTSTAMP:20260420T100015Z
SUMMARY:Abholung Biotonne
DESCRIPTION:Alle Abholtermine auf abfallkalender.enni.de/abholtermine/adolf
 -krummacher-strasse
URL:https://abfallkalender.enni.de/abholtermine/adolf-krummacher-strasse
DTSTART;VALUE=DATE:20260921
LOCATION:Adolf-Krummacher-Straße
BEGIN:VALARM
ACTION:DISPLAY
DESCRIPTION:Morgen: Abholung Biotonne
TRIGGER:-PT7H
END:VALARM
END:VEVENT
BEGIN:VEVENT
UID:682409ffc81bf618b41621d70d65f451
DTSTAMP:20260420T100015Z
SUMMARY:Abholung Biotonne
DESCRIPTION:Alle Abholtermine auf abfallkalender.enni.de/abholtermine/adolf
 -krummacher-strasse
URL:https://abfallkalender.enni.de/abholtermine/adolf-krummacher-strasse
DTSTART;VALUE=DATE:20261005
LOCATION:Adolf-Krummacher-Straße
BEGIN:VALARM
ACTION:DISPLAY
DESCRIPTION:Morgen: Abholung Biotonne
TRIGGER:-PT7H
END:VALARM
END:VEVENT
BEGIN:VEVENT
UID:b4b09bc8a2b38ed03b688c124eaf5145
DTSTAMP:20260420T100015Z
SUMMARY:Abholung Biotonne
DESCRIPTION:Alle Abholtermine auf abfallkalender.enni.de/abholtermine/adolf
 -krummacher-strasse
URL:https://abfallkalender.enni.de/abholtermine/adolf-krummacher-strasse
DTSTART;VALUE=DATE:20261019
LOCATION:Adolf-Krummacher-Straße
BEGIN:VALARM
ACTION:DISPLAY
DESCRIPTION:Morgen: Abholung Biotonne
TRIGGER:-PT7H
END:VALARM
END:VEVENT
BEGIN:VEVENT
UID:2cd398c224bed54c46a1303564497c0b
DTSTAMP:20260420T100015Z
SUMMARY:Abholung Biotonne
DESCRIPTION:Alle Abholtermine auf abfallkalender.enni.de/abholtermine/adolf
 -krummacher-strasse
URL:https://abfallkalender.enni.de/abholtermine/adolf-krummacher-strasse
DTSTART;VALUE=DATE:20261102
LOCATION:Adolf-Krummacher-Straße
BEGIN:VALARM
ACTION:DISPLAY
DESCRIPTION:Morgen: Abholung Biotonne
TRIGGER:-PT7H
END:VALARM
END:VEVENT
BEGIN:VEVENT
UID:515643a7258f685ccc6c6019d94665b1
DTSTAMP:20260420T100015Z
SUMMARY:Abholung Biotonne
DESCRIPTION:Alle Abholtermine auf abfallkalender.enni.de/abholtermine/adolf
 -krummacher-strasse
URL:https://abfallkalender.enni.de/abholtermine/adolf-krummacher-strasse
DTSTART;VALUE=DATE:20261116
LOCATION:Adolf-Krummacher-Straße
BEGIN:VALARM
ACTION:DISPLAY
DESCRIPTION:Morgen: Abholung Biotonne
TRIGGER:-PT7H
END:VALARM
END:VEVENT
BEGIN:VEVENT
UID:5566bb5be870e09bec2db957a7095dcd
DTSTAMP:20260420T100015Z
SUMMARY:Abholung Biotonne
DESCRIPTION:Alle Abholtermine auf abfallkalender.enni.de/abholtermine/adolf
 -krummacher-strasse
URL:https://abfallkalender.enni.de/abholtermine/adolf-krummacher-strasse
DTSTART;VALUE=DATE:20261130
LOCATION:Adolf-Krummacher-Straße
BEGIN:VALARM
ACTION:DISPLAY
DESCRIPTION:Morgen: Abholung Biotonne
TRIGGER:-PT7H
END:VALARM
END:VEVENT
BEGIN:VEVENT
UID:18b57a6f54186cc5cc97d9fafa0572f9
DTSTAMP:20260420T100015Z
SUMMARY:Abholung Biotonne
DESCRIPTION:Alle Abholtermine auf abfallkalender.enni.de/abholtermine/adolf
 -krummacher-strasse
URL:https://abfallkalender.enni.de/abholtermine/adolf-krummacher-strasse
DTSTART;VALUE=DATE:20261214
LOCATION:Adolf-Krummacher-Straße
BEGIN:VALARM
ACTION:DISPLAY
DESCRIPTION:Morgen: Abholung Biotonne
TRIGGER:-PT7H
END:VALARM
END:VEVENT
BEGIN:VEVENT
UID:3d9ee28f1bbbd804df034674024b9e08
DTSTAMP:20260420T100015Z
SUMMARY:Abholung Biotonne
DESCRIPTION:Alle Abholtermine auf abfallkalender.enni.de/abholtermine/adolf
 -krummacher-strasse
URL:https://abfallkalender.enni.de/abholtermine/adolf-krummacher-strasse
DTSTART;VALUE=DATE:20261228
LOCATION:Adolf-Krummacher-Straße
BEGIN:VALARM
ACTION:DISPLAY
DESCRIPTION:Morgen: Abholung Biotonne
TRIGGER:-PT7H
END:VALARM
END:VEVENT
BEGIN:VEVENT
UID:f7d84949cbfbfc946e746269a3543078
DTSTAMP:20260420T100015Z
SUMMARY:Abholung Grünschnitt
DESCRIPTION:Alle Abholtermine auf abfallkalender.enni.de/abholtermine/adolf
 -krummacher-strasse
URL:https://abfallkalender.enni.de/abholtermine/adolf-krummacher-strasse
DTSTART;VALUE=DATE:20261116
LOCATION:Adolf-Krummacher-Straße
BEGIN:VALARM
ACTION:DISPLAY
DESCRIPTION:Morgen: Abholung Grünschnitt
TRIGGER:-PT7H
END:VALARM
END:VEVENT
END:VCALENDAR
